{"text_format":"2","workbook":"xlsx","n_sheets":3,"sheets":["UEM","UBF","CPU"],"not_rendered":{"charts":0,"images":1,"macros":0,"external_links":2,"defined_names":6,"comments":0,"pivot_tables":0},"unopened":[],"bounds":{"document_bytes":16777216,"sheet_cells":100000,"run_cost":"one","rows_first":2000,"rows_last":500,"rows_between":2000,"halvings":0,"cell_chars":16384,"cell_head_chars":4096},"cells_cut":0,"cells_raw":0,"read":"whole","date_system":"1900"}

{"sheet":"UEM","index":0,"n_rows":115,"n_cols":15,"rows_kept":115,"cut":false,"hidden":false,"merged":[[115,0,115,8],[32,3,32,7],[34,3,34,7],[38,3,38,7],[41,3,41,7],[46,3,46,7],[52,3,52,7],[26,3,26,7],[5,0,5,8],[6,0,7,0],[6,1,7,1],[6,2,7,2],[6,3,7,3],[6,4,7,4],[6,5,7,5],[6,6,6,8],[9,3,9,7],[10,3,10,7],[13,3,13,7],[19,3,19,7],[24,3,24,7],[0,0,0,8],[1,0,1,8],[2,0,2,8],[3,0,4,6],[3,7,3,8],[4,7,4,8]]}
["MINISTÉRIO DA INTEGRAÇÃO E DO DESENVOLVIMENTO REGIONAL",{"$nulls":8},"BDI serviç",1.2591000000000001]
["COMPANHIA DE DESENVOLVIMENTO DOS VALES DO SÃO FRANCISCO E DO PARNAÍBA",{"$nulls":8},"BDI fornec.",1.1359999999999999]
["SEDE"]
["PLANILHA ORÇAMENTÁRIA DE ESTIMATIVA GERAL PARA O ESTADO DE MINAS GERAIS (16ª SR)",{"$nulls":6},"Base SINAPI-MG 03-2025     ORSE 02-2025                        "]
[{"$nulls":7},"Data: Maio - 2025"]
[]
["Item","Base        ","Código        ","Descrição","Unid.","Quant.","Valor (R$)"]
[{"$nulls":6},"Unit. (sem BDI)","Unit. (com BDI)","Total"]
[]
[13,null,null,"UNIDADE DE EXTRAÇÃO DE MEL",{"$nulls":4},{"$f":"SUM(I11,I14,I20,I27,I33,I35,I39,I42,I47,I53)","v":254688.8}]
["13.1",null,null,"SERVIÇOS PRELIMINARES",{"$nulls":4},{"$f":"SUM(I12:I13)","v":4032.66}]
["13.2","Sinapi",105009,{"$f":"[1]CPU!$A$91","v":"LOCAÇÃO DE OBRAS"},"m",{"$f":"(7.89*2+9.6*2)","v":34.979999999999997},{"$f":"J12","v":90.03},{"$f":"G12*K$1","v":113.35677300000002},{"$f":"ROUND(F12*H12,2)","v":3965.22},90.03]
["13.3","Sinapi",98525,"LIMPEZA MECANIZADA DE CAMADA VEGETAL, VEGETAÇÃO E PEQUENAS ÁRVORES (DIÂMETRO DE TRONCO MENOR QUE 0,20 M), COM TRATOR DE ESTEIRAS.","m²",{"$f":"9.56*7.891","v":75.437960000000004},{"$f":"J13","v":0.71},{"$f":"G13*K$1","v":0.89396100000000001},{"$f":"ROUND(F13*H13,2)","v":67.44},0.71]
["13.4",null,null,"MOVIMENTO DE TERRA",{"$nulls":4},{"$f":"SUM(I15:I19)","v":2102.94}]
["13.5","Sinapi",101230,"ESCAVAÇÃO VERTICAL A CÉU ABERTO, EM OBRAS DE INFRAESTRUTURA, INCLUINDO CARGA, DESCARGA E TRANSPORTE, EM SOLO DE 1ª CATEGORIA COM ESCAVADEIRA HIDRÁULICA (CAÇAMBA: 0,8 M³ / 111 HP)","m³",{"$f":"45.5+1.92+4.32+3","v":54.74},{"$f":"J15","v":11.62},{"$f":"G15*K$1","v":14.630742},{"$f":"ROUND(F15*H15,2)","v":800.89},11.62]
["13.6","Sinapi",100577,"REGULARIZAÇÃO E COMPACTAÇÃO DE SUBLEITO DE SOLO PREDOMINANTEMENTE ARENOSO.","m²",{"$f":"9.6*7.9*0.6","v":45.503999999999998},0.5,{"$f":"G16*K$1","v":0.62955000000000005},{"$f":"ROUND(F16*H16,2)","v":28.65},0.5]
["13.7","Sinapi",96385,"EXECUÇÃO E COMPACTAÇÃO DE ATERRO COM SOLO PREDOMINANTEMENTE ARGILOSO - EXCLUSIVE SOLO, ESCAVAÇÃO, CARGA E TRANSPORTE","m³",64.400000000000006,12.48,15.713568000000002,{"$f":"ROUND(F17*H17,2)","v":1011.95},12.48]
["13.8","Sinapi",100574,"ESPALHAMENTO DE MATERIAL COM TRATOR DE ESTEIRAS.","m³",19.05,1.48,1.8634680000000001,{"$f":"ROUND(F18*H18,2)","v":35.5},1.48]
["13.9","Sinapi",100973,"CARGA, MANOBRA E DESCARGA DE SOLOS E MATERIAIS GRANULARES EM CAMINHÃO BASCULANTE 6 M³ - CARGA COM PÁ CARREGADEIRA (CAÇAMBA DE 1,7 A 2,8 M³ /128 HP) E DESCARGA LIVRE ","m³",19.05,9.42,11.860722000000001,{"$f":"ROUND(F19*H19,2)","v":225.95},9.42]
["13.10",null,null,"FUNDAÇÕES/ ESTRUTURAS DE CONCRETO ARMADO",{"$nulls":4},{"$f":"SUM(I21:I24)","v":5613.74}]
["13.11","Sinapi",92802,"CORTE E DOBRA DE AÇO CA-50, DIÂMETRO DE 8,0 MM","kg",101.6,{"$f":"J21","v":9.6},12.08736,{"$f":"ROUND(F21*H21,2)","v":1228.08},9.6]
["13.12","Sinapi",94965,"CONCRETO FCK = 25MPA, TRAÇO 1:2,3:2,7 (CIMENTO/ AREIA MÉDIA/ BRITA 1) - PREPARO MECÂNICO COM BETONEIRA 400 L. ","m³",{"$f":"2.16+1.8","v":3.96},540.54,680.59391400000004,{"$f":"ROUND(F22*H22,2)","v":2695.15},540.54]
["13.13","Sinapi",103673,"LANÇAMENTO COM USO DE BOMBA, ADENSAMENTO E ACABAMENTO DE CONCRETO EM ESTRUTURAS. AF_02/2022","m³",3.96,44.5,56.029950000000007,{"$f":"ROUND(F23*H23,2)","v":221.88},44.5]
["13.14","Sinapi",97086,"FABRICAÇÃO, MONTAGEM E DESMONTAGEM DE FORMA PARA RADIER, EM MADEIRA SERRADA, 4 UTILIZAÇÕES.","m²",7.8,149.54,188.28581400000002,{"$f":"ROUND(F24*H24,2)","v":1468.63},149.54]
["13.15",null,null,"REVESTIMENTOS",{"$nulls":4},{"$f":"SUM(I26:I26)","v":0}]
["13.16","Sinapi",98555,"IMPERMEABILIZAÇÃO DE SUPERFÍCIE COM ARGAMASSA POLIMÉRICA / MEMBRANA ACRÍLICA, 3 DEMÃOS.","m²",0,{"$f":"(J26)","v":0},{"$f":"(J26*K$1)","v":0},{"$f":"ROUND(F26*H26,2)","v":0}]
["13.17",null,null,"ALVENARIAS, DIVISÓRIAS E FECHAMENTOS",{"$nulls":4},{"$f":"SUM(I28:I32)","v":27778.149999999998}]
["13.18","CPU","CPU010","REVESTIMENTO DE PAREDES EM CHAPAS DE AÇO INOXIDÁVEL AISI 304  - APENAS INSTALAÇÃO","M²",70.540000000000006,{"$f":"J28","v":46.864000000000004},{"$f":"G28*K$1","v":59.006462400000011},{"$f":"ROUND(F28*H28,2)","v":4162.32},{"$f":"CPU!I206","v":46.864000000000004}]
["13.19","ORSE","10280/ORSE","MANTA EM LÃ DE VIDRO","M²",66.278000000000006,15.05,18.949455000000004,{"$f":"ROUND(F29*H29,2)","v":1255.93},15.05]
["13.20","CPU","CPU009","CHAPA XADREZ EM ALUMINIO PARA PISO e:3mm, INCLUSO REBITE PARA FIXAÇÃO - APENAS MÃO DE OBRA","M²",29.9,423.76909999999998,533.56767380999997,{"$f":"ROUND(F30*H30,2)","v":15953.67},{"$f":"CPU!I193","v":423.76909999999998}]
["13.21","Sinapi",96486,"FORRO EM RÉGUAS DE PVC, LISO, PARA AMBIENTES COMERCIAIS, INCLUSIVE ESTRUTURA BIDIRECIONAL DE FIXAÇÃO","m²",29.93,72.75,91.599525000000014,{"$f":"ROUND(F31*H31,2)","v":2741.57},72.75]
["13.22","Sinapi",104723,"PAREDE COM SISTEMA EM CHAPAS DE GESSO PARA DRYWALL, USO INTERNO, COM DUAS FACES DUPLAS E ESTRUTURA METÁLICA COM GUIAS DUPLAS PARA PAREDES COM ÁREA LÍQUIDA MENOR QUE 6 M2, COM VÃOS.","m²",12.096,240.62,302.96464200000003,{"$f":"ROUND(F32*H32,2)","v":3664.66},240.62]
["13.23",null,null,"PINTURAS",{"$nulls":4},{"$f":"SUM(I34:I34)","v":10952.82}]
["13.24","Sinapi",100751,"PINTURA COM TINTA EPOXÍDICA DE ACABAMENTO PULVERIZADA SOBRE PERFIL METÁLICO EXECUTADO EM FÁBRICA (02 DEMÃOS).","m²",170.3,{"$f":"J34","v":51.08},64.314828000000006,{"$f":"ROUND(F34*H34,2)","v":10952.82},51.08]
["13.25",null,null,"COBERTURAS",{"$nulls":4},{"$f":"SUM(I36:I38)","v":34488.86}]
["13.26","ORSE","13874/ORSE","ESTRUTURA METALICA P/ COBERTURA DE CRECHE PADRÃO 1 DO PADRÃO FNDE, EM LIGTH STEEL FRAME, COM PERFIS UE70 MONTANTES DE TUBO UE70, INCLUSIVE FORNECIMENTO E MONTAGEM. EXCLUSIVE TELHAS","m²",96,{"$f":"J36","v":113.51},{"$f":"(G36*K$1)","v":142.92044100000001},{"$f":"ROUND(F36*H36,2)","v":13720.36},113.51]
["13.27","Sinapi",94216,"TELHAMENTO COM TELHA METÁLICA TERMOACÚSTICA E = 30 MM, COM ATÉ 2 ÁGUAS, INCLUSO IÇAMENTO","M2",96,{"$f":"J37","v":153.34},193.07039400000002,{"$f":"ROUND(F37*H37,2)","v":18534.759999999998},153.34]
["13.28","Sinapi",94228,"CALHA EM CHAPA DE AÇO GALVANIZADO NÚMERO 24, DESENVOLVIMENTO DE 50 CM, INCLUSO TRANSPORTE VERTICAL. AF_07/2019","m",{"$f":"16*1.1","v":17.600000000000001},100.8,126.91728000000001,{"$f":"ROUND(F38*H38,2)","v":2233.7399999999998},100.8]
["13.29",null,null,"CONSTRUÇÃO CIVIL",{"$nulls":4},{"$f":"SUM(I40:I41)","v":7292.5999999999995}]
["13.30","Sinapi",91341,"PORTA EM ALUMÍNIO DE ABRIR TIPO VENEZIANA COM GUARNIÇÃO, FIXAÇÃO COM PARAFUSOS - FORNECIMENTO E INSTALAÇÃO.","m²",5.04,{"$f":"J40","v":661.63},833.05833300000006,{"$f":"ROUND(F40*H40,2)","v":4198.6099999999997},661.63]
["13.31","Sinapi",100674,"JANELA FIXA DE ALUMÍNIO PARA VIDRO, COM VIDRO, BATENTE E FERRAGENS. EXCLUSIVE ACABAMENTO, ALIZAR E CONTRAMARCO. FORNECIMENTO E INSTALAÇÃO. ","m²",3.75,655.28,825.06304799999998,{"$f":"ROUND(F41*H41,2)","v":3093.99},655.28]
["13.32",null,null,"INSTALAÇÕES PREDIAIS",{"$nulls":4},{"$f":"SUM(I43:I46)","v":13941.42}]
["13.33","CPU","CPU001",{"$f":"[1]CPU!$A$65","v":"EXECUÇÃO DE INSTALAÇÕES HIDROSSANITÁRIAS, EXCLUSIVE EQUIPAMENTOS"},{"$f":"[1]CPU!$I$78","v":"cj"},1,{"$f":"J43","v":3059.6000000000004},3852.342360000001,{"$f":"ROUND(F43*H43,2)","v":3852.34},{"$f":"CPU!I43","v":3059.6000000000004}]
["13.34","SINAPI",98052,"TANQUE SÉPTICO CIRCULAR, EM CONCRETO PRÉ-MOLDADO, DIÂMETRO INTERNO = 1,10 M, ALTURA INTERNA = 2,50 M, VOLUME ÚTIL: 2138,2 L (PARA 5 CONTRIBUINTES).","UND",1,1902.01,2394.8207910000001,{"$f":"ROUND(F44*H44,2)","v":2394.8200000000002},1902.01]
["13.35","SINAPI",98062,"SUMIDOURO CIRCULAR, EM CONCRETO PRÉ-MOLDADO, DIÂMETRO INTERNO = 1,88 M, ALTURA INTERNA = 2,00 M, ÁREA DE INFILTRAÇÃO: 13,1 M² (PARA 5 CONTRIBUINTES)","UND",1,2804.12,3530.667492,{"$f":"ROUND(F45*H45,2)","v":3530.67},2804.12]
["13.36","CPU","CPU002",{"$f":"[1]CPU!$A$78","v":"EXECUÇÃO DE INSTALAÇÕES ELÉTRICAS, EXCLUSIVE EQUIPAMENTOS"},{"$f":"[1]CPU!$I$78","v":"cj"},1,3306.8,4163.5918800000009,{"$f":"ROUND(F46*H46,2)","v":4163.59},{"$f":"CPU!I56","v":3306.8}]
["13.37",null,null,"SERVIÇOS DIVERSOS",{"$nulls":4},{"$f":"SUM(I48:I52)","v":30203.05}]
["13.38","CPU","CPU003",{"$f":"[1]CPU!$A$140","v":"CORTE DE CONTAINER PARA ESQUADRIAS"},{"$f":"[1]CPU!$I$140","v":"m²"},16.45,{"$f":"J48","v":183.37},230.88116700000003,{"$f":"ROUND(F48*H48,2)","v":3798},{"$f":"CPU!I74","v":183.37}]
["13.39","CPU","CPU004",{"$f":"[1]CPU!$A$182","v":"MODIFICAÇÕES NO CONTAINER COM CORTE POR ESMERILHADEIRA "},{"$f":"[1]CPU!$I$182","v":"m"},58.26,95.892499999999998,120.73824675,7034.21,{"$f":"CPU!I116","v":95.892499999999998}]
["13.40","CPU","CPU005",{"$f":"[1]CPU!$A$200","v":"MODIFICAÇÕES NO CONTAINER UNIÃO ATRAVÉS DO PROCESSO DE SOLDAGEM, INCLUSO IÇAMENTO DO CONTAINER"},{"$f":"[1]CPU!$I$200","v":"m"},21.9,406.51254800000004,511.83994918680008,11209.29,{"$f":"CPU!I138","v":406.51254800000004}]
["13.41","CPU","CPU011","GUARDA-CORPO DE AÇO CARBONO, MONTANTES TUBULARES DE 1.1/2\" ESPAÇADOS EM 0,75M, ALTURA APROXIMADA DE 0,90M, PREPARADO COM FUNDO E TINTA EPÓXI NA COR AMARELA","m",{"$f":"0.75*2*3*1.1","v":4.95},599.22121333333337,754.47942970800011,3734.67,{"$f":"CPU!I229","v":599.22121333333337}]
["13.42","CPU","CPU013","FORNECIMENTO E INSTALAÇÃO DE SUPORTE PARA CAIXA D'ÁGUA EM METALON","un",1,3515.9079603999999,4426.8797129396398,4426.88,{"$f":"CPU!I283","v":3515.9079603999999}]
["13.43",null,null,"MATERIAIS",{"$nulls":4},{"$f":"SUM(I54:I115)","v":118282.56}]
["13.44","Cotação",null,"CONTAINER DRY BOX 20 PÉS 6,1X2,21X2,6 (COMPXLARGXALTU)","un",2,{"$f":"J54","v":19283},{"$f":"G54*$K$2","v":21905.487999999998},{"$f":"ROUND(F54*H54,2)","v":43810.98},{"$f":"CPU!I246","v":19283}]
["13.45","Sinapi",89356,"TUBO PVC, SOLDAVEL, DN 25 MM, AGUA FRIA (NBR-5648)","m",12,25.16,{"$f":"G55*$K$2","v":28.581759999999999},342.98,25.16]
["13.46","Sinapi",89357,"TUBO PVC, SOLDAVEL, DN 32 MM, AGUA FRIA (NBR-5648)","m",18,33.86,38.464959999999998,692.37,33.86]
["13.47","Sinapi",9835,"TUBO PVC SERIE NORMAL, DN 40 MM, PARA ESGOTO PREDIAL (NBR 5688)","m",3,6.35,7.2135999999999987,21.64,6.35]
["13.48","Sinapi",9838,"TUBO PVC SERIE NORMAL, DN 50 MM, PARA ESGOTO PREDIAL (NBR 5688) ","m",20,10.5,11.927999999999999,238.56,10.5]
["13.49","Sinapi",9836,"TUBO PVC SERIE NORMAL, DN 100 MM, PARA ESGOTO PREDIAL (NBR 5688) ","m",1,14.55,16.5288,16.53,14.55]
["13.50","Sinapi",89362,"JOELHO 90 GRAUS, PVC, SOLDÁVEL, DN 25MM, INSTALADO EM RAMAL OU SUB-RAMAL DE ÁGUA - FORNECIMENTO E INSTALAÇÃO. AF_06/2022","un",12,10.1,11.473599999999999,137.68,10.1]
["13.51","Sinapi",89367,"JOELHO 90 GRAUS, PVC, SOLDÁVEL, DN 32MM, INSTALADO EM RAMAL OU SUB-RAMAL DE ÁGUA - FORNECIMENTO E INSTALAÇÃO. AF_06/2022","un",10,13.63,15.48368,{"$f":"ROUND(F61*H61,2)","v":154.84},13.63]
["13.52","Sinapi",3515,"JOELHO PVC, SOLDAVEL, COM BUCHA DE LATAO, 90 GRAUS, 20 MM X 1/2\", PARA AGUA FRIA","un",2,6.01,6.8273599999999988,{"$f":"ROUND(F62*H62,2)","v":13.65},6.01]
["13.53","Sinapi",7121,"TE PVC, SOLDAVEL, COM BUCHA DE LATAO NA BOLSA CENTRAL, 90 GRAUS, 20 MM X 1/2\", PARA AGUA FRIA PREDIAL","un",2,8.4499999999999993,9.599199999999998,{"$f":"ROUND(F63*H63,2)","v":19.2},8.4499999999999993]
["13.54","Sinapi",798,"BUCHA DE REDUCAO PVC ROSCAVEL 3/4\" X 1/2\"","un",2,1.08,1.22688,{"$f":"ROUND(F64*H64,2)","v":2.4500000000000002},1.08]
["13.55","Sinapi",103957,"BUCHA DE REDUÇÃO, CURTA, PVC, SOLDÁVEL, DN 32 X 25 MM, INSTALADO EM PRUMADA DE ÁGUA - FORNECIMENTO E INSTALAÇÃO. AF_06/2022","un",2,4.9400000000000004,5.6118399999999999,11.22,4.9400000000000004]
["13.56","Sinapi",3878,"LUVA PVC, ROSCAVEL, 1 1/2\", AGUA FRIA PREDIAL","un",2,11.03,12.530079999999998,25.06,11.03]
["13.57","Sinapi",4177,"NIPLE DE FERRO GALVANIZADO, COM ROSCA BSP, DE 1/2\"","un",2,5.64,6.4070399999999994,12.81,5.64]
["13.58","Sinapi",89395,"TE, PVC, SOLDÁVEL, DN 25MM, INSTALADO EM RAMAL OU SUB-RAMAL DE ÁGUA - FORNECIMENTO E INSTALAÇÃO. AF_06/2022","un",3,13.86,15.744959999999997,47.23,13.86]
["13.59","Sinapi",89398,"TE, PVC, SOLDÁVEL, DN 32MM, INSTALADO EM RAMAL OU SUB-RAMAL DE ÁGUA - FORNECIMENTO E INSTALAÇÃO. AF_06/2022","un",3,18.940000000000001,21.515840000000001,64.55,18.940000000000001]
["13.60","Sinapi",97,"ADAPTADOR PVC SOLDAVEL, COM FLANGE E ANEL DE VEDACAO, 32 MM X 1\", PARA CAIXA D'AGUA","un",4,17.09,19.414239999999999,77.66,17.09]
["13.61","Sinapi",11675,"REGISTRO DE ESFERA, PVC, COM VOLANTE, VS, SOLDAVEL, DN 32 MM,","un",4,21.43,24.344479999999997,97.38,21.43]
["13.62","Sinapi",34637,"CAIXA D'AGUA / RESERVATORIO EM POLIETILENO, 500 LITROS, COM TAMPA                                                                                                                                                                                                                                                                                                                                                                                                                                         ","un",1,299.56,340.30015999999995,340.3,299.56]
["13.63","Sinapi",94495,"REGISTRO DE GAVETA BRUTO, LATÃO, ROSCÁVEL, 1\" - FORNECIMENTO E INSTALAÇÃO. AF_08/2021","un",1,90.49,102.79663999999998,102.8,90.49]
["13.64","Sinapi",94496,"REGISTRO DE GAVETA BRUTO, LATÃO, ROSCÁVEL, 1 1/4\" - FORNECIMENTO E INSTALAÇÃO. AF_08/2021","un",2,123.3,140.06879999999998,280.14,123.3]
["13.65","Sinapi",7603,"TORNEIRA DE METAL AMARELO, PARA TANQUE / JARDIM, DE PAREDE, SEM BICO, CANO CURTO, PADRAO POPULAR / USO GERA","un",2,36.36,41.304959999999994,82.61,36.36]
["13.66","Sinapi",94795,"TORNEIRA DE BOIA PARA CAIXA D'ÁGUA, ROSCÁVEL, 1/2\" - FORNECIMENTO E INSTALAÇÃO. AF_08/2021","un",1,31.61,35.908959999999993,35.909999999999997,31.61]
["13.67","Sinapi",20080,"ADESIVO PLASTICO PARA PVC, FRASCO COM 175 GR","un",2,20.09,22.822239999999997,{"$f":"ROUND(F77*H77,2)","v":45.64},20.09]
["13.68","Sinapi",3143,"FITA VEDA ROSCA 18MMX25M","un",1,9.07,10.303519999999999,{"$f":"ROUND(F78*H78,2)","v":10.3},9.07]
["13.69","Sinapi",35277,"CAIXA DE GORDURA EM PVC, DIAMETRO MINIMO 300 MM, DIAMETRO DE SAIDA 100 MM CAPACIDADE APROXIMADA 18 LITROS, COM TAMPA E CESTO","un",1,339.97,386.20591999999999,{"$f":"ROUND(F79*H79,2)","v":386.21},339.97]
["13.70","Sinapi",11735,"PROLONGADOR PAR CAIXA DE GORDURA E INSPEÇÃO DN300, PVC","un",1,8.4700000000000006,9.6219199999999994,{"$f":"ROUND(F80*H80,2)","v":9.6199999999999992},8.4700000000000006]
["13.71","Sinapi",89482,"CAIXA SIFONADA, PVC, DN 100 X 100 X 50 MM, FORNECIDA E INSTALADA EM RAMAIS DE ENCAMINHAMENTO DE ÁGUA PLUVIAL. AF_06/2022","un",5,38.33,43.542879999999997,{"$f":"ROUND(F81*H81,2)","v":217.71},38.33]
["13.72","Sinapi",94679,"CURVA 90 GRAUS, PVC, SOLDÁVEL, DN 50 MM, INSTALADO EM RESERVAÇÃO DE ÁGUA DE EDIFICAÇÃO QUE POSSUA RESERVATÓRIO DE FIBRA/FIBROCIMENTO   FORNECIMENTO E INSTALAÇÃO. AF_06/2016","un",11,21.57,24.503519999999998,269.54000000000002,21.57]
["13.73","Sinapi",89504,"CURVA 45 GRAUS, PVC, SOLDÁVEL, DN 50MM, INSTALADO EM PRUMADA DE ÁGUA - FORNECIMENTO E INSTALAÇÃO. AF_06/2022","un",3,18.12,20.584319999999998,61.75,18.12]
["13.74","Sinapi",89724,"JOELHO 90 GRAUS, PVC, SERIE NORMAL, ESGOTO PREDIAL, DN 40 MM, JUNTA SOLDÁVEL, FORNECIDO E INSTALADO EM RAMAL DE DESCARGA OU RAMAL DE ESGOTO SANITÁRIO. AF_08/2022","un",1,10.69,12.143839999999999,12.14,10.69]
["13.75","Sinapi",89731,"JOELHO 90 GRAUS, PVC, SERIE NORMAL, ESGOTO PREDIAL, DN 50 MM, JUNTA ELÁSTICA, FORNECIDO E INSTALADO EM RAMAL DE DESCARGA OU RAMAL DE ESGOTO SANITÁRIO. AF_08/2022","un",8,14.13,16.051680000000001,128.41,14.13]
["13.76","Sinapi",89563,"JUNÇÃO SIMPLES, PVC, SERIE R, ÁGUA PLUVIAL, DN 50 MM, JUNTA ELÁSTICA, FORNECIDO E INSTALADO EM RAMAL DE ENCAMINHAMENTO. AF_06/2022","un",2,33.32,37.851519999999994,75.7,33.32]
["13.77","Sinapi",103995,"LUVA, PVC, SOLDÁVEL, DN 50MM, INSTALADO EM RAMAL DE DISTRIBUIÇÃO DE ÁGUA - FORNECIMENTO E INSTALAÇÃO. AF_06/2022","un",17,15.11,17.164959999999997,291.8,15.11]
["13.78","Sinapi",104345,"JUNÇÃO DE REDUÇÃO INVERTIDA, PVC, SÉRIE NORMAL, ESGOTO PREDIAL, DN 100 X 50 MM, JUNTA ELÁSTICA, FORNECIDO E INSTALADO EM RAMAL DE DESCARGA OU RAMAL DE ESGOTO SANITÁRIO. AF_08/2022","un",2,42.4,48.166399999999996,96.33,42.4]
["13.79","Sinapi",20043,"REDUÇÃO EXCÊNTRICA, PVC, ÁGUA PLUVIAL, DN 100 X 50 MM, LINHA NORMAL","un",2,8.76,9.9513599999999993,{"$f":"ROUND(F89*H89,2)","v":19.899999999999999},8.76]
["13.80","Sinapi",86883,"SIFÃO DO TIPO FLEXÍVEL EM PVC 1  X 1.1/2  - FORNECIMENTO E INSTALAÇÃO. AF_01/2020","un",1,13.5,15.335999999999999,15.34,13.5]
["13.81","Sinapi",86941,"LAVATÓRIO LOUÇA BRANCA COM COLUNA, 45 X 55CM OU EQUIVALENTE, PADRÃO MÉDIO, INCLUSO SIFÃO TIPO GARRAFA, VÁLVULA E ENGATE FLEXÍVEL DE 40CM EMMETAL CROMADO, COM TORNEIRA CROMADA DE MESA, PADRÃO MÉDIO - FORNECIMENTO E INSTALAÇÃO.","un",1,919.9,1045.0064,1045.01,919.9]
["13.82","Sinapi",86936,"CUBA DE EMBUTIR DE AÇO INOXIDÁVEL MÉDIA, INCLUSO VÁLVULA TIPO AMERICANA E SIFÃO TIPO GARRAFA EM METAL CROMADO - FORNECIMENTO E INSTALAÇÃO","un",1,571.35,649.05359999999996,649.04999999999995,571.35]
["13.83","Cotação",null,"LAVADOR DE BOTAS EM AÇO INOXIDÁVEL AISI 304","un",1,3821.7533333333336,4341.5117866666669,4341.51,{"$f":"O93","v":3821.7533333333336},null,3921.93,2433.33,5110,{"$f":"AVERAGE(L93:N93)","v":3821.7533333333336}]
["13.84","Sinapi",86906,"TORNEIRA CROMADA DE MESA, 1/2\u0094 OU 3/4\u0094, PARA LAVATÓRIO, PADRÃO POPULAR - FORNECIMENTO E INSTALAÇÃO. AF_01/2020","un",2,70.84,80.474239999999995,160.94999999999999,70.84]
["13.85","Sinapi",94768,"ADAPTADOR COM FLANGE E ANEL DE VEDAÇÃO, CPVC, ROSCÁVEL, DN 42 MM, INSTALADO EM RESERVAÇÃO DE ÁGUA DE EDIFICAÇÃO QUE POSSUA RESERVATÓRIO DE FIBRA/FIBROCIMENTO - FORNECIMENTO E INSTALAÇÃO. AF_06/2016","un",1,76.17,86.529119999999992,86.53,76.17]
["13.86","Cotação",null,"PEDALEIRA PARA ACIONAMENTO TORNEIRA, ROSCA 1/2\"","un",2,145.39666666666665,165.17061333333331,330.34,{"$f":"O96","v":145.39666666666665},null,133.4,137.88999999999999,164.9,{"$f":"AVERAGE(L96:N96)","v":145.39666666666665}]
["13.87","Sinapi",91924,"CABO DE COBRE FLEXÍVEL ISOLADO, 1,5 MM², ANTI-CHAMA 450/750 V, PARA CIRCUITOS TERMINAIS - FORNECIMENTO E INSTALAÇÃO. AF_03/2023","m",49,3.09,3.5102399999999996,172,3.09]
["13.88","Sinapi",91926,"CABO DE COBRE, RIGIDO, CLASSE 2, ISOLACAO EM PVC/A, ANTICHAMA BWF-B, 1 CONDUTOR, 450/750 V, SECAO NOMINAL 2,5 MM2","m",180,4.47,5.0779199999999989,914.03,4.47]
["13.89","Sinapi",91952,"INTERRUPTOR SIMPLES (1 MÓDULO), 10A/250V, SEM SUPORTE E SEM PLACA - FORNECIMENTO E INSTALAÇÃO. AF_03/2023","un",4,19.75,22.435999999999996,89.74,19.75]
["13.90","Sinapi",91990,"TOMADA ALTA DE EMBUTIR (1 MÓDULO), 2P+T 10 A, SEM SUPORTE E SEM PLACA - FORNECIMENTO E INSTALAÇÃO. AF_03/2023","un",1,36.590000000000003,41.566240000000001,41.57,36.590000000000003]
["13.91","ORSE","11054/ORSE","CAIXA METÁLICA COM UMA TOMADA 2P+T PARA INSTALAÇÃO APARENTE","un",10,27.17,30.865119999999997,308.64999999999998,27.17]
["13.92","Sinapi",95777,"CONDULETE DE ALUMÍNIO, TIPO B, PARA ELETRODUTO DE AÇO GALVANIZADO DN 20 MM (3/4''), APARENTE - FORNECIMENTO E INSTALAÇÃO. AF_10/2022","un",5,30.74,34.920639999999992,174.6,30.74]
["13.93","Sinapi",101890,"DISJUNTOR MONOPOLAR TIPO NEMA, CORRENTE NOMINAL DE 10 ATÉ 30A - FORNECIMENTO E INSTALAÇÃO. AF_10/2020","un",1,20.100000000000001,22.833600000000001,22.83,20.100000000000001]
["13.94","Sinapi",101892,"DISJUNTOR MONOPOLAR TIPO NEMA, CORRENTE NOMINAL DE 10 ATÉ 50A - FORNECIMENTO E INSTALAÇÃO. AF_10/2020","un",7,89.28,101.42207999999999,709.95,89.28]
["13.95","ORSE","07943/ORSE","DISJUNTOR BIPOLAR DR 25A - DISPOSITIvO DIFERENCIAL RESIDUAL, TIPO AC, 30MA","un",3,278.5,316.37599999999998,949.13,278.5]
["13.96","Sinapi",93661,"DISJUNTOR BIPOLAR TIPO DIN, CORRENTE NOMINAL DE 16A - FORNECIMENTO E INSTALAÇÃO. AF_10/2020","un",2,72.430000000000007,82.280479999999997,164.56,72.430000000000007]
["13.97","Sinapi",93665,"DISJUNTOR BIPOLAR TIPO DIN, CORRENTE NOMINAL DE 40A - FORNECIMENTO E INSTALAÇÃO. AF_10/2020","un",1,83.34,94.674239999999998,94.67,83.34]
["13.98","ORSE","04878/ORSE","PONTO DE LUZ EM TETO OU PAREDE, APARENTE SEM ELETRODUTO","un",5,65.23,74.101280000000003,362.39,65.23]
["13.99","ORSE","14448/ORSE","ELETRODUTO DE AÇO GALVANIZADO LEVE, INCLUSIVE\nCONEXÕES, SUPORTES E FIXAÇÃO DN 20 (3/4\")","m",50,33.67,38.249119999999998,{"$f":"ROUND(F109*H109,2)","v":1912.46},33.67]
["13.100","Sinapi",1879,"CURVA 90° PVC ELETRODUTO ROSCAVEL 3/4\"","un",16,3.35,3.8055999999999996,60.89,3.35]
["13.101","Sinapi",39128,"ABRAÇADEIRA GALVANIZADA \"D\" PARA ELETRODUTO 3/4\" COM CUNHA","un",50,1.7,1.9311999999999998,96.56,1.7]
["13.102","Sinapi",101878,"QUADRO DE DISTRIBUIÇÃO DE ENERGIA EM CHAPA DE AÇO GALVANIZADO, DE SOBREPOR, COM BARRAMENTO TRIFÁSICO, PARA 18 DISJUNTORES DIN 100A - FORNECIMENTO E INSTALAÇÃO. AF_10/2020","un",1,569.38,646.81567999999993,646.82000000000005,569.38]
["13.103","Sinapi",100954,"TRANSPORTE COM CAMINHÃO CARROCERIA COM GUINDAUTO (MUNCK),  MOMENTO MÁXIMO DE CARGA 11,7 TM, EM VIA INTERNA (DENTRO DO CANTEIRO - UNIDADE: TXKM). AF_07/2020","TXKM",800,8.8800000000000008,10.087680000000001,{"$f":"ROUND(F113*H113,2)","v":8070.14},8.8800000000000008]
["13.104","CPU","CPU006","REVESTIMENTO DE PAREDES EM CHAPAS DE AÇO INOXIDÁVEL AISI 304  - APENAS MATERIAL","M²",70.540000000000006,350.73599999999999,398.43609599999996,{"$f":"ROUND(F114*H114,2)","v":28105.68},{"$f":"CPU!I150","v":350.73599999999999}]
["13.105","CPU","CPU008","CHAPA XADREZ EM ALUMINIO PARA PISO e:3mm, INCLUSO REBITE PARA FIXAÇÃO - APENAS MATERIAL","M²",29.9,603.64239999999995,685.73776639999994,{"$f":"ROUND(F115*H115,2)","v":20503.560000000001},{"$f":"CPU!I180","v":603.64239999999995}]

{"sheet":"UBF","index":1,"n_rows":104,"n_cols":11,"rows_kept":104,"cut":false,"hidden":false,"merged":[[47,3,47,7],[54,3,54,7],[104,0,104,8],[9,3,9,7],[24,3,24,7],[30,3,30,7],[32,3,32,7],[36,3,36,7],[42,3,42,7],[10,3,10,7],[13,3,13,7],[19,3,19,7],[5,0,5,8],[6,0,7,0],[6,1,7,1],[6,2,7,2],[6,3,7,3],[6,4,7,4],[6,5,7,5],[6,6,6,8],[0,0,0,8],[1,0,1,8],[2,0,2,8],[3,0,4,6],[3,7,3,8],[4,7,4,8]]}
["MINISTÉRIO DA INTEGRAÇÃO E DO DESENVOLVIMENTO REGIONAL",{"$nulls":8},"BDI serviç",1.2591000000000001]
["COMPANHIA DE DESENVOLVIMENTO DOS VALES DO SÃO FRANCISCO E DO PARNAÍBA",{"$nulls":8},"BDI fornec.",1.1359999999999999]
["SEDE"]
["PLANILHA ORÇAMENTÁRIA DE ESTIMATIVA GERAL PARA O ESTADO DE MINAS GERAIS (16ª SR)",{"$nulls":6},"Base SINAPI-MG 03-2025     ORSE 02-2025                        "]
[{"$nulls":7},"Data: Maio - 2025"]
[]
["Item","Base        ","Código        ","Descrição","Unid.","Quant.","Valor (R$)"]
[{"$nulls":6},"Unit. (sem BDI)","Unit. (com BDI)","Total"]
[]
[14,null,null,"UNIDADE DE BENEFICIAMENTO DE FRUTOS",{"$nulls":4},{"$f":"SUM(I11,I14,I20,I25,I31,I33,I37,I43,I48,I55)","v":330475.64577599999}]
["14.1",null,null,"SERVIÇOS PRELIMINARES",{"$nulls":4},{"$f":"SUM(I12:I13)","v":5801.93}]
["14.2","sinapi",105009,{"$f":"[1]CPU!$A$91","v":"LOCAÇÃO DE OBRAS"},"m",{"$f":"15+10+15+10","v":50},{"$f":"J12","v":90.03},{"$f":"(G12*K$1)","v":113.35677300000002},{"$f":"ROUND(F12*H12,2)","v":5667.84},90.03]
["14.3","Sinapi",98525,"LIMPEZA MECANIZADA DE CAMADA VEGETAL, VEGETAÇÃO E PEQUENAS ÁRVORES (DIÂMETRO DE TRONCO MENOR QUE 0,20 M), COM TRATOR DE ESTEIRAS.","m²",{"$f":"15*10","v":150},{"$f":"J13","v":0.71},{"$f":"(G13*K$1)","v":0.89396100000000001},{"$f":"ROUND(F13*H13,2)","v":134.09},0.71]
["14.4",null,null,"MOVIMENTO DE TERRA",{"$nulls":4},{"$f":"SUM(I15:I19)","v":3103.4400000000005}]
["14.5","Sinapi",101230,"ESCAVAÇÃO VERTICAL A CÉU ABERTO, EM OBRAS DE INFRAESTRUTURA, INCLUINDO CARGA, DESCARGA E TRANSPORTE, EM SOLO DE 1ª CATEGORIA COM ESCAVADEIRA HIDRÁULICA (CAÇAMBA: 0,8 M³ / 111 HP)","m³",54.76,{"$f":"J15","v":11.62},{"$f":"G15*$K$1","v":14.630742},{"$f":"ROUND(F15*H15,2)","v":801.18},11.62]
["14.6","Sinapi",100577,"REGULARIZAÇÃO E COMPACTAÇÃO DE SUBLEITO DE SOLO PREDOMINANTEMENTE ARENOSO.","m²",150,0.5,{"$f":"G16*$K$1","v":0.62955000000000005},{"$f":"ROUND(F16*H16,2)","v":94.43},0.5]
["14.7","Sinapi",96385,"EXECUÇÃO E COMPACTAÇÃO DE ATERRO COM SOLO PREDOMINANTEMENTE ARGILOSO - EXCLUSIVE SOLO, ESCAVAÇÃO, CARGA E TRANSPORTE","m³",75,12.48,{"$f":"G17*$K$1","v":15.713568000000002},{"$f":"ROUND(F17*H17,2)","v":1178.52},12.48]
["14.8","Sinapi",100574,"ESPALHAMENTO DE MATERIAL COM TRATOR DE ESTEIRAS.","m³",75,1.48,{"$f":"G18*$K$1","v":1.8634680000000001},{"$f":"ROUND(F18*H18,2)","v":139.76},1.48]
["14.9","Sinapi",100973,"CARGA, MANOBRA E DESCARGA DE SOLOS E MATERIAIS GRANULARES EM CAMINHÃO BASCULANTE 6 M³ - CARGA COM PÁ CARREGADEIRA (CAÇAMBA DE 1,7 A 2,8 M³ /128 HP) E DESCARGA LIVRE ","m³",75,9.42,{"$f":"G19*$K$1","v":11.860722000000001},{"$f":"ROUND(F19*H19,2)","v":889.55},9.42]
["14.10",null,null,"FUNDAÇÕES/ ESTRUTURAS DE CONCRETO ARMADO",{"$nulls":4},{"$f":"SUM(I21:I24)","v":15219.315775999999}]
["14.11","Sinapi",92802,"CORTE E DOBRA DE AÇO CA-50, DIÂMETRO DE 8,0 MM","kg",101.6,{"$f":"J21","v":9.6},{"$f":"G21*K1","v":12.08736},{"$f":"H21*F21","v":1228.0757759999999},9.6]
["14.12","Sinapi",94965,"CONCRETO FCK = 25MPA, TRAÇO 1:2,3:2,7 (CIMENTO/ AREIA MÉDIA/ BRITA 1) - PREPARO MECÂNICO COM BETONEIRA 400 L. ","m³",17,540.54,{"$f":"G22*K1","v":680.59391400000004},{"$f":"ROUND(F22*H22,2)","v":11570.1},540.54]
["14.13","Sinapi","103673","LANÇAMENTO COM USO DE BOMBA, ADENSAMENTO E ACABAMENTO DE CONCRETO EM ESTRUTURAS. AF_02/2022","m³",17,44.5,{"$f":"G23*K1","v":56.029950000000007},{"$f":"ROUND(F23*H23,2)","v":952.51},44.5]
["14.14","Sinapi",97086,"FABRICAÇÃO, MONTAGEM E DESMONTAGEM DE FORMA PARA RADIER, EM MADEIRA SERRADA, 4 UTILIZAÇÕES.","m²",7.8,149.54,{"$f":"G24*K1","v":188.28581400000002},{"$f":"ROUND(F24*H24,2)","v":1468.63},149.54]
["14.15",null,null,"ALVENARIAS, DIVISÓRIAS E FECHAMENTOS",{"$nulls":4},{"$f":"SUM(I26:I30)","v":22191.23}]
["14.16","CPU","CPU010","REVESTIMENTO DE PAREDES EM CHAPAS DE AÇO INOXIDÁVEL AISI 304","M²",20,{"$f":"J26","v":46.864000000000004},{"$f":"G26*K$1","v":59.006462400000011},{"$f":"ROUND(F26*H26,2)","v":1180.1300000000001},{"$f":"CPU!I206","v":46.864000000000004}]
["14.17","ORSE","10280/ORSE","MANTA EM LÃ DE VIDRO","M²",134.78,15.05,{"$f":"G27*$K$1","v":18.949455000000004},{"$f":"ROUND(F27*H27,2)","v":2554.0100000000002},15.05]
["14.18","CPU","CPU009","CHAPA XADREZ EM ALUMINIO PARA PISO e:3mm, INCLUSO REBITE PARA FIXAÇÃO","UN",1,423.76909999999998,{"$f":"G28*K$1","v":533.56767380999997},{"$f":"ROUND(F28*H28,2)","v":533.57000000000005},{"$f":"CPU!I193","v":423.76909999999998}]
["14.19","Sinapi",104723,"PAREDE COM SISTEMA EM CHAPAS DE GESSO PARA DRYWALL, USO INTERNO, COM DUAS FACES DUPLAS E ESTRUTURA METÁLICA COM GUIAS DUPLAS PARA PAREDES COM ÁREA LÍQUIDA MENOR QUE 6 M2, COM VÃOS.","m²",42.8,240.62,302.96464200000003,{"$f":"ROUND(F29*H29,2)","v":12966.89},240.62]
["14.20","Sinapi",96486,"FORRO EM RÉGUAS DE PVC, LISO, PARA AMBIENTES COMERCIAIS, INCLUSIVE ESTRUTURA BIDIRECIONAL DE FIXAÇÃO","m²",54.112000000000002,72.75,91.599525000000014,{"$f":"ROUND(F30*H30,2)","v":4956.63},72.75]
["14.21",null,null,"PINTURAS",{"$nulls":4},{"$f":"SUM(I32:I32)","v":16972.68}]
["14.22","Sinapi",100751,"PINTURA COM TINTA EPOXÍDICA DE ACABAMENTO PULVERIZADA SOBRE PERFIL METÁLICO EXECUTADO EM FÁBRICA (02 DEMÃOS).","m²",263.89999999999998,{"$f":"J32","v":51.08},64.314828000000006,{"$f":"ROUND(F32*H32,2)","v":16972.68},51.08]
["14.23",null,null,"COBERTURAS",{"$nulls":4},{"$f":"SUM(I34:I36)","v":35352.730000000003}]
["14.24","ORSE","13874/ORSE","ESTRUTURA METALICA P/ COBERTURA DE CRECHE PADRÃO 1 DO PADRÃO FNDE, EM LIGTH STEEL FRAME, COM PERFIS UE70 MONTANTES DE TUBO UE70, INCLUSIVE FORNECIMENTO E MONTAGEM. EXCLUSIVE TELHAS","m²",98.42,{"$f":"J34","v":113.51},{"$f":"(G34*K$1)","v":142.92044100000001},{"$f":"ROUND(F34*H34,2)","v":14066.23},113.51]
["14.25","Sinapi",94216,"TELHAMENTO COM TELHA METÁLICA TERMOACÚSTICA E = 30 MM, COM ATÉ 2 ÁGUAS, INCLUSO IÇAMENTO","M2",98.42,{"$f":"J35","v":153.34},193.07039400000002,{"$f":"ROUND(F35*H35,2)","v":19001.990000000002},153.34]
["14.26","Sinapi",94228,"CALHA EM CHAPA DE AÇO GALVANIZADO NÚMERO 24, DESENVOLVIMENTO DE 50 CM, INCLUSO TRANSPORTE VERTICAL. AF_07/2019","m",18,100.8,126.91728000000001,2284.5100000000002,100.8]
["14.27",null,null,"CONSTRUÇÃO CIVIL",{"$nulls":4},{"$f":"SUM(I38:I40)","v":13442.77}]
["14.28","Sinapi",100702,"PORTA DE CORRER DE ALUMÍNIO, COM DUAS FOLHAS PARA VIDRO, INCLUSO VIDRO LISO INCOLOR, FECHADURA E PUXADOR, SEM ALIZAR. ","m²",4.8499999999999996,{"$f":"J38","v":487.23},613.47129300000006,{"$f":"ROUND(F38*H38,2)","v":2975.34},487.23]
["14.29","Sinapi",91341,"PORTA EM ALUMÍNIO DE ABRIR TIPO VENEZIANA COM GUARNIÇÃO, FIXAÇÃO COM PARAFUSOS - FORNECIMENTO E INSTALAÇÃO.","m²",3.8,661.63,833.05833300000006,{"$f":"ROUND(F39*H39,2)","v":3165.62},661.63]
["14.30","Sinapi",100674,"JANELA FIXA DE ALUMÍNIO PARA VIDRO, COM VIDRO, BATENTE E FERRAGENS. EXCLUSIVE ACABAMENTO, ALIZAR E CONTRAMARCO. FORNECIMENTO E INSTALAÇÃO. ","m²",8.85,655.28,825.06304799999998,{"$f":"ROUND(F40*H40,2)","v":7301.81},655.28]
["14.31","CPU","CPU007","REVESTIMENTO CERÂMICO PARA PISO COM PLACAS TIPO ESMALTADA DE DIMENSÕES 45x45cm COM ARGAMASSA AC III","m²",60,91.943745000000007,115.76636932950002,{"$f":"ROUND(F41*H41,2)","v":6945.98},{"$f":"CPU!I169","v":91.943745000000007}]
["14.32","Sinapi",94228,"CALHA EM CHAPA DE AÇO GALVANIZADO NÚMERO 24, DESENVOLVIMENTO DE 50 CM, INCLUSO TRANSPORTE VERTICAL. AF_07/2019","m",24,100.8,126.91728000000001,{"$f":"ROUND(F42*H42,2)","v":3046.01},100.8]
["14.33",null,null,"INSTALAÇÕES PREDIAIS",{"$nulls":4},{"$f":"SUM(I44:I47)","v":13941.42}]
["14.34","CPU","CPU001",{"$f":"[2]CPU!$A$65","v":"EXECUÇÃO DE INSTALAÇÕES HIDROSSANITÁRIAS, EXCLUSIVE EQUIPAMENTOS"},{"$f":"[2]CPU!$I$78","v":"cj"},1,{"$f":"J44","v":3059.6000000000004},3852.342360000001,{"$f":"ROUND(F44*H44,2)","v":3852.34},{"$f":"CPU!I43","v":3059.6000000000004}]
["14.35","CPU","CPU002",{"$f":"[2]CPU!$A$78","v":"EXECUÇÃO DE INSTALAÇÕES ELÉTRICAS, EXCLUSIVE EQUIPAMENTOS"},{"$f":"[2]CPU!$I$78","v":"cj"},1,3306.8,4163.5918800000009,{"$f":"ROUND(F45*H45,2)","v":4163.59},{"$f":"CPU!I56","v":3306.8}]
["14.36","SINAPI",98052,"TANQUE SÉPTICO CIRCULAR, EM CONCRETO PRÉ-MOLDADO, DIÂMETRO INTERNO = 1,10 M, ALTURA INTERNA = 2,50 M, VOLUME ÚTIL: 2138,2 L (PARA 5 CONTRIBUINTES).","UND",1,1902.01,2394.8207910000001,{"$f":"ROUND(F46*H46,2)","v":2394.8200000000002},1902.01]
["14.37","SINAPI",98062,"SUMIDOURO CIRCULAR, EM CONCRETO PRÉ-MOLDADO, DIÂMETRO INTERNO = 1,88 M, ALTURA INTERNA = 2,00 M, ÁREA DE INFILTRAÇÃO: 13,1 M² (PARA 5 CONTRIBUINTES)","UND",1,2804.12,3530.667492,3530.67,2804.12]
["14.38",null,null,"SERVIÇOS DIVERSOS",{"$nulls":4},{"$f":"SUM(I49:I54)","v":38296.53}]
["14.39","CPU","CPU003",{"$f":"[2]CPU!$A$140","v":"CORTE DE CONTAINER PARA ESQUADRIAS"},{"$f":"[2]CPU!$I$140","v":"m²"},12.65,{"$f":"J49","v":183.37},230.88116700000003,{"$f":"ROUND(F49*H49,2)","v":2920.65},{"$f":"CPU!I74","v":183.37}]
["14.40","CPU","CPU004",{"$f":"[2]CPU!$A$182","v":"MODIFICAÇÕES NO CONTAINER COM CORTE POR ESMERILHADEIRA "},{"$f":"[2]CPU!$I$182","v":"m"},57.68,95.892499999999998,120.73824675,6964.18,{"$f":"CPU!I116","v":95.892499999999998}]
["14.41","CPU","CPU005",{"$f":"[2]CPU!$A$200","v":"MODIFICAÇÕES NO CONTAINER UNIÃO ATRAVÉS DO PROCESSO DE SOLDAGEM, INCLUSO IÇAMENTO DO CONTAINER"},{"$f":"[2]CPU!$I$200","v":"m"},40.799999999999997,406.51254800000004,511.83994918680008,20883.07,{"$f":"CPU!I138","v":406.51254800000004}]
["14.42","Orse","00900/ORSE","ESCADA DE FERRO COM GUARDA-CORPO","m",0.9,1472.16,1853.5966560000002,1668.24,1472.16]
["14.43","CPU","CPU011","GUARDA-CORPO DE AÇO CARBONO, MONTANTES TUBULARES DE 1.1/2\" ESPAÇADOS EM 0,75M, ALTURA APROXIMADA DE 0,90M, PREPARADO COM FUNDO E TINTA EPÓXI NA COR AMARELA","m",1.9,599.22121333333337,754.47942970800011,1433.51,{"$f":"CPU!I229","v":599.22121333333337}]
["14.44","CPU","CPU013","FORNECIMENTO E INSTALAÇÃO DE SUPORTE PARA CAIXA D'ÁGUA EM METALON","un",1,3515.9079603999999,4426.8797129396398,4426.88,{"$f":"CPU!I283","v":3515.9079603999999}]
["14.45",null,null,"MATERIAIS",{"$nulls":4},{"$f":"SUM(I56:I104)","v":166153.60000000001}]
["14.46","Cotação",null,"CONTAINER HIGH CUBE 40 PÉS 12,2X2,3X2,9 (COMPXLARGXALTU)","un",2,{"$f":"J56","v":20412},{"$f":"G56*K$2","v":23188.031999999999},{"$f":"ROUND(F56*H56,2)","v":46376.06},{"$f":"CPU!I263","v":20412}]
["14.47","Sinapi",89356,"TUBO PVC, SOLDAVEL, DN 25 MM, AGUA FRIA (NBR-5648)","m",6,25.16,{"$f":"G57*K$2","v":28.581759999999999},171.49,25.16]
["14.48","Sinapi",89357,"TUBO PVC, SOLDAVEL, DN 32 MM, AGUA FRIA (NBR-5648)","m",18,33.86,38.464959999999998,692.37,33.86]
["14.49","Sinapi",89448,"TUBO PVC, SOLDAVEL, DN 40 MM, AGUA FRIA (NBR-5648) ","m",3,15.17,17.23312,51.7,15.17]
["14.50","Sinapi",9838,"TUBO PVC SERIE NORMAL, DN 50 MM, PARA ESGOTO PREDIAL (NBR 5688) ","m",30,10.5,11.927999999999999,357.84,10.5]
["14.51","Sinapi",89362,"JOELHO 90 GRAUS, PVC, SOLDÁVEL, DN 25MM, INSTALADO EM RAMAL OU SUB-RAMAL DE ÁGUA - FORNECIMENTO E INSTALAÇÃO. AF_06/2022","un",5,10.1,11.473599999999999,57.37,10.1]
["14.52","Sinapi",89367,"JOELHO 90 GRAUS, PVC, SOLDÁVEL, DN 32MM, INSTALADO EM RAMAL OU SUB-RAMAL DE ÁGUA - FORNECIMENTO E INSTALAÇÃO. AF_06/2022","un",4,13.63,15.48368,61.93,13.63]
["14.53","Sinapi",89497,"JOELHO 90 GRAUS, PVC, SOLDÁVEL, DN 40MM, INSTALADO EM PRUMADA DE ÁGUA - FORNECIMENTO E INSTALAÇÃO. AF_06/2022","un",3,12.92,14.677119999999999,44.03,12.92]
["14.54","Sinapi",3874,"LUVA SOLDAVEL COM BUCHA DE LATÃO DN25X1/2\"","un",5,5.52,6.270719999999999,31.35,5.52]
["14.55","Sinapi",12909,"CAP PVC, SOLDAVEL, DN 50 MM, SERIE NORMAL, PARA ESGOTO PREDIAL","un",3,4.37,4.9643199999999998,14.89,4.37]
["14.56","Sinapi",7136,"TE DE REDUCAO, PVC, SOLDAVEL, 90 GRAUS, 32 MM X 25 MM, PARA AGUA FRIA PREDIAL","un",5,6.16,6.9977599999999995,34.99,6.16]
["14.57","Sinapi",97,"ADAPTADOR PVC SOLDAVEL, COM FLANGE E ANEL DE VEDACAO, 32 MM X 1\", PARA CAIXA D'ÁGUA","un",1,17.09,19.414239999999999,19.41,17.09]
["14.58","Sinapi",98,"ADAPTADOR PVC SOLDAVEL, COM FLANGE E ANEL DE VEDACAO, 40 MM X 1 1/4\", PARA CAIXA D'ÁGUA","un",1,25.59,29.070239999999998,29.07,25.59]
["14.59","Sinapi",11871,"CAIXA D'AGUA EM POLIETILENO 500 LITROS, COM TAMPA","un",1,500.96,569.09055999999998,569.09,500.96]
["14.60","Sinapi",94795,"TORNEIRA DE BOIA PARA CAIXA D'ÁGUA, ROSCÁVEL, 1/2\" - FORNECIMENTO E INSTALAÇÃO. AF_08/2021","un",1,31.61,35.908959999999993,35.909999999999997,31.61]
["14.61","Sinapi",799,"BUCHA DE REDUCAO PVC, ROSCAVEL, 1\" X 1/2\"","un",1,3.24,3.6806399999999999,3.68,3.24]
["14.62","Sinapi",11746,"VALVULA DE ESFERA BRUTA EM BRONZE, BITOLA 1”","un",1,115.26,130.93536,130.94,115.26]
["14.63","Sinapi",4177,"NIPLE DE FERRO GALVANIZADO, COM ROSCA BSP, DE 1/2\"","un",1,5.64,6.4070399999999994,{"$f":"ROUND(F73*H73,2)","v":6.41},5.64]
["14.64","Sinapi",3855,"LUVA SOLDAVEL COM BUCHA DE LATÃO DN25X1/2\"","un",1,4.76,5.4073599999999988,{"$f":"ROUND(F74*H74,2)","v":5.41},4.76]
["14.65","Sinapi",11674,"registro esfera pvc dn25 soldavel","un",1,13.5,15.335999999999999,{"$f":"ROUND(F75*H75,2)","v":15.34},13.5]
["14.66","Sinapi",35277,"CAIXA DE GORDURA EM PVC, DIAMETRO MINIMO 300 MM, DIAMETRO DE SAIDA 100 MM CAPACIDADE APROXIMADA 18 LITROS, COM TAMPA E CESTO","un",2,339.97,386.20591999999999,{"$f":"ROUND(F76*H76,2)","v":772.41},339.97]
["14.67","Sinapi",89482,"CAIXA SIFONADA, PVC, DN 100 X 100 X 50 MM, FORNECIDA E INSTALADA EM RAMAIS DE ENCAMINHAMENTO DE ÁGUA PLUVIAL. AF_06/2022","un",5,38.33,43.542879999999997,217.71,38.33]
["14.68","Sinapi",89502,"JOELHO 45 GRAUS, PVC, SOLDÁVEL, DN 50MM, INSTALADO EM PRUMADA DE ÁGUA - FORNECIMENTO E INSTALAÇÃO. AF_06/2022","un",4,16.47,18.709919999999997,74.84,16.47]
["14.69","Sinapi",89501,"JOELHO 90 GRAUS, PVC, SOLDÁVEL, DN 50MM, INSTALADO EM PRUMADA DE ÁGUA - FORNECIMENTO E INSTALAÇÃO. AF_06/2022","un",10,14.17,16.097119999999997,160.97,14.17]
["14.70","Sinapi",103995,"LUVA, PVC, SOLDÁVEL, DN 50MM, INSTALADO EM RAMAL DE DISTRIBUIÇÃO DE ÁGUA - FORNECIMENTO E INSTALAÇÃO. AF_06/2022","un",21,15.11,17.164959999999997,360.46,15.11]
["14.71","Sinapi",89567,"JUNÇÃO SIMPLES, PVC, SERIE R, ÁGUA PLUVIAL, DN 100 X 100 MM, JUNTA ELÁSTICA, FORNECIDO E INSTALADO EM RAMAL DE ENCAMINHAMENTO. AF_06/2022","un",6,76.930000000000007,87.392480000000006,524.35,76.930000000000007]
["14.72","Sinapi",12909,"CAP PVC, SOLDAVEL, DN 50 MM, SERIE NORMAL, PARA ESGOTO","un",1,4.37,4.9643199999999998,4.96,4.37]
["14.73","Sinapi",34628,"DISJUNTOR TIPO DIN/IEC, BIPOLAR 63 A","un",1,90.57,102.88751999999998,102.89,90.57]
["14.74","Sinapi",34616,"DISJUNTOR TIPO DIN/IEC, BIPOLAR DE 6 ATE 32A","un",6,64.22,72.953919999999997,437.72,64.22]
["14.75","ORSE","07943/ORSE","DISJUNTOR BIPOLAR DR 25A - DISPOSITIvO DIFERENCIAL RESIDUAL, TIPO AC, 30MA","un",3,278.5,316.37599999999998,949.13,278.5]
["14.76","Sinapi",39805,"QUADRO DE DISTRIBUICAO, EM PVC, DE EMBUTIR, COM BARRAMENTO TERRA / NEUTRO, PARA 12 DISJUNTORES NEMA OU 16 DISJUNTORES DIN","un",1,163.69,185.95183999999998,185.95,163.69]
["14.77","Sinapi",1014,"CABO DE COBRE, FLEXIVEL, CLASSE 4 OU 5, ISOLACAO EM PVC/A, ANTICHAMA BWF-B, 1 CONDUTOR, 450/750 V, SECAO NOMINAL 2,5 MM2","m",397.5,2.25,2.5559999999999996,1016.01,2.25]
["14.78","Sinapi",39471,"DISPOSITIVO DPS CLASSE II, 1 POLO, TENSAO MAXIMA DE 275 V, CORRENTE MAXIMA DE *45* KA (TIPO AC)","un",2,128.97,146.50991999999999,293.02,128.97]
["14.79","Sinapi",981,"CABO DE COBRE, FLEXIVEL, CLASSE 4 OU 5, ISOLACAO EM PVC/A, ANTICHAMA BWF-B, 1 CONDUTOR, 450/750 V, SECAO NOMINAL 4 MM2","m",77.58,3.74,4.24864,329.61,3.74]
["14.80","Sinapi",993,"CABO DE COBRE, FLEXIVEL, CLASSE 4 OU 5, ISOLACAO EM PVC/A, ANTICHAMA BWF-B, COBERTURA PVC-ST1, ANTICHAMA BWF-B, 1 CONDUTOR, 0,6/1 KV, SECAO NOMINAL 1,5 MM2","m",396.4,1.92,2.1811199999999995,864.6,1.92]
["14.81","Sinapi",38076,"TOMADAS (2 MODULOS) 2P+T 10A, 250V, CONJUNTO MONTADO PARA EMBUTIR 4\" X 2\" (PLACA + SUPORTE + MODULOS)","un",11,16.87,19.16432,210.81,16.87]
["14.82","Sinapi",1871,"CAIXA OCTOGONAL DE FUNDO MOVEL, EM PVC, DE 3\" X 3\", PARA ELETRODUTO FLEXIVEL CORRUGADO","un",8,5.18,5.884479999999999,47.08,5.18]
["14.83","Sinapi",2689,"ELETRODUTO PVC FLEXIVEL CORRUGADO, COR AMARELA, DE 20 MM","m",15.53,2.77,3.1467199999999997,48.87,2.77]
["14.84","Sinapi",2688,"ELETRODUTO PVC FLEXIVEL CORRUGADO, COR AMARELA, DE 25 MM","m",71.739999999999995,3,3.4079999999999995,244.49,3]
["14.85","Sinapi",20111,"FITA ISOLANTE ADESIVA ANTICHAMA, USO ATE 750 V, EM ROLO DE 19 MM X 20 M","un",6,8.83,10.03088,60.19,8.83]
["14.86","Sinapi",1873,"CAIXA DE PASSAGEM, EM PVC, DE 4\" X 4\", PARA ELETRODUTO FLEXIVEL CORRUGADO","un",1,5.75,6.5319999999999991,6.53,5.75]
["14.87","Sinapi",38063,"INTERRUPTOR PARALELO 10A, 250V, CONJUNTO MONTADO PARA EMBUTIR 4\" X 2\" (PLACA + SUPORTE + MODULO)","un",4,9.08,10.314879999999999,41.26,9.08]
["14.88","Sinapi",38078,"INTERRUPTOR PARALELO + TOMADA 2P+T 10A, 250V, CONJUNTO MONTADO PARA EMBUTIR 4\" X 2\" (PLACA + SUPORTE + MODULOS)","un",1,15.58,17.698879999999999,17.7,15.58]
["14.89","Sinapi",38775,"LUMINARIA TIPO TARTARUGA PARA AREA EXTERNA EM ALUMINIO, COM GRADE, PARA 1 LAMPADA, BASE E27, POTENCIA MAXIMA 40/60 W (NAO INCLUI LAMPADA)","un",8,80.790000000000006,{"$f":"(G99*K$2)","v":91.777439999999999},734.22,80.790000000000006]
["14.90","Sinapi",10569,"CAIXA DE PASSAGEM / DERIVACAO / LUZ, OCTOGONAL 4 X4, EM ACO ESMALTADA, COM FUNDO MOVEL SIMPLES (FMS)","un",6,3.47,3.9419200000000001,23.65,3.47]
["14.91","Sinapi",100954,"TRANSPORTE COM CAMINHÃO CARROCERIA COM GUINDAUTO (MUNCK),  MOMENTO MÁXIMO DE CARGA 11,7 TM, EM VIA INTERNA (DENTRO DO CANTEIRO - UNIDADE: TXKM). AF_07/2020","TXKM",600,8.8800000000000008,10.087680000000001,{"$f":"ROUND(F101*H101,2)","v":6052.61},8.8800000000000008]
["14.92","Sinapi",100788,"KIT CAVALETE PARA GÁS - SEM MEDIDOR OU REGULADOR - ENTRADA INDIVIDUAL PRINCIPAL, EM AÇO GALVANIZADO DN 15 E 25 MM (1/2\" E 1\") - FORNECIMENTO E INSTALAÇÃO","und",1,900.18,{"$f":"(G102*$K$2)","v":1022.6044799999999},{"$f":"ROUND(F102*H102,2)","v":1022.6},900.18]
["14.93","CPU","CPU008","CHAPA XADREZ EM ALUMINIO PARA PISO e:3mm, INCLUSO REBITE PARA FIXAÇÃO - APENAS MATERIAL","M²",56.543999999999997,603.64239999999995,{"$f":"G103*$K$2","v":685.73776639999994},{"$f":"ROUND(F103*H103,2)","v":38774.36},{"$f":"CPU!I180","v":603.64239999999995}]
["14.94","CPU","CPU006","REVESTIMENTO DE PAREDES EM CHAPAS DE AÇO INOXIDÁVEL AISI 304  - APENAS MATERIAL","M²",160.29,350.73599999999999,{"$f":"G104*$K$2","v":398.43609599999996},{"$f":"ROUND(F104*H104,2)","v":63865.32},{"$f":"CPU!I150","v":350.73599999999999}]

{"sheet":"CPU","index":2,"n_rows":283,"n_cols":11,"rows_kept":283,"cut":false,"hidden":false,"merged":[[262,0,262,7],[237,0,237,7],[238,0,238,8],[241,0,241,7],[242,0,242,2],[242,4,242,7],[243,0,243,7],[227,0,227,7],[228,0,228,7],[230,0,230,7],[231,0,231,6],[232,0,232,6],[233,0,233,8],[281,0,281,7],[282,0,282,7],[273,0,273,7],[274,0,274,8],[278,0,278,7],[279,0,279,2],[279,4,279,7],[280,0,280,7],[244,0,244,7],[245,0,245,7],[264,0,264,7],[265,0,265,6],[266,0,266,6],[267,0,267,8],[248,0,248,6],[249,0,249,6],[250,0,250,8],[254,0,254,7],[255,0,255,8],[258,0,258,7],[259,0,259,2],[259,4,259,7],[260,0,260,7],[261,0,261,7],[219,0,219,7],[220,0,220,8],[224,0,224,7],[225,0,225,2],[225,4,225,7],[226,0,226,7],[247,0,247,7],[209,0,209,6],[210,0,210,8],[140,0,140,6],[142,0,142,8],[146,0,146,7],[148,0,148,7],[149,0,149,7],[150,0,150,8],[151,0,151,7],[152,0,152,6],[153,0,153,6],[141,0,141,6],[147,0,147,7],[154,0,154,8],[159,0,159,7],[160,0,160,8],[191,0,191,7],[192,0,192,7],[196,0,196,6],[194,0,194,7],[195,0,195,6],[197,0,197,8],[164,0,164,7],[165,0,165,2],[165,4,165,7],[166,0,166,7],[167,0,167,7],[168,0,168,7],[170,0,170,7],[171,0,171,6],[172,0,172,6],[201,0,201,7],[202,0,202,2],[173,0,173,8],[177,0,177,7],[178,0,178,7],[179,0,179,7],[180,0,180,8],[182,0,182,7],[183,0,183,6],[184,0,184,6],[185,0,185,8],[189,0,189,7],[190,0,190,2],[190,4,190,7],[139,0,139,7],[202,4,202,7],[203,0,203,7],[204,0,204,7],[205,0,205,7],[207,0,207,7],[208,0,208,6],[114,0,114,7],[115,0,115,7],[116,0,116,8],[117,0,117,7],[118,0,118,6],[119,0,119,6],[134,0,134,2],[134,4,134,7],[135,0,135,7],[136,0,136,7],[137,0,137,7],[120,0,120,8],[125,0,125,7],[126,0,126,8],[129,0,129,7],[130,0,130,8],[133,0,133,7],[106,0,106,7],[107,0,107,8],[111,0,111,7],[112,0,112,2],[112,4,112,7],[113,0,113,7],[97,0,97,7],[98,0,98,8],[99,0,99,7],[100,0,100,6],[101,0,101,6],[102,0,102,8],[90,0,90,8],[93,0,93,7],[94,0,94,2],[94,4,94,7],[95,0,95,7],[96,0,96,7],[84,0,84,7],[85,0,85,7],[86,0,86,8],[87,0,87,7],[88,0,88,6],[89,0,89,6],[77,0,77,6],[78,0,78,8],[81,0,81,7],[82,0,82,2],[82,4,82,7],[83,0,83,7],[71,0,71,7],[72,0,72,7],[73,0,73,7],[74,0,74,8],[75,0,75,7],[76,0,76,6],[59,0,59,6],[60,0,60,8],[64,0,64,7],[65,0,65,8],[69,0,69,7],[70,0,70,2],[70,4,70,7],[56,0,56,8],[57,0,57,7],[58,0,58,6],[55,0,55,7],[47,0,47,8],[51,0,51,7],[52,0,52,2],[52,4,52,7],[53,0,53,7],[54,0,54,7],[41,0,41,7],[42,0,42,7],[43,0,43,8],[44,0,44,7],[45,0,45,6],[46,0,46,6],[39,0,39,2],[39,4,39,7],[40,0,40,7],[27,0,27,7],[28,0,28,7],[29,0,29,7],[30,0,30,8],[31,0,31,7],[32,0,32,6],[25,0,25,7],[26,0,26,2],[26,4,26,7],[6,0,6,7],[7,0,7,6],[5,0,5,8],[33,0,33,6],[34,0,34,8],[38,0,38,7],[0,0,0,8],[1,0,1,8],[2,0,2,8],[3,0,4,6],[3,7,3,8],[4,7,4,8],[9,0,9,8],[17,0,17,7],[18,0,18,8]]}
["MINISTÉRIO DO DESENVOLVIMENTO REGIONAL - MDR"]
["COMPANHIA DE DESENVOLVIMENTO DOS VALES DO SÃO FRANCISCO E DO PARNAÍBA"]
["SEDE"]
["PLANILHA ORÇAMENTÁRIA DE ESTIMATIVA GERAL PARA O ESTADO DE MINAS GERAIS (16ª SR)",{"$nulls":6},"Base SINAPI-MG 03-2025     ORSE 02-2025                        "]
[{"$nulls":7},"Data: Maio - 2025"]
["COMPOSIÇÕES DE PREÇO UNITÁRIO"]
[" COMPOSIÇÃO DE PREÇO UNITÁRIO",{"$nulls":7},"CPU003"]
["DESCRIÇÃO DO SERVIÇO",{"$nulls":6},"DATA BASE: ","2025-03-01"]
["ADMINISTRAÇÃO LOCAL ",{"$nulls":6},"UNIDADE: ","mês"]
["MATERIAL"]
["BASE","CÓDIGO","DISCRIMINAÇÃO","UNI","QUANT.","PROD","P.UN.PROD","P.UN.IMPR","P.TOTAL"]
["MERCADO",null,"ALUGUEL","mês",1,null,null,800,{"$f":"E12*H12","v":800}]
["MERCADO",null,"TELEFONE E INTERNET","mês",1,null,null,99.9,99.9]
["MERCADO",null,"ENERGIA ELÉTRICA","kwh",200,null,null,0.53,106]
["MERCADO",null,"ÁGUA E ESGOTO","mês",1,null,null,100,100]
["MERCADO",null,"MATERIAL PARA ESCRITÓRIO","mês",1,null,null,150,150]
["MERCADO",null,"MATERIAL DE LIMPEZA","mês",1,null,null,50,50]
["SUB-TOTAL",{"$nulls":7},{"$f":"SUM(I12:I17)","v":1305.9000000000001}]
["MÃO DE OBRA"]
["BASE","CÓDIGO","DISCRIMINAÇÃO","UNI","QUANT.",null,null,"P.UNIT.","P.TOTAL"]
["MERCADO",null,"ENGENHEIRO DE OBRA ","mês",1,null,null,8483,{"$f":"E21*H21","v":8483}]
["MERCADO",null,"MESTRE DE OBRAS","mês",1,null,null,4515.12,{"$f":"E22*H22","v":4515.12}]
["MERCADO",null,"AUXILIAR DE ESCRITORIO COM ENCARGOS COMPLEMENTARES ","mês",1,null,null,1100,{"$f":"E23*H23","v":1100}]
["MERCADO",null,"TÉCNICO EM SEGURANÇA DO TRABALHO","h",44,null,null,27.26,{"$f":"E24*H24","v":1199.44}]
["MERCADO",null,"VIGIA","mês",1,null,null,1100,{"$f":"E25*H25","v":1100}]
["SUB-TOTAL",{"$nulls":7},{"$f":"SUM(I21:I25)","v":16397.559999999998}]
["PRODUÇÃO DA EQUIPE",null,null,1,"CUSTO ",null,null,null,{"$f":"I26+I18","v":17703.46}]
["TOTAL - R$",{"$nulls":7},{"$f":"I27/D27","v":17703.46}]
["BDI                %",{"$nulls":7},1]
["TOTAL DO SERVIÇO - R$",{"$nulls":7},{"$f":"I28*I29","v":17703.46}]
[]
[" COMPOSIÇÃO DE PREÇO UNITÁRIO",{"$nulls":7},"CPU001","XX"]
["DESCRIÇÃO DO SERVIÇO",{"$nulls":6},"DATA BASE: ","2025-03-01"]
["EXECUÇÃO DE INSTALAÇÕES HIDROSSANITÁRIAS, EXCLUSIVE EQUIPAMENTOS",{"$nulls":6},"UNIDADE: ","cj"]
["MÃO DE OBRA"]
["BASE","CÓDIGO","DISCRIMINAÇÃO","UNI","QUANT.",null,null,"P.UNIT.","P.TOTAL"]
["SINAPI",88316,"SERVENTE DE OBRAS ","h",80,null,null,22.64,{"$f":"E37*H37","v":1811.2}]
["SINAPI",88309,"PEDREIRO","h",40,null,null,31.21,{"$f":"E38*H38","v":1248.4000000000001}]
["SUB-TOTAL",{"$nulls":7},{"$f":"SUM(I37:I38)","v":3059.6000000000004}]
["PRODUÇÃO DA EQUIPE",null,null,1,"CUSTO ",null,null,null,{"$f":"SUM(I39)","v":3059.6000000000004}]
["TOTAL - R$",{"$nulls":7},{"$f":"I40/D40","v":3059.6000000000004}]
["BDI                %",{"$nulls":7},1]
["TOTAL DO SERVIÇO - R$",{"$nulls":7},{"$f":"I41*I42","v":3059.6000000000004},null,2758.8]
[]
[" COMPOSIÇÃO DE PREÇO UNITÁRIO",{"$nulls":7},"CPU002","XX"]
["DESCRIÇÃO DO SERVIÇO",{"$nulls":6},"DATA BASE: ","2025-03-01"]
["EXECUÇÃO DE INSTALAÇÕES ELÉTRICAS, EXCLUSIVE EQUIPAMENTOS",{"$nulls":6},"UNIDADE: ","cj"]
["MÃO DE OBRA"]
["BASE","CÓDIGO","DISCRIMINAÇÃO","UNI","QUANT.",null,null,"P.UNIT.","P.TOTAL"]
["SINAPI",88247,"AUXILIAR DE ELETRICISTA","h",80,null,null,25.52,{"$f":"E50*H50","v":2041.6}]
["SINAPI",88264,"ELETRICISTA","h",40,null,null,31.63,{"$f":"E51*H51","v":1265.2}]
["SUB-TOTAL",{"$nulls":7},{"$f":"SUM(I50:I51)","v":3306.8}]
["PRODUÇÃO DA EQUIPE",null,null,1,"CUSTO ",null,null,null,{"$f":"SUM(I52)","v":3306.8}]
["TOTAL - R$",{"$nulls":7},{"$f":"I53/D53","v":3306.8}]
["BDI                %",{"$nulls":7},1]
["TOTAL DO SERVIÇO - R$",{"$nulls":7},{"$f":"I54*I55","v":3306.8},null,2984]
[]
[" COMPOSIÇÃO DE PREÇO UNITÁRIO",{"$nulls":7},"CPU003","XX"]
["DESCRIÇÃO DO SERVIÇO",{"$nulls":6},"DATA BASE: ","2025-03-01"]
["CORTE DE CONTAINER PARA ESQUADRIAS",{"$nulls":6},"UNIDADE: ","m²"]
["MATERIAL"]
["BASE","CÓDIGO","DISCRIMINAÇÃO","UNI","QUANT.",null,null,"P.UNIT.","P.TOTAL"]
["SINAPI",11359,"ESMERILHADEIRA ANGULAR ELETRICA, DIAMETRO DO DISCO 7 '' (180 MM), ROTACAO 8500RPM, POTENCIA 2400 W","un",7.0999999999999994E-2,null,null,935,{"$f":"E63*H63","v":66.384999999999991}]
["SINAPI",44531,"DISCO DE CORTE DIAMANTADO SEGMENTADO DIAMETRO DE 180 MM PARA ESMERILHADEIRA 7 \"","un",1,null,null,84.74,{"$f":"E64*H64","v":84.74}]
["SUB-TOTAL",{"$nulls":7},{"$f":"SUM(I63:I64)","v":151.125}]
["MÃO DE OBRA"]
["BASE","CÓDIGO","DISCRIMINAÇÃO","UNI","QUANT.",null,null,"P.UNIT.","P.TOTAL"]
["SINAPI",88317,"SOLDADOR COM ENCARGOS COMPLEMENTARES ","h",0.5,null,null,33.520000000000003,{"$f":"E68*H68","v":16.760000000000002}]
["SINAPI",88315,"SERRALHEIRO COM ENCARGOS COMPLEMENTARES ","h",0.5,null,null,30.97,{"$f":"E69*H69","v":15.484999999999999}]
["SUB-TOTAL",{"$nulls":7},{"$f":"SUM(I68:I69)","v":32.245000000000005}]
["PRODUÇÃO DA EQUIPE",null,null,1,"CUSTO ",null,null,null,{"$f":"I70+I65","v":183.37}]
["TOTAL - R$",{"$nulls":7},{"$f":"I71/D71","v":183.37}]
["BDI                %",{"$nulls":7},1]
["TOTAL DO SERVIÇO - R$",{"$nulls":7},{"$f":"I72*I73","v":183.37},null,176.28]
[]
[" COMPOSIÇÃO DE PREÇO UNITÁRIO",{"$nulls":7},"CPU010","XX"]
["DESCRIÇÃO DO SERVIÇO",{"$nulls":6},"DATA BASE: ","2022-03-01"]
["FORNECIMENTO E MONTAGEM DE ESTRUTURA PARA COBERTURA COM ÁREA TOTAL DE 86,27 M² INCLUINDO CALHA E TELHA SANDUÍCHE",{"$nulls":6},"UNIDADE: ","cj"]
["MÃO DE OBRA"]
["BASE","CÓDIGO","DISCRIMINAÇÃO","UNI","QUANT.",null,null,"P.UNIT.","P.TOTAL"]
["COTAÇÃO",null,"FABRICAÇÃO E MONTAGEM DE ESTRUTURA METÁLICA PARA COBERTURA DE UNIDADE COM ÁREA TOTAL DE 86,26 M²","cj",1,null,null,24877.99,{"$f":"E81*H81","v":24877.99}]
["SUB-TOTAL",{"$nulls":7},{"$f":"SUM(I81:I81)","v":24877.99}]
["PRODUÇÃO DA EQUIPE",null,null,1,"CUSTO ",null,null,null,{"$f":"SUM(I82)","v":24877.99}]
["TOTAL - R$",{"$nulls":7},{"$f":"I83/D83","v":24877.99}]
["BDI                %",{"$nulls":7},1]
["TOTAL DO SERVIÇO - R$",{"$nulls":7},{"$f":"I84*I85","v":24877.99}]
[]
[" COMPOSIÇÃO DE PREÇO UNITÁRIO",{"$nulls":7},"CPU011","XX"]
["DESCRIÇÃO DO SERVIÇO",{"$nulls":6},"DATA BASE: ","2022-03-01"]
["FORNECIMENTO E MONTAGEM DE ESTRUTURA PARA COBERTURA COM ÁREA TOTAL DE 137,9 M² INCLUINDO CALHA E TELHA SANDUÍCHE",{"$nulls":6},"UNIDADE: ","cj"]
["MÃO DE OBRA"]
["BASE","CÓDIGO","DISCRIMINAÇÃO","UNI","QUANT.",null,null,"P.UNIT.","P.TOTAL"]
["COTAÇÃO",null,"FABRICAÇÃO E MONTAGEM DE ESTRUTURA METÁLICA PARA COBERTURA DE UNIDADE COM ÁREA TOTAL DE 137,9 M²","cj",1,null,null,39043.9,{"$f":"E93*H93","v":39043.9}]
["SUB-TOTAL",{"$nulls":7},{"$f":"SUM(I93:I93)","v":39043.9}]
["PRODUÇÃO DA EQUIPE",null,null,1,"CUSTO ",null,null,null,{"$f":"SUM(I94)","v":39043.9}]
["TOTAL - R$",{"$nulls":7},{"$f":"I95/D95","v":39043.9}]
["BDI                %",{"$nulls":7},1]
["TOTAL DO SERVIÇO - R$",{"$nulls":7},{"$f":"I96*I97","v":39043.9}]
[]
[" COMPOSIÇÃO DE PREÇO UNITÁRIO",{"$nulls":7},"CPU004","XX"]
["DESCRIÇÃO DO SERVIÇO",{"$nulls":6},"DATA BASE: ","2025-03-01"]
["MODIFICAÇÕES NO CONTAINER COM CORTE POR ESMERILHADEIRA ",{"$nulls":6},"UNIDADE: ","m"]
["MATERIAL"]
["BASE","CÓDIGO","DISCRIMINAÇÃO","UNI","QUANT.",null,null,"P.UNIT.","P.TOTAL"]
["SINAPI",11359,"ESMERILHADEIRA ANGULAR ELETRICA, DIAMETRO DO DISCO 7 '' (180 MM), ROTACAO 8500RPM, POTENCIA 2400 W","un",0.04,null,null,935,{"$f":"E105*H105","v":37.4}]
["SINAPI",44531,"DISCO DE CORTE DIAMANTADO SEGMENTADO DIAMETRO DE 180 MM PARA ESMERILHADEIRA 7 \"","un",0.5,null,null,84.74,{"$f":"E106*H106","v":42.37}]
["SUB-TOTAL",{"$nulls":7},{"$f":"SUM(I105:I106)","v":79.77}]
["MÃO DE OBRA"]
["BASE","CÓDIGO","DISCRIMINAÇÃO","UNI","QUANT.",null,null,"P.UNIT.","P.TOTAL"]
["SINAPI",88317,"SOLDADOR COM ENCARGOS COMPLEMENTARES ","h",0.25,null,null,33.520000000000003,{"$f":"E110*H110","v":8.3800000000000008}]
["SINAPI",88315,"SERRALHEIRO COM ENCARGOS COMPLEMENTARES ","h",0.25,null,null,30.97,{"$f":"E111*H111","v":7.7424999999999997}]
["SUB-TOTAL",{"$nulls":7},{"$f":"SUM(I110:I111)","v":16.122500000000002}]
["PRODUÇÃO DA EQUIPE",null,null,1,"CUSTO ",null,null,null,{"$f":"I112+I107","v":95.892499999999998}]
["TOTAL - R$",{"$nulls":7},{"$f":"I113/D113","v":95.892499999999998}]
["BDI                %",{"$nulls":7},1]
["TOTAL DO SERVIÇO - R$",{"$nulls":7},{"$f":"I114*I115","v":95.892499999999998},null,91.87]
[]
[" COMPOSIÇÃO DE PREÇO UNITÁRIO",{"$nulls":7},"CPU005","XX"]
["DESCRIÇÃO DO SERVIÇO",{"$nulls":6},"DATA BASE: ","2025-03-01"]
["MODIFICAÇÕES NO CONTAINER UNIÃO ATRAVÉS DO PROCESSO DE SOLDAGEM, INCLUSO IÇAMENTO DO CONTAINER",{"$nulls":6},"UNIDADE: ","m"]
["EQUIPAMENTO"]
["BASE","CÓDIGO","DISCRIMINAÇÃO","UNI","QUANT.",null,null,"P.UNIT.","P.TOTAL"]
["SINAPI",92716,"APARELHO PARA CORTE E SOLDA OXI-ACETILENO SOBRE RODAS, INCLUSIVE CILINDROS E MAÇARICOS ","chp",0.18459999999999999,null,null,112.08,{"$f":"E123*H123","v":20.689967999999997}]
["SINAPI",92715,"APARELHO PARA CORTE E SOLDA OXI-ACETILENO SOBRE RODAS, INCLUSIVE CILINDROS E MAÇARICOS - MATERIAIS NA OPERAÇÃO. ","h",1.56,null,null,111.61,{"$f":"E124*H124","v":174.11160000000001}]
["SINAPI",5928,"GUINDAUTO HIDRÁULICO, CAPACIDADE MÁXIMA DE CARGA 6200 KG, MOMENTO MÁXIMO DE CARGA 11,7 TM, ALCANCE MÁXIMO HORIZONTAL 9,70 M, INCLUSIVE CAMINHÃO TOCO PBT 16.000 KG, POTÊNCIA DE 189 CV","chp",0.23880000000000001,null,null,286.85000000000002,{"$f":"E125*H125","v":68.499780000000015}]
["SUB-TOTAL",{"$nulls":7},{"$f":"SUM(I123:I125)","v":263.30134800000002}]
["SERVIÇOS - COMPOSIÇÕES AUXILIARES"]
["BASE","CÓDIGO","DISCRIMINAÇÃO","UNI","QUANT.",null,null,"P.UNIT.","P.TOTAL"]
["SINAPI",98746,"SOLDA DE TOPO EM CHAPA/PERFIL/TUBO DE AÇO CHANFRADO, ESPESSURA=1/4''. ","m",1,null,null,90.92,{"$f":"E129*H129","v":90.92}]
["SUB-TOTAL",{"$nulls":7},{"$f":"SUM(I129:I129)","v":90.92}]
["MÃO DE OBRA"]
["BASE","CÓDIGO","DISCRIMINAÇÃO","UNI","QUANT.",null,null,"P.UNIT.","P.TOTAL"]
["SINAPI",88317,"SOLDADOR COM ENCARGOS COMPLEMENTARES ","h",1.56,null,null,33.520000000000003,{"$f":"E133*H133","v":52.291200000000003}]
["SUB-TOTAL",{"$nulls":7},{"$f":"SUM(I133:I133)","v":52.291200000000003}]
["PRODUÇÃO DA EQUIPE",null,null,1,"CUSTO ",null,null,null,{"$f":"I134+I126+I130","v":406.51254800000004}]
["TOTAL - R$",{"$nulls":7},{"$f":"I135/D135","v":406.51254800000004}]
["BDI                %",{"$nulls":7},1]
["TOTAL DO SERVIÇO - R$",{"$nulls":7},{"$f":"I136*I137","v":406.51254800000004},null,290]
[]
[" COMPOSIÇÃO DE PREÇO UNITÁRIO",{"$nulls":7},"CPU006"]
["DESCRIÇÃO DO SERVIÇO",{"$nulls":6},"DATA BASE: ","2025-03-01"]
["REVESTIMENTO DE PAREDES EM CHAPAS DE AÇO INOXIDÁVEL AISI 304 - CONSIDERANDO CHAPA DE 1,2mm",{"$nulls":6},"UNIDADE: ","M²"]
["APENAS MATERIAL"]
["BASE","CÓDIGO","DISCRIMINAÇÃO","UNI","QUANT.",null,null,"P.UNIT.","P.TOTAL"]
["COTAÇÃO",null,"CHAPAS DE AÇO INOXIDÁVEL AISI 304","KG",9.6,null,null,34,{"$f":"E145*H145","v":326.39999999999998}]
["SINAPI",131,"ADESIVO ESTRUTURAL A BASE DE RESINA EPOXI, BICOMPONENTE, PASTOSO (TIXOTROPICO)","KG",0.6,null,null,40.56,{"$f":"E146*H146","v":24.336000000000002}]
["SUB-TOTAL",{"$nulls":7},{"$f":"SUM(I145:I146)","v":350.73599999999999}]
["TOTAL - R$",{"$nulls":7},{"$f":"I147","v":350.73599999999999}]
["BDI                %",{"$nulls":7},1]
["TOTAL DO SERVIÇO - R$",{"$nulls":7},{"$f":"I148*I149","v":350.73599999999999}]
[]
[" COMPOSIÇÃO DE PREÇO UNITÁRIO",{"$nulls":7},"CPU007"]
["DESCRIÇÃO DO SERVIÇO",{"$nulls":6},"DATA BASE: ","2025-03-01"]
["REVESTIMENTO CERÂMICO PARA PISO COM PLACAS TIPO ESMALTADA DE DIMENSÕES 45x45cm COM ARGAMASSA AC III",{"$nulls":6},"UNIDADE: ","m²"]
["MATERIAL"]
["BASE","CÓDIGO","DISCRIMINAÇÃO","UNI","QUANT.",null,null,"P.UNIT.","P.TOTAL"]
["Sinapi",37596,"ARGAMASSA COLANTE TIPO AC III E","KG",9.1325000000000003,null,null,2.61,{"$f":"E157*H157","v":23.835825}]
["Sinapi",1287,"PISO EM CERAMICA ESMALTADA EXTRA, COR LISA, PEI MAIOR OU IGUAL A 4, FORMATO MENOR OU IGUAL A 5 CM2","m²",1.1135999999999999,null,null,31.95,{"$f":"E158*H158","v":35.579519999999995}]
["Sinapi",34357,"REJUNTE CIMENTÍCIO, QUALQUER COR","KG",0.188,null,null,4.34,{"$f":"E159*H159","v":0.81591999999999998}]
["SUB-TOTAL",{"$nulls":7},{"$f":"SUM(I157:I159)","v":60.231264999999993}]
["MÃO DE OBRA"]
["BASE","CÓDIGO","DISCRIMINAÇÃO","UNI","QUANT.",null,null,"P.UNIT.","P.TOTAL"]
["SINAPI",88317,"AZULEJISTA OU LADRILHISTA COM ENCARGOS COMPLEMENTARES","h",0.80640000000000001,null,null,33.520000000000003,{"$f":"E163*H163","v":27.030528000000004},"REV-005 02/07/2024"]
["SINAPI",88316,"SERVENTE COM ENCARGOS COMPLEMENTARES","h",0.20680000000000001,null,null,22.64,{"$f":"E164*H164","v":4.6819520000000008}]
["SUB-TOTAL",{"$nulls":7},{"$f":"SUM(I163:I164)","v":31.712480000000006}]
["PRODUÇÃO DA EQUIPE",null,null,1,"CUSTO ",null,null,null,{"$f":"I165+I160","v":91.943745000000007}]
["TOTAL - R$",{"$nulls":7},{"$f":"I166/D166","v":91.943745000000007}]
["BDI                %",{"$nulls":7},1]
["TOTAL DO SERVIÇO - R$",{"$nulls":7},{"$f":"I167*I168","v":91.943745000000007}]
[]
[" COMPOSIÇÃO DE PREÇO UNITÁRIO",{"$nulls":7},"CPU008"]
["DESCRIÇÃO DO SERVIÇO",{"$nulls":6},"DATA BASE: ","2025-03-01"]
["CHAPA XADREZ EM ALUMINIO PARA PISO e:3mm, INCLUSO REBITE PARA FIXAÇÃO - MATERIAL",{"$nulls":6},"UNIDADE: ","m"]
["MATERIAL"]
["BASE","CÓDIGO","DISCRIMINAÇÃO","UNI","QUANT.",null,null,"P.UNIT.","P.TOTAL"]
["SINAPI",1337,"CHAPA DE ACO XADREZ PARA PISOS, E = 1/4\" (6,30 MM) 54,53 KG/M2","kg",38,null,null,11.15,{"$f":"E176*H176","v":423.7}]
["SINAPI",10997,"ELETRODO REVESTIDO AWS - E7018, DIAMETRO IGUAL A 4,00 MM","Kg",2.88,null,null,62.48,{"$f":"E177*H177","v":179.94239999999999}]
["SUB-TOTAL",{"$nulls":7},{"$f":"SUM(I176:I177)","v":603.64239999999995}]
["BDI                %",{"$nulls":7},1,"REV-005 04/07/2024"]
["TOTAL DO SERVIÇO - R$",{"$nulls":7},{"$f":"I178","v":603.64239999999995}]
[]
[]
[" COMPOSIÇÃO DE PREÇO UNITÁRIO",{"$nulls":7},"CPU009"]
["DESCRIÇÃO DO SERVIÇO",{"$nulls":6},"DATA BASE: ","2025-03-01"]
["CHAPA XADREZ EM ALUMINIO PARA PISO e:3mm, INCLUSO REBITE PARA FIXAÇÃO   -  MÃO DE OBRA",{"$nulls":6},"UNIDADE: ","m"]
["MÃO DE OBRA"]
["BASE","CÓDIGO","DISCRIMINAÇÃO","UNI","QUANT.",null,null,"P.UNIT.","P.TOTAL"]
["SINAPI",88315,"SERRALHEIRO COM ENCARGOS","H",8.99,null,null,30.97,{"$f":"E188*H188","v":278.4203}]
["SINAPI",88316,"SERVENTE COM ENCARGOS COMPLEMENTARES","H",6.42,null,null,22.64,{"$f":"E189*H189","v":145.34880000000001}]
["SUB-TOTAL",{"$nulls":7},{"$f":"SUM(I188:I189)","v":423.76909999999998}]
["PRODUÇÃO DA EQUIPE",null,null,1,"CUSTO ",null,null,null,{"$f":"I190","v":423.76909999999998}]
["TOTAL - R$",{"$nulls":7},{"$f":"I191/D191","v":423.76909999999998}]
["TOTAL DO SERVIÇO - R$",{"$nulls":7},{"$f":"I191","v":423.76909999999998}]
[]
[" COMPOSIÇÃO DE PREÇO UNITÁRIO",{"$nulls":7},"CPU0010"]
["DESCRIÇÃO DO SERVIÇO",{"$nulls":6},"DATA BASE: ","2025-03-01"]
["REVESTIMENTO DE PAREDES EM CHAPAS DE AÇO INOXIDÁVEL AISI 304 - CONSIDERANDO CHAPA DE 1,2mm",{"$nulls":6},"UNIDADE: ","M²"]
["APENAS MÃO DE OBRA"]
["BASE","CÓDIGO","DISCRIMINAÇÃO","UNI","QUANT.",null,null,"P.UNIT.","P.TOTAL"]
["SINAPI",88317,"SOLDADOR COM ENCARGOS COMPLEMENTARES ","h",0.8,null,null,30.67,{"$f":"E200*H200","v":24.536000000000001}]
["SINAPI",88315,"SERRALHEIRO COM ENCARGOS COMPLEMENTARES ","h",0.8,null,null,27.91,{"$f":"E201*H201","v":22.328000000000003}]
["SUB-TOTAL",{"$nulls":7},{"$f":"SUM(I200:I201)","v":46.864000000000004}]
["PRODUÇÃO DA EQUIPE",null,null,1,"CUSTO ",null,null,null,{"$f":"I202","v":46.864000000000004}]
["TOTAL - R$",{"$nulls":7},{"$f":"I203/D203","v":46.864000000000004}]
["BDI                %",{"$nulls":7},1]
["TOTAL DO SERVIÇO - R$",{"$nulls":7},{"$f":"I204*I205","v":46.864000000000004}]
[]
[" COMPOSIÇÃO DE PREÇO UNITÁRIO",{"$nulls":7},"CPU011"]
["DESCRIÇÃO DO SERVIÇO",{"$nulls":6},"DATA BASE: ","2025-03-01"]
["GUARDA-CORPO DE AÇO CARBONO, MONTANTES TUBULARES DE 1.1/2\" ESPAÇADOS EM 0,75M, ALTURA APROXIMADA DE 0,90M, PREPARADO COM FUNDO E TINTA EPÓXI NA COR AMARELA",{"$nulls":6},"UNIDADE: ","m"]
["MATERIAL"]
["BASE","CÓDIGO","DISCRIMINAÇÃO","UNI","QUANT.",null,null,"P.UNIT.","P.TOTAL"]
["SINAPI",1332,"CHAPA DE ACO GROSSA, ASTM A36, E = 3/8 \" (9,53 MM) 74,69 KG/M2","KG","0,8960000",null,null,9.92,{"$f":"E213*H213","v":8.8883200000000002}]
["SINAPI",11002,"ELETRODO REVESTIDO AWS - E6013, DIAMETRO IGUAL A 2,50 MM","KG","0,0650000",null,null,60,3.9000000000000004]
["SINAPI",11964,"PARAFUSO DE ACO TIPO CHUMBADOR PARABOLT, DIAMETRO 3/8\", COMPRIMENTO 75 MM","UN","3,3330000",null,null,2.87,9.565710000000001]
["SINAPI",21001,"TUBO ACO CARBONO COM COSTURA, NBR 5580, CLASSE L, DN = 25 MM, E = 2,65 MM, 2,02 KG/M","M",1.0417000000000001,null,null,28,29.1676]
["SINAPI",21003,"TUBO ACO CARBONO COM COSTURA, NBR 5580, CLASSE L, DN = 40 MM, E = 3,0 MM, 3,34 KG/M","M",3.0250000000000004,null,null,46.01,139.18025]
["SINAPI",100719,"PINTURA COM TINTA ALQUÍDICA DE FUNDO (TIPO ZARCÃO) PULVERIZADA SOBRE PERFIL METÁLICO EXECUTADO EM FÁBRICA (POR DEMÃO). AF_01/2020_PE","M2",1.1000000000000001,null,null,13.72,15.092000000000002]
["SINAPI",100729,"PINTURA COM TINTA EPOXÍDICA DE ACABAMENTO PULVERIZADA SOBRE PERFIL METÁLICO EXECUTADO EM FÁBRICA (POR DEMÃO). AF_01/2020_PE","M2",1.1000000000000001,null,null,25.54,{"$f":"E219*H219","v":28.094000000000001}]
["SUB-TOTAL",{"$nulls":7},{"$f":"SUM(I213:I219)","v":233.88788000000002}]
["MÃO DE OBRA"]
["BASE","CÓDIGO","DISCRIMINAÇÃO","UNI","QUANT.",null,null,"P.UNIT.","P.TOTAL"]
["SINAPI",88251,"AUXILIAR DE SERRALHEIRO COM ENCARGOS COMPLEMENTARES","H",8,null,null,25.02,{"$f":"E223*H223","v":200.16}]
["SINAPI",88315,"SERRALHEIRO COM ENCARGOS COMPLEMENTARES","H",5.333333333333333,null,null,30.97,{"$f":"E224*H224","v":165.17333333333332}]
["SUB-TOTAL",{"$nulls":7},{"$f":"SUM(I223:I224)","v":365.33333333333331}]
["PRODUÇÃO DA EQUIPE",null,null,1,"CUSTO ",null,null,null,{"$f":"I225+I220","v":599.22121333333337}]
["TOTAL - R$",{"$nulls":7},{"$f":"I226/D226","v":599.22121333333337}]
["BDI                %",{"$nulls":7},1]
["TOTAL DO SERVIÇO - R$",{"$nulls":7},{"$f":"I227*I228","v":599.22121333333337}]
[]
[" COMPOSIÇÃO DE PREÇO UNITÁRIO",{"$nulls":7},"CPU012"]
["DESCRIÇÃO DO SERVIÇO",{"$nulls":6},"DATA BASE: ","2025-03-01"]
["FORNECIMENTO DE CONTAINER DRY BOX 20 PÉS 6,1X2,21X2,6 (COMPXLARGXALTU)",{"$nulls":6},"UNIDADE: ","un"]
["MATERIAL"]
["BASE","CÓDIGO","DISCRIMINAÇÃO","UNI","QUANT.",null,null,"P.UNIT.","P.TOTAL"]
["COTAÇÃO","-","CONTAINER DRY BOX 20 PÉS 6,1X2,21X2,6 (COMPXLARGXALTU)","un",1,null,null,19283,{"$f":"E236*H236","v":19283}]
["COTAÇÃO","-","FRETE DE CONTAINER TIPO CIF","un",1,null,null,null,{"$f":"E237*H237","v":0}]
["SUB-TOTAL",{"$nulls":7},{"$f":"SUM(I236:I237)","v":19283}]
["MÃO DE OBRA"]
["BASE","CÓDIGO","DISCRIMINAÇÃO","UNI","QUANT.",null,null,"P.UNIT.","P.TOTAL"]
["-","-","-","-","-",null,null,"-","-"]
["SUB-TOTAL",{"$nulls":7},{"$f":"SUM(I241:I241)","v":0}]
["PRODUÇÃO DA EQUIPE",null,null,1,"CUSTO ",null,null,null,{"$f":"I242+I238","v":19283}]
["TOTAL - R$",{"$nulls":7},{"$f":"I243/D243","v":19283}]
["BDI                %",{"$nulls":7},1]
["TOTAL DO SERVIÇO - R$",{"$nulls":7},{"$f":"I244*I245","v":19283}]
[]
[" COMPOSIÇÃO DE PREÇO UNITÁRIO",{"$nulls":7},"CPU012"]
["DESCRIÇÃO DO SERVIÇO",{"$nulls":6},"DATA BASE: ","2025-03-01"]
["FORNECIMENTO DE CONTAINER HIGH CUBE 40 PÉS 12,2X2,3X2,9 (COMPXLARGXALTU)",{"$nulls":6},"UNIDADE: ","un"]
["MATERIAL"]
["BASE","CÓDIGO","DISCRIMINAÇÃO","UNI","QUANT.",null,null,"P.UNIT.","P.TOTAL"]
["COTAÇÃO","-","CONTAINER HIGH CUBE 40 PÉS 12,2X2,3X2,9 (COMPXLARGXALTU)","un",1,null,null,20412,{"$f":"E253*H253","v":20412}]
["COTAÇÃO","-","FRETE DE CONTAINER TIPO CIF","un",1,null,null,null,{"$f":"E254*H254","v":0}]
["SUB-TOTAL",{"$nulls":7},{"$f":"SUM(I253:I254)","v":20412}]
["MÃO DE OBRA"]
["BASE","CÓDIGO","DISCRIMINAÇÃO","UNI","QUANT.",null,null,"P.UNIT.","P.TOTAL"]
["-","-","-","-","-",null,null,"-","-"]
["SUB-TOTAL",{"$nulls":7},{"$f":"SUM(I258:I258)","v":0}]
["PRODUÇÃO DA EQUIPE",null,null,1,"CUSTO ",null,null,null,{"$f":"I259+I255","v":20412}]
["TOTAL - R$",{"$nulls":7},{"$f":"I260/D260","v":20412}]
["BDI                %",{"$nulls":7},1]
["TOTAL DO SERVIÇO - R$",{"$nulls":7},{"$f":"I261*I262","v":20412}]
[]
[" COMPOSIÇÃO DE PREÇO UNITÁRIO",{"$nulls":7},"CPU013"]
["DESCRIÇÃO DO SERVIÇO",{"$nulls":6},"DATA BASE: ","2025-03-01"]
["FORNECIMENTO E INSTALAÇÃO DE SUPORTE PARA CAIXA D'ÁGUA EM METALON",{"$nulls":6},"UNIDADE: ","un"]
["MATERIAL"]
["BASE","CÓDIGO","DISCRIMINAÇÃO","UNI","QUANT.",null,null,"P.UNIT.","P.TOTAL"]
["ORSE","08851/ORSE","Tubo industrial, em aço, quadrado, dim 50 x 50 mm, e=2,00mm, 4,476 kg/m","m",{"$f":"5.4*1.1","v":5.9400000000000013},null,null,80.040000000000006,{"$f":"E270*H270","v":475.43760000000015}]
["ORSE","03664/ORSE","Chapa aço fina preta lisa nº14, e=2,00mm (16,0 kg/m2)","m2",{"$f":"2.427*1.075*1.1","v":2.8699275000000002},null,null,142.56,{"$f":"E271*H271","v":409.13686440000004}]
["SINAPI",100719,"PINTURA COM TINTA ALQUÍDICA DE FUNDO (TIPO ZARCÃO) PULVERIZADA SOBRE PERFIL METÁLICO EXECUTADO EM FÁBRICA (POR DEMÃO). AF_01/2020_PE","m2",{"$f":"SUM(E273,E270)*2","v":22.558800000000005},null,null,13.72,{"$f":"E272*H272","v":309.5067360000001}]
["ORSE","13120/ORSE","Perfil Aço, UDC Enrijecido 75 x 40 x 3,43(kg/m) - SAE 1008/1012","kg",{"$f":"2.427*2*1.1","v":5.3394000000000004},null,null,15.4,{"$f":"E273*H273","v":82.226760000000013}]
["SUB-TOTAL",{"$nulls":7},{"$f":"SUM(I270:I273)","v":1276.3079604000002}]
["MÃO DE OBRA"]
["BASE","CÓDIGO","DISCRIMINAÇÃO","UNI","QUANT.",null,null,"P.UNIT.","P.TOTAL"]
["SINAPI",88251,"AUXILIAR DE SERRALHEIRO COM ENCARGOS COMPLEMENTARES","H",{"$f":"20*2","v":40},null,null,25.02,{"$f":"H277*E277","v":1000.8}]
["SINAPI",88315,"SERRALHEIRO COM ENCARGOS COMPLEMENTARES","H",{"$f":"20*2","v":40},null,null,30.97,{"$f":"H278*E278","v":1238.8}]
["SUB-TOTAL",{"$nulls":7},{"$f":"SUM(I277:I278)","v":2239.6}]
["PRODUÇÃO DA EQUIPE",null,null,1,"CUSTO ",null,null,null,{"$f":"I279+I274","v":3515.9079603999999}]
["TOTAL - R$",{"$nulls":7},{"$f":"I280/D280","v":3515.9079603999999}]
["BDI                %",{"$nulls":7},1]
["TOTAL DO SERVIÇO - R$",{"$nulls":7},{"$f":"I281*I282","v":3515.9079603999999}]