Workbook
Name \: #REF!
Name \: #REF!
Name \0: #REF!
Name \0: #REF!
Name \a: #REF!
Name \a: #REF!
Name \b: [1]SID_NI_5!#REF!
Name \b: [1]SID_NI_5!#REF!
Name \c: [1]SID_NI_5!#REF!
Name \c: [1]SID_NI_5!#REF!
Name \e: #REF!
Name \e: #REF!
Name \fagf: #REF!
Name \I: #REF!
Name \p: [1]SID_NI_5!#REF!
Name \q: #REF!
Name \S: [2]COMPOS1!#REF!
Name \y: #N/A
Name ____________________________________PL1: #REF!
Name ___________________________________PL1: #REF!
Name __________________________________PL1: #REF!
Name _________________________________PL1: #REF!
Name ________________________________PL1: #REF!
Name _______________________________PL1: #REF!
Name ______________________________PL1: #REF!
Name _____________________________PL1: #REF!
Name ____________________________PL1: #REF!
Name ___________________________PL1: #REF!
Name __________________________PL1: #REF!
Name _________________________PL1: #REF!
Name _________________________tt1: #N/A
Name ________________________PL1: #REF!
Name ________________________tt1: #N/A
Name _______________________PL1: #REF!
Name _______________________tt1: #N/A
Name ______________________CAP20: #REF!
Name ______________________PL1: #REF!
Name ______________________TB10: #REF!
Name ______________________TCB5: #REF!
Name ______________________tcc4: #REF!
Name ______________________tt1: #N/A
Name _____________________CAP20: #REF!
Name _____________________PL1: #REF!
Name _____________________TB10: #REF!
Name _____________________TCB5: #REF!
Name _____________________tcc4: #REF!
Name _____________________tt1: #N/A
Name ____________________PL1: #REF!
Name ____________________tcc4: #REF!
Name ____________________tt1: #N/A
Name ___________________CAP20: #REF!
Name ___________________PL1: #REF!
Name ___________________TB10: #REF!
Name ___________________TCB5: #REF!
Name ___________________tcc4: #REF!
Name ___________________tt1: #N/A
Name __________________CAP20: #REF!
Name __________________PL1: #REF!
Name __________________TB10: #REF!
Name __________________TCB5: #REF!

Sheet ORÇAMENTO SINTÉTICO
B1: PAVIMENTAÇÃO GRANÍTICA DA ESTRADA AÇU VELHO | O1: SERGIPE
K2: BDI % = | L2: =BDI!D17 -> 0.2675 | N2: SICRO: | O2: 45748
K3: BDI DIFERENCIADO% = | L3: =BDI!D38 -> 0.15 | N3: SINAPI: | O3: 45839
B4: OBRA: PAVIMENTAÇÃO GRANÍTICA DA ESTRADA AÇU VELHO | K4: ENC. SOCIAIS | N4: ORSE: | O4: 45809
B5: LOCALIDADE: AÇU VELHO | K5: HORISTA (%) | L5: MENSALISTA (%) | N5: DATA BASE: | O5: 45901
B6: MUNICÍPIO: LAGARTO/SE | K6: ='ENC. SOCIAIS'!E48/100 -> 1.1136 | L6: ='ENC. SOCIAIS'!F48/100 -> 0.6982 | N6: DESCONTO: | O6: 0 | P6: Inserir o desconto aqui!
B7: PANILHA ORÇAMENTÁRIA
B8: ITEM | C8: ORIGEM COMPOSIÇÃO | D8: CÓDIGO COMPOSIÇÃO | E8: DISCRIMINAÇÃO DOS SERVIÇOS | I8: UND | J8: QTDE. | K8: BDI | L8: PREÇO UNITÁRIO | M8: PREÇO UNITÁRIO C/ DESCONTO | N8: PREÇO UNITÁRIO C/ DESC. E BDI | O8: PREÇO TOTAL COM BDI
E12: MOBILIZAÇÃO/DESMOBILIZAÇÃO
B13: 1 | C13: CODEVASF | D13: Mob | E13: Mobilização | I13: kmxfrente | J13: ='MC MODULO'!F15 -> 69 | K13: =$L$2 -> 0.2675 | L13: =Mob!$B$25 -> 41.96 | M13: =TRUNC(L13*(1-$O$6),2) -> 41.96 | N13: =TRUNC(M13*(1+K13),2) -> 53.18 | O13: =TRUNC(J13*N13,2) -> 3669.42
B14: 2 | C14: CODEVASF | D14: Mob | E14: Desmobilização | I14: kmxfrente | J14: ='MC MODULO'!F20 -> 69 | K14: =$L$2 -> 0.2675 | L14: =Mob!$B$25 -> 41.96 | M14: =TRUNC(L14*(1-$O$6),2) -> 41.96 | N14: =TRUNC(M14*(1+K14),2) -> 53.18 | O14: =TRUNC(J14*N14,2) -> 3669.42
E15: INSTALAÇÃO DE CANTEIRO
B16: 3 | C16: CODEVASF | D16: Canteiro | E16: Canteiro de Obras e Almoxarifado | I16: frente | J16: ='MC MODULO'!B27 -> 1 | K16: =$L$2 -> 0.2675 | L16: =' Canteiro'!$F$11 -> 4786.86 | M16: =TRUNC(L16*(1-$O$6),2) -> 4786.86 | N16: =TRUNC(M16*(1+K16),2) -> 6067.34 | O16: =TRUNC(J16*N16,2) -> 6067.34
B17: 4 | C17: SINAPI | D17: 103689 | E17: Fornecimento e instalação de placa de obra com chapa galvanizada e estrutura de madeira. af_03/2022_ps | I17: m² | J17: ='MC MODULO'!H32 -> 8 | K17: =$L$2 -> 0.2675 | L17: =CPUs!J8 -> 350.6 | M17: =TRUNC(L17*(1-$O$6),2) -> 350.6 | N17: =TRUNC(M17*(1+K17),2) -> 444.38 | O17: =TRUNC(J17*N17,2) -> 3555.04
E18: ADMINISTRAÇÃO LOCAL DA OBRA
B19: 5 | C19: CODEVASF | D19: Adm Local | E19: Administração Local da Obra | I19: und | J19: 1 | K19: =$L$2 -> 0.2675 | L19: ='Adm Local'!$H$104 -> 119900.73 | M19: =TRUNC(L19*(1-$O$6),2) -> 119900.73 | N19: =TRUNC(M19*(1+K19),2) -> 151974.17 | O19: =TRUNC(J19*N19,2) -> 151974.17
E20: TERRAPLENAGEM
B21: 6 | C21: ORSE | D21: 2496 | E21: Regularização mecanizada de áreas | I21: und | J21: ='MC MODULO'!$H$46 -> 7372.62 | K21: =$L$2 -> 0.2675 | L21: =CPUs!J21 -> 0.46 | M21: =TRUNC(L21*(1-$O$6),2) -> 0.46 | N21: =TRUNC(M21*(1+K21),2) -> 0.58 | O21: =TRUNC(J21*N21,2) -> 4276.11
E22: PAVIMENTAÇÃO
B23: 7 | C23: ORSE | D23: 9387 | E23: Paralelepípedo granítico 14x10x10 (sem frete) | I23: und | J23: ='MC MODULO'!H53 -> 309650.04 | K23: =$L$3 -> 0.15 | L23: 1.29 | M23: =TRUNC(L23*(1-$O$6),2) -> 1.29 | N23: =TRUNC(M23*(1+K23),2) -> 1.48 | O23: =TRUNC(J23*N23,2) -> 458282.05
B24: 8 | C24: CODEVASF | D24: CODEVASF 323 | E24: EXECUÇÃO DE PAVIMENTO EM PARALELEPÍPEDOS, REJUNTAMENTO COM ARGAMASSA TRAÇO 1:3 (CIMENTO E AREIA). ADAPTADA DE SINAPI (101169) | I24: m² | J24: ='MC MODULO'!H58 -> 7372.62 | K24: =$L$2 -> 0.2675 | L24: =CPUs!J29 -> 42.36 | M24: =TRUNC(L24*(1-$O$6),2) -> 42.36 | N24: =TRUNC(M24*(1+K24),2) -> 53.69 | O24: =TRUNC(J24*N24,2) -> 395835.96
E25: DRENAGEM
B26: 9 | C26: SICRO | D26: 2003377 | E26: Meio-fio de concreto - MFC 05 - areia e brita comerciais - fôrma de madeira | I26: m | J26: ='MC MODULO'!$H$65 -> 2182.73 | K26: =$L$2 -> 0.2675 | L26: =CPUs!J40 -> 58.54 | M26: =TRUNC(L26*(1-$O$6),2) -> 58.54 | N26: =TRUNC(M26*(1+K26),2) -> 74.19 | O26: =TRUNC(J26*N26,2) -> 161936.73
B27: 10 | C27: ORSE | D27: 8424 | E27: Escoramento contínuo de meio-fio, com aquisição, espalhamento e transporte de material c/distancia até 10km | I27: m | J27: ='MC MODULO'!$H$70 -> 2182.73 | K27: =$L$2 -> 0.2675 | L27: =CPUs!J56 -> 7.28 | M27: =TRUNC(L27*(1-$O$6),2) -> 7.28 | N27: =TRUNC(M27*(1+K27),2) -> 9.22 | O27: =TRUNC(J27*N27,2) -> 20124.77
E28: MOMENTO DE TRANSPORTE
B29: 11 | C29: SICRO | D29: 5915321 | E29: Transporte com caminhão basculante de 14 m³ - rodovia pavimentada | I29: tkm | J29: ='MC MODULO'!$H$81 -> 210969.75 | K29: =$L$2 -> 0.2675 | L29: =CPUs!J63 -> 0.66 | M29: =TRUNC(L29*(1-$O$6),2) -> 0.66 | N29: =TRUNC(M29*(1+K29),2) -> 0.83 | O29: =TRUNC(J29*N29,2) -> 175104.89
B30: VALOR TOTAL | O30: =1384495.9*(1-O6) -> 1384495.9

Sheet CRONOGRAMA TOTAL
A2: ='ORÇAMENTO SINTÉTICO'!B1 -> PAVIMENTAÇÃO GRANÍTICA DA ESTRADA AÇU VELHO
A3: Cronograma Físico e Financeiro
A4: Item | B4: Descrição | C4: Total Por Etapa | D4: 30 DIAS | E4: 60 DIAS | F4: 90 DIAS | G4: 120 DIAS
B5: ='ORÇAMENTO SINTÉTICO'!E12 -> MOBILIZAÇÃO/DESMOBILIZAÇÃO | C5: =SUM(D5:G5) -> 1 | D5: 0.5 | G5: 0.5
C6: =SUM('ORÇAMENTO SINTÉTICO'!O13:O14) -> 7338.84 | D6: =$C$6*D5 -> 3669.42 | E6: =$C$6*E5 -> 0 | G6: =$C$6*G5 -> 3669.42 | H6: =SUM(D6:G6) -> 7338.84 | I6: =IF(H6=C6,"OK","") -> OK
B7: ='ORÇAMENTO SINTÉTICO'!E15 -> INSTALAÇÃO DE CANTEIRO | C7: =SUM(D7:G7) -> 1 | D7: 1
C8: =SUM('ORÇAMENTO SINTÉTICO'!O16:O17) -> 9622.38 | D8: =$C$8*D7 -> 9622.38 | H8: =SUM(D8:G8) -> 9622.38 | I8: =IF(H8=C8,"OK","") -> OK
B9: ='ORÇAMENTO SINTÉTICO'!E18 -> ADMINISTRAÇÃO LOCAL DA OBRA | C9: =SUM(D9:G9) -> 1 | D9: =(D6+D8+D14+D16+D12+D18)/($C$28-$C$10) -> 0.21080747 | E9: =(E6+E8+E14+E16+E12+E18)/($C$28-$C$10) -> 0.25307803 | F9: =(F6+F8+F14+F16+F12+F18)/($C$28-$C$10) -> 0.25307803 | G9: =(G6+G8+G14+G16+G12+G18)/($C$28-$C$10) -> 0.28303646
C10: =SUM('ORÇAMENTO SINTÉTICO'!O19) -> 151974.17 | D10: =$C$10*D9 -> 32037.291 | E10: =$C$10*E9 -> 38461.324 | F10: =$C$10*F9 -> 38461.324 | G10: =$C$10*G9 -> 43014.231 | H10: =SUM(D10:G10) -> 151974.17 | I10: =IF(H10=C10,"OK","") -> OK
B11: ='MC MODULO'!B41 -> TERRAPLENAGEM | C11: =SUM(D11:G11) -> 1 | D11: 1
C12: ='ORÇAMENTO SINTÉTICO'!O21 -> 4276.11 | D12: =$C$12*D11 -> 4276.11 | H12: =SUM(D12:G12) -> 4276.11 | I12: =IF(H12=C12,"OK","") -> OK
B13: ='ORÇAMENTO SINTÉTICO'!E22 -> PAVIMENTAÇÃO | C13: =SUM(D13:G13) -> 1 | D13: 0.2 | E13: 0.25 | F13: 0.25 | G13: 0.3
C14: =SUM('ORÇAMENTO SINTÉTICO'!O23:O24) -> 854118.01 | D14: =$C$14*D13 -> 170823.6 | E14: =$C$14*E13 -> 213529.5 | F14: =$C$14*F13 -> 213529.5 | G14: =$C$14*G13 -> 256235.4 | H14: =SUM(D14:G14) -> 854118.01 | I14: =IF(H14=C14,"OK","") -> OK
B15: ='ORÇAMENTO SINTÉTICO'!E25 -> DRENAGEM | C15: =SUM(D15:G15) -> 1 | D15: 0.2 | E15: 0.3 | F15: 0.3 | G15: 0.2
C16: =SUM('ORÇAMENTO SINTÉTICO'!O26:O27) -> 182061.5 | D16: =$C$16*D15 -> 36412.3 | E16: =$C$16*E15 -> 54618.45 | F16: =$C$16*F15 -> 54618.45 | G16: =$C$16*G15 -> 36412.3 | H16: =SUM(D16:G16) -> 182061.5 | I16: =IF(H16=C16,"OK","") -> OK
B17: ='ORÇAMENTO SINTÉTICO'!E28 -> MOMENTO DE TRANSPORTE | C17: =SUM(D17:G17) -> 1 | D17: 0.2 | E17: 0.25 | F17: 0.25 | G17: 0.3
C18: ='ORÇAMENTO SINTÉTICO'!O29 -> 175104.89 | D18: =$C$18*D17 -> 35020.978 | E18: =$C$18*E17 -> 43776.223 | F18: =$C$18*F17 -> 43776.223 | G18: =$C$18*G17 -> 52531.467 | H18: =SUM(D18:G18) -> 175104.89 | I18: =IF(H18=C18,"OK","") -> OK
A20: Porcentagem | D20: =SUM(D6+D8+D10+D14+D16+D12+D18)/$H$23 -> 0.21080747 | E20: =SUM(E6+E8+E10+E14+E16+E12+E18)/$H$23 -> 0.25307803 | F20: =SUM(F6+F8+F10+F14+F16+F12+F18)/$H$23 -> 0.25307803 | G20: =SUM(G6+G8+G10+G14+G16+G12+G18)/$H$23 -> 0.28303646
A21: Custo (R$) | D21: =$H$23*D20 -> 291862.08 | E21: =$H$23*E20 -> 350385.5 | F21: =$H$23*F20 -> 350385.5 | G21: =$H$23*G20 -> 391862.82
A22: Porcentagem Acumulado | D22: =D20 -> 0.21080747 | E22: =D22+E20 -> 0.4638855 | F22: =E22+F20 -> 0.71696354 | G22: =F22+G20 -> 1
A23: Custo Acumulado (R$) | D23: =D21 -> 291862.08 | E23: =D23+E21 -> 642247.58 | F23: =E23+F21 -> 992633.08 | G23: =F23+G21 -> 1384495.9 | H23: =H6+H8+H10+H12+H14+H16+H18 -> 1384495.9
A25: Total Geral (R$) | C25: ='ORÇAMENTO SINTÉTICO'!O30 -> 1384495.9
C28: =C6+C8+C10+C14+C16+C12+C18 -> 1384495.9

Sheet BDI
B3: DETALHAMENTO DO BDI - SEM DESONERAÇÃO
B4: ='ORÇAMENTO SINTÉTICO'!B1 -> PAVIMENTAÇÃO GRANÍTICA DA ESTRADA AÇU VELHO
B6: DESCRIÇÃO DOS SERVIÇOS | C6: PREÇO DE VENDA (%) | D6: CUSTO DIRETO (%)
B7: ADMINISTRAÇÃO CENTRAL | D7: 0.06
B8: DESPESAS FINANCEIRAS | C8: 0.0108
B9: SEGUROS E GARANTIAS CONTRATUAIS | C9: 0.0025
B10: RISCOS | C10: 0.005
B11: LUCRO OPERACIONAL | D11: 0.1
B12: PIS | C12: 0.0065
B13: COFINS | C13: 0.03
B14: ISSQN | C14: =0.6*5% -> 0.03
B15: Contribuição Previdenciaria | C15: 0
C17: BDI | D17: =ROUND((1+(D7+D11))/(1-(C8+C9+C10+C12+C13+C14+C15))-1,4) -> 0.2675
B25: DETALHAMENTO DO BDI DIFERENCIADO - SEM DESONERAÇÃO
B26: ='ORÇAMENTO SINTÉTICO'!B7 -> PANILHA ORÇAMENTÁRIA
B28: DESCRIÇÃO DOS SERVIÇOS | C28: PREÇO DE VENDA (%) | D28: CUSTO DIRETO (%)
B29: ADMINISTRAÇÃO CENTRAL | D29: 0.0377
B30: DESPESA FINANCEIRAS | C30: 0.0102
B31: SEGUROS E GARANTIAS CONTRATUAIS | C31: 0.0025
B32: RISCOS | C32: 0.005
B33: LUCRO OPERACIONAL | D33: 0.05
B34: PIS | C34: 0.0065
B35: COFINS | C35: 0.03
B36: ISSQN | C36: 0
B37: Contribuição Previdenciaria | C37: 0
C38: BDI DIFERENCIADO | D38: =ROUND((1+(D29+D33))/(1-(C30+C31+C32+C34+C35+C36+C37))-1,4) -> 0.15

Sheet ENC. SOCIAIS
A6: ='ORÇAMENTO SINTÉTICO'!B1 -> PAVIMENTAÇÃO GRANÍTICA DA ESTRADA AÇU VELHO
A8: DETALHAMENTO DOS ENCARGOS SOCIAIS (%)
A9: VIGÊNCIA A PARTIR DE 01/2025 | C9: COM DESONERAÇÃO | E9: SEM DESONERAÇÃO
C11: HORISTA | D11: MENSALISTA | E11: HORISTA | F11: MENSALISTA
A13: GRUPO A
A14: A1 | B14: INSS | C14: 0 | D14: 0 | E14: 20 | F14: 20
A15: A2 | B15: SESI | C15: 1.5 | D15: 1.5 | E15: 1.5 | F15: 1.5
A16: A3 | B16: SENAI | C16: 1 | D16: 1 | E16: 1 | F16: 1
A17: A4 | B17: INCRA | C17: 0.2 | D17: 0.2 | E17: 0.2 | F17: 0.2
A18: A5 | B18: SEBRAE | C18: 0.6 | D18: 0.6 | E18: 0.6 | F18: 0.6
A19: A6 | B19: Salário Educação | C19: 2.5 | D19: 2.5 | E19: 2.5 | F19: 2.5
A20: A7 | B20: Seguro Contra Acidentes de Trabalho | C20: 3 | D20: 3 | E20: 3 | F20: 3
A21: A8 | B21: FGTS | C21: 8 | D21: 8 | E21: 8 | F21: 8
A22: A9 | B22: SECONCI | C22: 1 | D22: 1 | E22: 0 | F22: -
A23: A | B23: Total | C23: =SUM(C14:C22) -> 17.8 | D23: =SUM(D14:D22) -> 17.8 | E23: =SUM(E14:E22) -> 36.8 | F23: =SUM(F14:F22) -> 36.8
A24: GRUPO B
A25: B1 | B25: Repouso Semanal Remunerado | C25: 17.88 | D25: - | E25: 17.86 | F25: -
A26: B2 | B26: Feriados | C26: 3.94 | D26: - | E26: 3.93 | F26: -
A27: B3 | B27: Auxílio-enfermidade | C27: 0.91 | D27: 0.69 | E27: 0.84 | F27: 0.65
A28: B4 | B28: 13° salário | C28: 10.98 | D28: 8.33 | E28: 10.8 | F28: 8.33
A29: B5 | B29: Licença-paternidade | C29: 0.07 | D29: 0.06 | E29: 0.06 | F29: 0.05
A30: B6 | B30: Faltas Justificadas | C30: 0.73 | D30: 0.56 | E30: 0.72 | F30: 0.56
A31: B7 | B31: Dias de chuva | C31: 1.45 | D31: - | E31: 1.48 | F31: -
A32: B8 | B32: Auxílio Acidente de Trabalho | C32: 0.11 | D32: 0.09 | E32: 0.09 | F32: 0.07
A33: B9 | B33: Férias Gozadas | C33: 11.35 | D33: 8.62 | E33: 8.54 | F33: 6.6
A34: B10 | B34: Salário Maternidade | C34: 0.03 | D34: 0.03 | E34: 0.03 | F34: 0.03
A35: B | B35: Total | C35: =SUM(C25:C34) -> 47.45 | D35: =SUM(D25:D34) -> 18.38 | E35: =SUM(E25:E34) -> 44.35 | F35: =SUM(F25:F34) -> 16.29
A36: GRUPO C
A37: C1 | B37: Aviso Prévio Indenizado | C37: 6.76 | D37: 5.14 | E37: 4.75 | F37: 3.67
A38: C2 | B38: Aviso Prévio Trabalhado | C38: 0.16 | D38: 0.12 | E38: 0.11 | F38: 0.09
A39: C3 | B39: Férias Indenizadas | C39: 2.28 | D39: 1.73 | E39: 4.72 | F39: 3.64
A40: C4 | B40: Depósito Rescisão Sem Justa Causa | C40: 3.81 | D40: 2.89 | E40: 3.49 | F40: 2.7
A41: C5 | B41: Indenização Adicional | C41: 0.57 | D41: 0.43 | E41: 0.4 | F41: 0.31
A42: C | B42: Total | C42: =SUM(C37:C41) -> 13.58 | D42: =SUM(D37:D41) -> 10.31 | E42: =SUM(E37:E41) -> 13.47 | F42: =SUM(F37:F41) -> 10.41
A43: GRUPO D
A44: D1 | B44: Reincidência de A sobre B | C44: 8.45 | D44: 3.27 | E44: 16.32 | F44: 5.99
A45: D2 | B45: Reincidência de Grupo A sobre Aviso Prévio Trabalhado e Reincidência do FGTS sobre Aviso Prévio Indenizado | C45: 0.57 | D45: 0.43 | E45: 0.42 | F45: 0.33
A46: D | B46: Total | C46: =SUM(C44:C45) -> 9.02 | D46: =SUM(D44:D45) -> 3.7 | E46: =SUM(E44:E45) -> 16.74 | F46: =SUM(F44:F45) -> 6.32
A48: T O T A L (%) | C48: =C23+C35+C42+C46 -> 87.85 | D48: =D23+D35+D42+D46 -> 50.19 | E48: =E23+E35+E42+E46 -> 111.36 | F48: =F23+F35+F42+F46 -> 69.82

Sheet MC MODULO
A4: MEMÓRIA DE QUANTITATIVOS
A6: Extensão | B6: = | C6: 1074.78 | D6: m
A7: Largura | B7: = | C7: 7 | D7: m
B10: MOBILIZAÇÃO/DESMOBILIZAÇÃO
A12: 1 | B12: Mobilização
B14: Quantidade | D14: Distância (km) | F14: Total (kmxfrente)
B15: 1 | D15: =Mob!H6 -> 69 | F15: =B15*D15 -> 69
A17: 2 | B17: Desmobilização
B19: Quantidade | D19: Distância (km) | F19: Total (kmxfrente)
B20: 1 | D20: =Mob!H6 -> 69 | F20: =B20*D20 -> 69
B22: INSTALAÇÃO DO CANTEIRO
A24: 3 | B24: Canteiro de Obras
B26: und
B27: 1
A29: 4 | B29: Placa de Obra em Chapa de Aço Galvanizado
B31: und | C31: Comprimento(m) | D31: Largura (m) | E31: Quantidade (und) | H31: Total de área de placa (m²)
B32: 1 | C32: 2 | D32: 4 | E32: 1 | H32: =C32*D32*B32*E32 -> 8
B34: ADMINISTRAÇÃO LOCAL
A36: 5 | B36: Canteiro de Obras
B38: adm | H38: Unidade
B39: 1 | H39: 1
B41: TERRAPLENAGEM
A43: 6 | B43: Regularização mecanizada
B45: Área (m²) | H45: Total (mil)
B46: =$B$58 -> 7372.62 | G46: = | H46: =B46 -> 7372.62
B48: PAVIMENTAÇÃO
A50: 7 | B50: Paralelpípedos Granítico 14x10x10
B52: Área (m²) | C52: Quantidade (und) | H52: Total (mil)
B53: =$B$58 -> 7372.62 | C53: =42 -> 42 | G53: = | H53: =C53*B53 -> 309650.04
A55: 8 | B55: Execução de pavimento em paralelpípedos, rejuntamento com argamassa traço 1:3 (cimento e areia). Af_05/2020
B57: Área (m²) | C57: *Área de projeto | H57: Área (m²)
B58: 7372.62 | G58: = | H58: =B58 -> 7372.62
B60: DRENAGEM
A62: 9 | B62: Meio-fio de concreto - MFC 05 - areia e brita comerciais - fôrma de madeira
B64: Extensão (m) | C64: *Extensão de projeto | H64: Extensão (m)
B65: 2182.73 | G65: = | H65: =B65 -> 2182.73
A67: 10 | B67: Escoramento contínuo de meio-fio
B69: Extensão (m) | C69: *Extensão de projeto | H69: Extensão (m)
B70: 2182.73 | G70: = | H70: =B70 -> 2182.73
B72: MOMENTO DE TRANSPORTE
...

Sheet Mob
A4: ='ORÇAMENTO SINTÉTICO'!B1 -> PAVIMENTAÇÃO GRANÍTICA DA ESTRADA AÇU VELHO
A5: MOBILIZAÇÃO/DESMOBILIZAÇÃO (MOB) | F5: Frentes de serviços | H5: 1
F6: Distância da Capital ao Canteiro: | H6: 69
F8: Velocidade média de transporte (pavim.): | H8: 60
A10: Transporte dos equipamentos
A11: CODIGO | B11: EQUIPAMENTO | C11: VEÍCULO TRANSPORTADOR | D11: QTDE | E11: K | F11: FU | G11: CUSTO DO TRANSPORTE
G12: (R$/h) | H12: (R$)/km
A13: E9125 | B13: Veículo tipo van furgão com capacidade de 1,54 t - 93 kW | C13: E9125 | D13: 2 | E13: 1 | F13: 1 | G13: 86.9035 | H13: =TRUNC(G13*D13*E13*F13/$H$8,4) -> 2.8967 | I13: =(1/60)*D13*E13*F13 -> 0.033333333
A14: E9093 | B14: Veículo leve - 53 kW (sem motorista) | C14: E9512 | D14: 2 | E14: 1 | F14: 1 | G14: 68.6968 | H14: =TRUNC(G14*D14*E14*F14/$H$8,4) -> 2.2898 | I14: =(1/60)*D14*E14*F14 -> 0.033333333
A15: E9592 | B15: Caminhão carroceria com capacidade de 15 t - 188 kW | C15: E9592 | D15: 1 | E15: 1 | F15: 1 | G15: 267.088 | H15: =TRUNC(G15*D15*E15*F15/$H$8,4) -> 4.4514 | I15: =(1/60)*D15*E15*F15 -> 0.016666667
A16: 10777 | B16: CONTAINER 2,30 X 4,30 M, ALT. 2,50 M, PARA SANITARIO | C16: E9665 | D16: 1 | E16: 2 | F16: 0.5 | G16: 407.6473 | H16: =TRUNC(G16*D16*E16*F16/$H$8,4) -> 6.7941 | I16: =(1/60)*D16*E16*F16 -> 0.016666667
A17: E9524 | B17: Motoniveladora - 93 kW | C17: E9665 | D17: 1 | E17: 2 | F17: 1 | G17: 407.6473 | H17: =TRUNC(G17*D17*E17*F17/$H$8,4) -> 13.5882 | I17: =(1/60)*D17*E17*F17 -> 0.033333333
A18: 10776 | B18: CONTAINER 2,30 X 6,00 M, ALT. 2,50 M, PARA ESCRITORIO | C18: E9665 | D18: 1 | E18: 2 | F18: 0.5 | G18: 407.6473 | H18: =TRUNC(G18*D18*E18*F18/$H$8,4) -> 6.7941 | I18: =(1/60)*D18*E18*F18 -> 0.016666667
A19: E9667 | B19: Caminhão basculante com capacidade de 14 m³ - 188 kW | C19: E9667 | D19: 1 | E19: 1 | F19: 1 | G19: 309.2671 | H19: =TRUNC(G19*D19*E19*F19/$H$8,4) -> 5.1544 | I19: =(1/60)*D19*E19*F19 -> 0.016666667
G20: TOTAL | H20: =TRUNC(SUM(H13:H19),2) -> 41.96
A23: CUSTO TOTAL MOBILIZAÇÃO E DESMOBILIZAÇÃO
A24: DESCRIÇÃO | B24: VALOR
A25: Custo Mobilização (km) | B25: =H20 -> 41.96
A26: BDI (%) | B26: =BDI!D17 -> 0.2675
A27: Custo Mobilização (R$/km) com BDI | B27: =TRUNC(B25+(B25*B26),2) -> 53.18

Sheet  Canteiro
A4: CANTEIRO DE OBRAS PARA CONSTRUÇÃO RODOVIÁRIA
A5: Descrição dos serviços | B5: Tipo de container | C5: Unidade | D5: Quantidade | E5: Preço unitário (R$) | F5: Total (R$)
A6: Escritório e seção técnica
A7: LOCACAO DE CONTAINER 2,30 X 6,00 M, ALT. 2,50 M, PARA ESCRITORIO, SEM DIVISORIAS INTERNAS E SEM SANITARIO (NAO INCLUI MOBILIZACAO/DESMOBILIZACAO) | B7: 10776 | C7: und | D7: 1 | E7: 650.39 | F7: =TRUNC(D7*E7,2) -> 650.39
A8: Banheiro e vestiário
A9: LOCACAO DE CONTAINER 2,30 X 4,30 M, ALT. 2,50 M, PARA SANITARIO, COM 3 BACIAS, 4 CHUVEIROS, 1 LAVATORIO E 1 MICTORIO (NAO INCLUI MOBILIZACAO/DESMOBILIZACAO) | B9: 10777 | C9: und | D9: 1 | E9: 945.23 | F9: =TRUNC(D9*E9,2) -> 945.23
D10: TOTAL DO CANTEIRO | F10: =SUM(F7:F9) -> 1595.62
D11: DURAÇÃO (MESES) | E11: =0.5+2+0.5 -> 3 | F11: =F10*E11 -> 4786.86
D12: BDI | F12: =BDI!D17 -> 0.2675
D13: TOTAL DO CANTEIRO (com BDI) | F13: =TRUNC(F11+(F11*F12),2) -> 6067.34
F15: =TRUNC(F10+(F10*F12),2) -> 2022.44 | G15: =3*F15 -> 6067.32

Sheet Adm Local
A4: parcela fixa da administração local (mão de obra)
A5: Código | B5: Discriminação | C5: Unidade | D5: Quantidade | F5: Custo Unitário (R$) | H5: Custo Total (R$)
B6: Mão de Obra
B7: Gerência Técnica
B8: Geral
A9: P9955 | B9: Engenheiro chefe | C9: mês | D9: 0.25 | F9: 31570.385 | H9: =F9*D9 -> 7892.5963
F10: Subtotal do Item 1.1 | H10: =SUM(H9:I9) -> 7892.5963
H11: Total da Mão de Obra da Parcela Fixa | I11: =H10 -> 7892.5963
A13: parcela fixa da administração local (veículos)
A14: Código | B14: Discriminação | C14: Unidade | D14: Quantidade | E14: Utilização Produtiva | F14: Utilização Improdutiva | G14: Custo Horário Produtivo (R$) | H14: Custo Horário Improdutivo (R$) | I14: Custo Total (R$)
A15: 2 | B15: Veículos
B16: Gerência Técnica
A17: 2.1 | B17: Geral
A18: E9093 | B18: Veículo Leve 53 kw | C18: mês | D18: =D9 -> 0.25 | E18: 44 | F18: 176 | G18: 38.023 | H18: 6.6318 | I18: =((E18*G18)+(F18*H18))*D18 -> 710.0522
A19: E9125 | B19: Van furgão a diesel - 93 kW | C19: mês | D19: 1 | E19: 44 | F19: 176 | G19: 86.9035 | H19: 48.0074 | I19: =((E19*G19)+(F19*H19))*D19 -> 12273.056
H20: Subtotal do Item 2 | I20: =SUM(I18:I19) -> 12983.109
H21: Total dos Veículos da Parcela Fixa | I21: =I20 -> 12983.109
A23: Composição de custo da equipe de produção de pavimentação
A24: Código | B24: Discriminação | C24: Unidade | D24: Quantidade | F24: Custo Unitário (R$) | H24: Custo Total (R$)
B25: Equipe de Produção de Pavimentação
A26: 3.1 | B26: Mão de Obra
A27: P9893 | B27: Encarregado de pavimentação | C27: mês | D27: 0.25 | F27: 6813.7723 | H27: =F27*D27 -> 1703.4431
F28: Subtotal do Item 3.1 | H28: =SUM(H27:H27) -> 1703.4431
A29: Código | B29: Discriminação | C29: Unidade | D29: Quantidade | E29: Utilização Produtiva | F29: Utilização Improdutiva | G29: Custo Horário Produtivo (R$) | H29: Custo Horário Improdutivo (R$) | I29: Custo Total (R$)
A30: 3.2 | B30: Veículos
A31: E9093 | B31: Veículo Leve 53 kw | C31: mês | D31: 0.25 | E31: 44 | F31: 176 | G31: =G18 -> 38.023 | H31: =H18 -> 6.6318 | I31: =((E31*G31)+(F31*H31))*D31 -> 710.0522
H32: Subtotal do Item 3.2 | I32: =SUM(I31:I31) -> 710.0522
H33: Total da Equipe de Produção de Pavimentação | I33: =I32+H28 -> 2413.4953
A34: Composição de custo da equipe topografia
A35: Código | B35: Discriminação | C35: Unidade | D35: Quantidade | F35: Custo Unitário (R$) | H35: Custo Total (R$)
B36: Equipe de Topografia
A37: 3.1 | B37: Mão de Obra
A38: P9949 | B38: Topográfo | C38: mês | D38: =0.25/4 -> 0.0625 | F38: 8431.8995 | H38: =F38*D38 -> 526.99372
A39: P9950 | B39: Auxiliar de topografia | C39: mês | D39: =0.25/4 -> 0.0625 | F39: 5714.1422 | H39: =F39*D39 -> 357.13389
F40: Subtotal do Item 3.1 | H40: =SUM(H38:I39) -> 884.12761
A41: Código | B41: Discriminação | C41: Unidade | D41: Quantidade | E41: Utilização Produtiva | F41: Utilização Improdutiva | G41: Custo Horário Produtivo (R$) | H41: Custo Horário Improdutivo (R$) | I41: Custo Total (R$)
A42: 3.2 | B42: Veículos
A43: E9093 | B43: Veículo Leve 53 kw | C43: mês | D43: =0.25/4 -> 0.0625 | E43: 44 | F43: 176 | G43: =G18 -> 38.023 | H43: =H18 -> 6.6318 | I43: =((E43*G43)+(F43*H43))*D43 -> 177.51305
H44: Subtotal do Item 3.2 | I44: =SUM(I43:I43) -> 177.51305
H45: Total da Equipe de Produção de Topografia | I45: =I44+H40 -> 1061.6407
...

Sheet CPUs
C1: Composições Analíticas com Preço Unitário | E1: Bancos | G1: B.D.I. | I1: Encargos Sociais
C2: Pavimentação Granítica da Estrada Açu Velho | E2: SINAPI - 07/2025 - Sergipe SICRO3 - 04/2025 - Sergipe ORSE - 06/2025 - Sergipe | G2: 26,75% | I2: Não Desonerado: embutido nos preços unitário dos insumos de mão de obra, de acordo com as bases.
A3: Composições Analíticas com Preço Unitário
A4: Composições Principais
A7: 2.2 | B7: Código | C7: Banco | D7: Descrição | E7: Tipo | G7: Und | H7: Quant. | I7: Valor Unit | J7: Total
A8: Composição | B8: 103689 | C8: SINAPI | D8: FORNECIMENTO E INSTALAÇÃO DE PLACA DE OBRA COM CHAPA GALVANIZADA E ESTRUTURA DE MADEIRA. AF_03/2022_PS | E8: Sinalização Vertical Viária | G8: m² | H8: 1 | I8: 350.6 | J8: 350.6
A9: Composição Auxiliar | B9: 102234 | C9: SINAPI | D9: PINTURA IMUNIZANTE PARA MADEIRA, 2 DEMÃOS. AF_01/2021 | E9: Pintura em Madeira | G9: m² | H9: 0.5 | I9: 25.87 | J9: 12.93
A10: Composição Auxiliar | B10: 88262 | C10: SINAPI | D10: CARPINTEIRO DE FORMAS COM ENCARGOS COMPLEMENTARES | E10: Livro SINAPI: Cálculos e Parâmetros | G10: H | H10: 0.3729 | I10: 25.92 | J10: 9.66
A11: Composição Auxiliar | B11: 88316 | C11: SINAPI | D11: SERVENTE COM ENCARGOS COMPLEMENTARES | E11: Livro SINAPI: Cálculos e Parâmetros | G11: H | H11: 1.1186 | I11: 21.7 | J11: 24.27
A12: Insumo | B12: 00004509 | C12: SINAPI | D12: SARRAFO *2,5 X 10* CM EM PINUS, MISTA OU EQUIVALENTE DA REGIAO - BRUTA | E12: Material | G12: M | H12: 3.2083 | I12: 5.66 | J12: 18.15
A13: Insumo | B13: 00004813 | C13: SINAPI | D13: PLACA DE OBRA (PARA CONSTRUCAO CIVIL) EM CHAPA GALVANIZADA *N. 22*, ADESIVADA, DE *2,4 X 1,2* M (SEM POSTES PARA FIXACAO) | E13: Material | G13: m² | H13: 1 | I13: 285 | J13: 285
A14: Insumo | B14: 00005065 | C14: SINAPI | D14: PREGO DE ACO POLIDO COM CABECA 10 X 10 (7/8 X 17) | E14: Material | G14: KG | H14: 0.0113 | I14: 32.7 | J14: 0.36
A15: Insumo | B15: 00005069 | C15: SINAPI | D15: PREGO DE ACO POLIDO COM CABECA 17 X 27 (2 1/2 X 11) | E15: Material | G15: KG | H15: 0.0132 | I15: 17.52 | J15: 0.23
A20: 4.2 | B20: Código | C20: Banco | D20: Descrição | E20: Tipo | G20: Und | H20: Quant. | I20: Valor Unit | J20: Total
A21: Composição | B21: 2496 | C21: ORSE | D21: Regularização mecanizada de áreas | E21: Regularização de Áreas | G21: m² | H21: 1 | I21: 0.46 | J21: 0.46
A22: Composição Auxiliar | B22: 10549 | C22: ORSE | D22: Encargos Complementares - Servente | E22: Provisórios | G22: h | H22: 0.0008 | I22: 3.88 | J22: 0
A23: Insumo | B23: 2475 | C23: ORSE | D23: Motoniveladora 15000 kg com escarificador (cat - 140M - 185,0 hp ou equivalente) | E23: Equipamento | G23: h | H23: 0.003003 | I23: 150.88 | J23: 0.45
A24: Insumo | B24: 00006111/SINAPI | C24: ORSE | D24: Servente de obras (horista) | E24: Mão de Obra | G24: h | H24: 0.0007508 | I24: 14.58 | J24: 0.01
A28: 5.2 | B28: Código | C28: Banco | D28: Descrição | E28: Tipo | G28: Und | H28: Quant. | I28: Valor Unit | J28: Total
A29: Composição | B29: CODEVASF 323 | C29: Próprio | D29: ADAPTADA DE SINAPI (101169) - EXECUÇÃO DE PAVIMENTO EM PARALELEPÍPEDOS, REJUNTAMENTO COM ARGAMASSA TRAÇO 1:3 (CIMENTO E AREIA). AF_05/2020 | E29: PAVI - PAVIMENTAÇÃO | G29: m² | H29: 1 | I29: 42.36 | J29: 42.36
A30: Composição Auxiliar | B30: 88260 | C30: SINAPI | D30: CALCETEIRO COM ENCARGOS COMPLEMENTARES | E30: Livro SINAPI: Cálculos e Parâmetros | G30: H | H30: 0.4021 | I30: 26.14 | J30: 10.51
A31: Composição Auxiliar | B31: 88316 | C31: SINAPI | D31: SERVENTE COM ENCARGOS COMPLEMENTARES | E31: Livro SINAPI: Cálculos e Parâmetros | G31: H | H31: 0.4021 | I31: 21.7 | J31: 8.72
A32: Composição Auxiliar | B32: 88628 | C32: SINAPI | D32: ARGAMASSA TRAÇO 1:3 (EM VOLUME DE CIMENTO E AREIA MÉDIA ÚMIDA), PREPARO MECÂNICO COM BETONEIRA 400 L. AF_08/2019 | E32: Argamassas | G32: m³ | H32: 0.0204 | I32: 559.62 | J32: 11.41
A33: Composição Auxiliar | B33: 91278 | C33: SINAPI | D33: PLACA VIBRATÓRIA REVERSÍVEL COM MOTOR 4 TEMPOS A GASOLINA, FORÇA CENTRÍFUGA DE 25 KN (2500 KGF), POTÊNCIA 5,5 CV - CHI DIURNO. AF_08/2015 | E33: Custos Horários Produtivo e Improdutivo dos Equipamentos | G33: CHI | H33: 0.1556 | I33: 0.73 | J33: 0.11
A34: Composição Auxiliar | B34: 91277 | C34: SINAPI | D34: PLACA VIBRATÓRIA REVERSÍVEL COM MOTOR 4 TEMPOS A GASOLINA, FORÇA CENTRÍFUGA DE 25 KN (2500 KGF), POTÊNCIA 5,5 CV - CHP DIURNO. AF_08/2015 | E34: Custos Horários Produtivo e Improdutivo dos Equipamentos | G34: CHP | H34: 0.0069 | I34: 11.01 | J34: 0.07
A35: Insumo | B35: 00000367 | C35: SINAPI | D35: AREIA GROSSA - POSTO JAZIDA/FORNECEDOR (RETIRADO NA JAZIDA, SEM TRANSPORTE) | E35: Material | G35: m³ | H35: 0.114 | I35: 101.3 | J35: 11.54
A39: 7.2 | B39: Código | C39: Banco | D39: Descrição | E39: Tipo | G39: Und | H39: Quant. | I39: Valor Unit | J39: Total
A40: Composição | B40: 2003377 | C40: SICRO3 | D40: Meio-fio de concreto - MFC 05 - areia e brita comerciais - fôrma de madeira | G40: m | H40: 1 | I40: 58.54 | J40: 58.54
F41: Custo Horário de Execução => | J41: 0
F42: Fator de Influencia da Chuva - FIC => | J42: 0
F43: Custo do FIC => | J43: 0
F44: Produção de Equipe => | J44: 1
F45: Custo Unitário de Execução => | J45: 0
A46: D | B46: Banco | C46: Código | D46: Atividades Auxiliares | E46: Quantidade | F46: Unidade | G46: Preço Unitário | J46: Custo Horário
A47: Atividade Auxiliar | B47: SICRO3 | C47: 1107892 | D47: Concreto fck = 20 MPa - confecção em betoneira e lançamento manual - areia e brita comerciais | E47: 0.0334 | F47: m³ | G47: 445.49 | J47: 14.8794
A48: Atividade Auxiliar | B48: SICRO3 | C48: 1109669 | D48: Argamassa de cimento e areia 1:3 - confecção em betoneira e lançamento manual - areia comercial | E48: 0.0001 | F48: m³ | G48: 481.71 | J48: 0.0482
A49: Atividade Auxiliar | B49: SICRO3 | C49: 3103302 | D49: Fôrmas de tábuas de pinho para dispositivos de drenagem - utilização de 3 vezes - confecção, instalação e retirada | E49: 0.5141 | F49: m² | G49: 83.28 | J49: 42.8142
A50: Atividade Auxiliar | B50: SICRO3 | C50: 4805750 | D50: Escavação manual em material de 1ª categoria na profundidade de até 1 m | E50: 0.018 | F50: m³ | G50: 44.26 | J50: 0.7967
F51: Custo Total das Atividades => | J51: 58.5385
A55: 7.3 | B55: Código | C55: Banco | D55: Descrição | E55: Tipo | G55: Und | H55: Quant. | I55: Valor Unit | J55: Total
...

Sheet Curva ABC de Serviços
D1: Bancos | E1: B.D.I. | H1: Encargos Sociais
C2: ='ORÇAMENTO SINTÉTICO'!B1 -> PAVIMENTAÇÃO GRANÍTICA DA ESTRADA AÇU VELHO | D2: SINAPI - 07/2025 - Sergipe SICRO3 - 04/2025 - Sergipe ORSE - 06/2025 - Sergipe | E2: =BDI!D17 -> 0.2675 | H2: Não Desonerado: embutido nos preços unitário dos insumos de mão de obra, de acordo com as bases.
A3: Curva ABC de Serviços
A4: Código | B4: Banco | C4: Descrição | D4: Reajustamento | E4: Und | F4: Quant. | G4: Valor Unit | H4: Total | I4: Peso (%) | J4: Peso Acumulado (%)
A5: 9387 | B5: ORSE | C5: Paralelepípedo granitico (sem frete) | D5: Pavimentação | E5: un | F5: =VLOOKUP(A5,'ORÇAMENTO SINTÉTICO'!$D$13:$O$29,7,FALSE) -> 309650.04 | G5: =VLOOKUP(A5,'ORÇAMENTO SINTÉTICO'!$D$13:$O$29,11,FALSE) -> 1.48 | H5: =TRUNC(F5*G5,2) -> 458282.05 | I5: =H5/$K$17 -> 0.33101004 | J5: =I5 -> 0.33101004
A6: CODEVASF 323 | B6: Próprio | C6: ADAPTADA DE SINAPI (101169) - EXECUÇÃO DE PAVIMENTO EM PARALELEPÍPEDOS, REJUNTAMENTO COM ARGAMASSA TRAÇO 1:3 (CIMENTO E AREIA). AF_05/2020 | D6: Pavimentação | E6: m² | F6: =VLOOKUP(A6,'ORÇAMENTO SINTÉTICO'!$D$13:$O$29,7,FALSE) -> 7372.62 | G6: =VLOOKUP(A6,'ORÇAMENTO SINTÉTICO'!$D$13:$O$29,11,FALSE) -> 53.69 | H6: =TRUNC(F6*G6,2) -> 395835.96 | I6: =H6/$K$17 -> 0.2859062 | J6: =I6+J5 -> 0.61691624
A7: 5915321 | B7: SICRO3 | C7: Transporte com caminhão basculante de 14 m³ - rodovia pavimentada | D7: Drenagem | E7: tkm | F7: =VLOOKUP(A7,'ORÇAMENTO SINTÉTICO'!$D$13:$O$29,7,FALSE) -> 210969.75 | G7: =VLOOKUP(A7,'ORÇAMENTO SINTÉTICO'!$D$13:$O$29,11,FALSE) -> 0.83 | H7: =TRUNC(F7*G7,2) -> 175104.89 | I7: =H7/$K$17 -> 0.12647556 | J7: =I7+J6 -> 0.7433918
A8: 2003377 | B8: SICRO3 | C8: Meio-fio de concreto - MFC 05 - areia e brita comerciais - fôrma de madeira | D8: Drenagem | E8: m | F8: =VLOOKUP(A8,'ORÇAMENTO SINTÉTICO'!$D$13:$O$29,7,FALSE) -> 2182.73 | G8: =VLOOKUP(A8,'ORÇAMENTO SINTÉTICO'!$D$13:$O$29,11,FALSE) -> 74.19 | H8: =TRUNC(F8*G8,2) -> 161936.73 | I8: =H8/$K$17 -> 0.1169644 | J8: =I8+J7 -> 0.8603562
A9: Adm Local | B9: Próprio | C9: Administração Local | D9: Administração Local | E9: CJ | F9: =VLOOKUP(A9,'ORÇAMENTO SINTÉTICO'!$D$13:$O$29,7,FALSE) -> 1 | G9: =VLOOKUP(A9,'ORÇAMENTO SINTÉTICO'!$D$13:$O$29,11,FALSE) -> 151974.17 | H9: =TRUNC(F9*G9,2) -> 151974.17 | I9: =H9/$K$17 -> 0.1097686 | J9: =I9+J8 -> 0.97012479
A10: 8424 | B10: ORSE | C10: Escoramento contínuo de meio-fio, com aquisição, espalhamento e transporte dematerial c/distancia até 10km | D10: Terraplenagem | E10: m | F10: =VLOOKUP(A10,'ORÇAMENTO SINTÉTICO'!$D$13:$O$29,7,FALSE) -> 2182.73 | G10: =VLOOKUP(A10,'ORÇAMENTO SINTÉTICO'!$D$13:$O$29,11,FALSE) -> 9.22 | H10: =TRUNC(F10*G10,2) -> 20124.77 | I10: =H10/$K$17 -> 0.01453581 | J10: =I10+J9 -> 0.9846606
A11: Canteiro | B11: Próprio | C11: Canteiro de Obras (PAV) | D11: Administração Local | E11: frente | F11: =VLOOKUP(A11,'ORÇAMENTO SINTÉTICO'!$D$13:$O$29,7,FALSE) -> 1 | G11: =VLOOKUP(A11,'ORÇAMENTO SINTÉTICO'!$D$13:$O$29,11,FALSE) -> 6067.34 | H11: =TRUNC(F11*G11,2) -> 6067.34 | I11: =H11/$K$17 -> 0.0043823459 | J11: =I11+J10 -> 0.98904295
A12: Mob | B12: Próprio | C12: Mobilização e desmobilização | D12: Mobilização e Desmobilização | E12: km | F12: =VLOOKUP(A12,'ORÇAMENTO SINTÉTICO'!$D$13:$O$29,7,FALSE)*2 -> 138 | G12: =VLOOKUP(A12,'ORÇAMENTO SINTÉTICO'!$D$13:$O$29,11,FALSE) -> 53.18 | H12: =TRUNC(F12*G12,2) -> 7338.84 | I12: =H12/$K$17 -> 0.0053007308 | J12: =I12+J11 -> 0.99434368
A13: 2496 | B13: ORSE | C13: Regularização mecanizada de áreas | D13: Terraplenagem | E13: m² | F13: =VLOOKUP(A13,'ORÇAMENTO SINTÉTICO'!$D$13:$O$29,7,FALSE) -> 7372.62 | G13: =VLOOKUP(A13,'ORÇAMENTO SINTÉTICO'!$D$13:$O$29,11,FALSE) -> 0.58 | H13: =TRUNC(F13*G13,2) -> 4276.11 | I13: =H13/$K$17 -> 0.0030885682 | J13: =I13+J12 -> 0.99743225
A14: 103689 | B14: SINAPI | C14: FORNECIMENTO E INSTALAÇÃO DE PLACA DE OBRA COM CHAPA GALVANIZADA E ESTRUTURA DE MADEIRA. AF_03/2022_PS | D14: Sinalização Vertical | E14: m² | F14: =VLOOKUP(A14,'ORÇAMENTO SINTÉTICO'!$D$13:$O$29,7,FALSE) -> 8 | G14: =VLOOKUP(A14,'ORÇAMENTO SINTÉTICO'!$D$13:$O$29,11,FALSE) -> 444.38 | H14: =TRUNC(F14*G14,2) -> 3555.04 | I14: =H14/$K$17 -> 0.0025677505 | J14: =I14+J13 -> 1
F16: Total | H16: ='ORÇAMENTO SINTÉTICO'!O30 -> 1384495.9
E17: =ROUND(J17/$H$16,6) -> 0.616916 | F17: Pavimentação | J17: =SUMIF($D$5:$D$14,F17,$H$5:$H$14) -> 854118.01 | K17: =SUM(J17:J22) -> 1384495.9
E18: =ROUND(J18/$H$16,6) -> 0.24344 | F18: Drenagem | J18: =SUMIF($D$5:$D$14,F18,$H$5:$H$14) -> 337041.62
E19: =ROUND(J19/$H$16,6) -> 0.114151 | F19: Administração Local | J19: =SUMIF($D$5:$D$14,F19,$H$5:$H$14) -> 158041.51
E20: =ROUND(J20/$H$16,6) -> 0.005301 | F20: Mobilização e Desmobilização | J20: =SUMIF($D$5:$D$14,F20,$H$5:$H$14) -> 7338.84
E21: =ROUND(J21/$H$16,6) -> 0.017624 | F21: Terraplenagem | J21: =SUMIF($D$5:$D$14,F21,$H$5:$H$14) -> 24400.88
E22: =ROUND(J22/$H$16,6) -> 0.002568 | F22: Sinalização Vertical | J22: =SUMIF($D$5:$D$14,F22,$H$5:$H$14) -> 3555.04
E23: =SUM(E17:E22) -> 1
