Workbook

Sheet VALOR GLOBAL
B3: Valor global (Serviços de limpeza, conservação e auxílio na manutenção e operação do CIRPA Bebedouro)
B4: Item | C4: Descrição | D4: Und | E4: Quant. | F4: Preço Unit. Mensal | G4: Valor (R$)
B5: 1 | C5: Conservação e Limpeza
B6: 1.1 | C6: Área Interna | D6: m² | E6: ='CALCULO DAS AREAS'!C25 -> 2404.3 | F6: ='Complemento para limpeza '!B35 -> 5.7444459 | G6: =E6*ROUND(F6,6) -> 13811.372
B7: 1.2 | C7: Área Externa | D7: m² | E7: ='CALCULO DAS AREAS'!C10 -> 217761.15 | F7: ='Complemento para limpeza '!B36 -> 0.15779175 | G7: =E7*ROUND(F7,6) -> 34360.967
B8: 1.3 | C8: Esquadrias Externa e Interna | D8: m² | E8: ='CALCULO DAS AREAS'!C29 -> 50.33 | F8: ='Complemento para limpeza '!B37 -> 1.5515806 | G8: =E8*ROUND(F8,6) -> 78.091072
B9: VALOR TOTAL MENSAL | G9: =SUM(G6:G8) -> 48250.43
B10: VALOR TOTAL GLOBAL (12 MESES) | G10: =G9*12 -> 579005.16

Sheet QUADRO RESUMO
B2: QUADRO RESUMO - VALOR DOS SERVIÇOS DE CONSERVAÇÃO E LIMPEZA- Prestação de serviços no CIRPA - Bebedouro (3º CIB)
B4: Tipo de Serviço (A) | C4: Valor Proposto por profissional (B) | D4: Valor Proposto por Àrea (m²) (D) | E4: Quant. de Área Total por Tipo de Serviço (m²) (E) | F4: Valor Mensal por Tipo de Serviço F = D x E
B5: Serviços de Limpeza e Conservação - Área Interna - Encarregado | C5: =ENCARREGADO!D144 -> 5455.1647 | D5: ='Complemento para limpeza '!D5 -> 0.57122144 | E5: ='Complemento para limpeza '!C35 -> 2404.3 | F5: =ROUND(D5,6)*E5 -> 1373.3867
B6: Serviços de Limpeza e Conservação - Área Externa - Encarregado | C6: =ENCARREGADO!D144 -> 5455.1647 | D6: ='Complemento para limpeza '!D15 -> 0.01569064 | E6: ='Complemento para limpeza '!C36 -> 217761.15 | F6: =ROUND(D6,6)*E6 -> 3416.8902
B7: Serviços de Limpeza e Conservação - Esquadrias Internas e Externas - Encarregado | C7: =ENCARREGADO!D144 -> 5455.1647 | D7: ='Complemento para limpeza '!G25 -> 0.15428749 | E7: ='CALCULO DAS AREAS'!C29 -> 50.33 | F7: =ROUND(D7,6)*E7 -> 7.7652647
B8: Serviços de Limpeza e Conservação - Área Interna - Servente | C8: =SERVENTE!D148 -> 4940.4293 | D8: ='Complemento para limpeza '!D4 -> 5.1732244 | E8: ='Complemento para limpeza '!C35 -> 2404.3 | F8: =ROUND(D8,6)*E8 -> 12437.982
B9: Serviços de Limpeza e Conservação - Área Externa - Servente | C9: =SERVENTE!D148 -> 4940.4293 | D9: ='Complemento para limpeza '!D14 -> 0.14210111 | E9: ='Complemento para limpeza '!C36 -> 217761.15 | F9: =ROUND(D9,6)*E9 -> 30944.077
B10: Serviços de Limpeza e Conservação - Esquadrias Internas e Externas - Servente | C10: =SERVENTE!D148 -> 4940.4293 | D10: ='Complemento para limpeza '!G24 -> 1.3972931 | E10: ='CALCULO DAS AREAS'!C29 -> 50.33 | F10: =ROUND(D10,6)*E10 -> 70.325757
B11: VALOR TOTAL MENSAL | F11: =SUM(F5:F10) -> 48250.428
B12: VALOR TOTAL GLOBAL (12 MESES) | F12: =F11*12 -> 579005.13

Sheet SERVENTE
A2: PLANILHA DE CUSTOS E FORMAÇÃO DE PREÇOS
A3: MODELO PARA A CONSOLIDAÇÃO E APRESENTAÇÃO DE PROPOSTAS
A4: Com ajustes após publicação da Lei n° 13.467, de 2017.
A7: A | B7: Município/UF | C7: Petrolina-PE
A8: B | B8: Ano do Acordo, Convenção ou Dissídio Coletivo | C8: 2025
A9: C | B9: Nº de meses de execução contratual | C9: 12 meses
A11: IDENTIFICAÇÃO DO SERVIÇO
A12: Tipo de Serviço | C12: Unidade de Medida | D12: Quant. a contratar (em função da unid. de Medida)
A13: A - Limpeza e conservação - Áreas Internas | C13: m2 | D13: 2454.63
A14: B - Limpeza e conservação - Áreas Externas | C14: m2 | D14: 217761.15
A15: C - Limpeza e conservação - Esquadrias | C15: m2 | D15: 50.33
A16: Categoria profissional vinculada à execução contratual | C16: Servente
A18: Descrição: Contratação dos serviços continuados de limpeza, conservação e auxílio na manutenção e operação do Centro Integrado de Recursos Pesqueiros e Aquicultura de Bebedouro - CIRPA Bebedouro (3ª GRR/CIB)
A20: Módulo 1 - Composição da Remuneração
A22: 1 | B22: Composição da Remuneração | C22: Percentual (%) | D22: Valor (R$)
A23: A | B23: Salário-Base | D23: 1528.65
A24: B | B24: Adicional de Periculosidade
A25: C | B25: Adicional de Insalubridade | C25: 0.2 | D25: =1518*C25 -> 303.6
A26: D | B26: Adicional Noturno
A27: E | B27: Adicional de Hora Noturna Reduzida
A28: G | B28: Outros (especificar)
A29: Total | D29: =SUM(D23:D28) -> 1832.25
A32: Módulo 2 - Encargos e Benefícios Anuais, Mensais e Diários
A34: Submódulo 2.1 - 13º (décimo terceiro) Salário, Férias e Adicional de Férias
A36: 2.1 | B36: 13º (décimo terceiro) Salário, Férias e Adicional de Férias | C36: Percentual (%) | D36: Valor (R$) | G36: 3000
A37: A | B37: 13º (décimo terceiro) Salário | C37: =1/12 -> 0.083333333 | D37: =D29*C37 -> 152.6875
A38: B | B38: Férias e Adicional de Férias | C38: =(1+1/3)*(1/12) -> 0.11111111 | D38: =D29*C38 -> 203.58333 | F38: =(1/3)*(1/12) -> 0.027777778 | G38: =(1+1/3)*(1/12) -> 0.11111111
A39: Total | D39: =SUM(D37:D38) -> 356.27083 | F39: =G36*F38 -> 83.333333 | G39: =G36*G38 -> 333.33333
G40: =4000/12 -> 333.33333
A42: Submódulo 2.2 - Encargos Previdenciários (GPS), Fundo de Garantia por Tempo de Serviço (FGTS) e outras contribuições.
A44: 2.2 | B44: GPS, FGTS e outras contribuições | C44: Percentual (%) | D44: Valor (R$)
A45: A | B45: INSS | C45: 0.2 | D45: =($D$39+$D$29)*C45 -> 437.70417
A46: B | B46: Salário Educação | C46: 0.025 | D46: =($D$39+$D$29)*C46 -> 54.713021
A47: C | B47: SAT | C47: 0.03 | D47: =($D$39+$D$29)*C47 -> 65.655625
A48: D | B48: SESC ou SESI | C48: 0.015 | D48: =($D$39+$D$29)*C48 -> 32.827813
A49: E | B49: SENAI - SENAC | C49: 0.01 | D49: =($D$39+$D$29)*C49 -> 21.885208
A50: F | B50: SEBRAE | C50: 0.006 | D50: =($D$39+$D$29)*C50 -> 13.131125
A51: G | B51: INCRA | C51: 0.002 | D51: =($D$39+$D$29)*C51 -> 4.3770417
A52: H | B52: FGTS | C52: 0.08 | D52: =($D$39+$D$29)*C52 -> 175.08167
A53: Total | C53: =SUM(C45:C52) -> 0.368 | D53: =SUM(D45:D52) -> 805.37567
...

Sheet ENCARREGADO
A1: PLANILHA DE CUSTOS E FORMAÇÃO DE PREÇOS
A2: MODELO PARA A CONSOLIDAÇÃO E APRESENTAÇÃO DE PROPOSTAS
A3: Com ajustes após publicação da Lei n° 13.467, de 2017.
A5: A | B5: Município/UF | C5: Petrolina-PE
A6: B | B6: Ano do Acordo, Convenção ou Dissídio Coletivo | C6: 2025
A7: C | B7: Nº de meses de execução contratual | C7: 12 meses
A9: IDENTIFICAÇÃO DO SERVIÇO
A10: Tipo de Serviço | C10: Unidade de Medida | D10: Quant. a contratar (em função da unid. de Medida)
A11: A - Encarregado | C11: Posto | D11: 1
A12: Categoria profissional vinculada à execução contratual | C12: Encarregado
A14: Descrição: Contratação dos serviços continuados de limpeza, conservação e auxílio na manutenção e operação do Centro Integrado de Recursos Pesqueiros e Aquicultura de Bebedouro - CIRPA Bebedouro (3ª GRR/CIB)
A16: Módulo 1 - Composição da Remuneração
A18: 1 | B18: Composição da Remuneração | C18: Percentual (%) | D18: Valor (R$)
A19: A | B19: Salário-Base | D19: 1829.61
A20: B | B20: Adicional de Periculosidade
A21: C | B21: Adicional de Insalubridade | C21: 0.2 | D21: =1518*C21 -> 303.6
A22: D | B22: Adicional Noturno
A23: E | B23: Adicional de Hora Noturna Reduzida
A24: G | B24: Outros (especificar)
A25: Total | D25: =SUM(D19:D24) -> 2133.21
A28: Módulo 2 - Encargos e Benefícios Anuais, Mensais e Diários
A30: Submódulo 2.1 - 13º (décimo terceiro) Salário, Férias e Adicional de Férias
A32: 2.1 | B32: 13º (décimo terceiro) Salário, Férias e Adicional de Férias | C32: Percentual (%) | D32: Valor (R$)
A33: A | B33: 13º (décimo terceiro) Salário | C33: =1/12 -> 0.083333333 | D33: =D25*C33 -> 177.7675
A34: B | B34: Férias e Adicional de Férias | C34: =(1+1/3)*(1/12) -> 0.11111111 | D34: =D25*C34 -> 237.02333
A35: Total | D35: =SUM(D33:D34) -> 414.79083
A38: Submódulo 2.2 - Encargos Previdenciários (GPS), Fundo de Garantia por Tempo de Serviço (FGTS) e outras contribuições.
A40: 2.2 | B40: GPS, FGTS e outras contribuições | C40: Percentual (%) | D40: Valor (R$)
A41: A | B41: INSS | C41: 0.2 | D41: =($D$35+$D$25)*C41 -> 509.60017
A42: B | B42: Salário Educação | C42: 0.025 | D42: =($D$35+$D$25)*C42 -> 63.700021
A43: C | B43: SAT | C43: 0.03 | D43: =($D$35+$D$25)*C43 -> 76.440025
A44: D | B44: SESC ou SESI | C44: 0.015 | D44: =($D$35+$D$25)*C44 -> 38.220013
A45: E | B45: SENAI - SENAC | C45: 0.01 | D45: =($D$35+$D$25)*C45 -> 25.480008
A46: F | B46: SEBRAE | C46: 0.006 | D46: =($D$35+$D$25)*C46 -> 15.288005
A47: G | B47: INCRA | C47: 0.002 | D47: =($D$35+$D$25)*C47 -> 5.0960017
A48: H | B48: FGTS | C48: 0.08 | D48: =($D$35+$D$25)*C48 -> 203.84007
A49: Total | C49: =SUM(C41:C48) -> 0.368 | D49: =SUM(D41:D48) -> 937.66431
A52: Submódulo 2.3 - Benefícios Mensais e Diários.
H53: BRNRFÍCIOS
A54: 2.3 | B54: Benefícios Mensais e Diários | C54: Percentual (%) | D54: Valor (R$) | I54: VALOR | J54: QUANT DIÁRIA | K54: NQUANT | L54: TOAL | M54: V. LIQ
...

Sheet Complemento para limpeza 
A1: PREÇO MENSAL UNITÁRIO POR METRO QUADRADO (m²)
A2: A - ÁREA INTERNA COM INSALUBRIDADE
A3: MÃO-DE-OBRA | B3: PRODUTIVIDADE ( 1 / m² ) ( 1 ) | C3: PREÇO HOMEM-MÊS ( R$ ) ( 2 ) | D3: SUBTOTAL (R$ / m² ) (3 = 1 x 2)
A4: Servente | B4: 1/955 | C4: =SERVENTE!D148 -> 4940.4293 | D4: =1/(955)*C4 -> 5.1732244 | I4: Produt. Méd.Área.Externa | L4: ='CALCULO DAS AREAS'!C32 -> 955
A5: Encarregado | B5: 1/(10x955) | C5: =ENCARREGADO!D144 -> 5455.1647 | D5: =(1/(10*955)*C5) -> 0.57122144 | I5: Produt. Méd.Área.Interna | L5: ='CALCULO DAS AREAS'!C33 -> 34767
I6: Produt. Méd.Esquadrias | L6: 300
A7: TOTAL (Área Tipo "A") | D7: =SUM(D4:D5) -> 5.7444459
A11: PREÇO MENSAL UNITÁRIO POR METRO QUADRADO (m²)
A12: B - ÁREA EXTERNA COM INSALUBRIDADE
A13: MÃO-DE-OBRA | B13: PRODUTIVIDADE ( 1 / m² ) ( 1 ) | C13: PREÇO HOMEM-MÊS ( R$ ) ( 2 ) | D13: SUBTOTAL (R$ / m² ) (3 = 1 x 2)
A14: Servente | B14: 1/34767 | C14: =C4 -> 4940.4293 | D14: =1/(34767)*C14 -> 0.14210111
A15: Encarregado | B15: 1/(10x34767) | C15: =C5 -> 5455.1647 | D15: =1/(34767*10)*C15 -> 0.01569064
A17: TOTAL (Área Tipo "B") | D17: =SUM(D14:D15) -> 0.15779175
A21: PREÇO MENSAL UNITÁRIO POR METRO QUADRADO (m²)
A22: C - ESQUADRIAS INTERNAS E EXTERNAS
A23: MÃO-DE-OBRA | B23: PRODUTIVIDADE ( 1 / m² ) (1) | C23: FREQUÊNCIA NO MÊS (HORA) (2) | D23: JORNADA DE TRABALHO NO MÊS (HORAS) 1/188,57 (3) | E23: (1x2x3) Ki (4) | F23: PREÇO HOMEM-MÊS (R$) (5) | G23: SUBTOTAL (R$ / m² ) (6 = 4 x 5)
A24: Servente | B24: 1/300 | C24: 16 | D24: =1/((30/7)*44) -> 0.0053030303 | E24: =1/300*C24*D24 -> 0.00028282828 | F24: =C14 -> 4940.4293 | G24: =F24*E24 -> 1.3972931
A25: Encarregado | B25: 1/(10x300) | C25: 16 | D25: =1/((30/7)*44) -> 0.0053030303 | E25: =1/(10*300)*C25*D25 -> 2.8282828e-05 | F25: =C15 -> 5455.1647 | G25: =E25*F25 -> 0.15428749
A27: TOTAL (Área Tipo "C") | G27: =G24+G25 -> 1.5515806
A32: II- VALOR MENSAL DOS SERVIÇOS DE CONSERVAÇÃO E LIMPEZA
A34: TIPO DA ÁREA | B34: PREÇO MENSAL UNITÁRIO (R$ m² ) | C34: ÁREA( m² ) | D34: SUBTOTAL (R$)
A35: A - Interna com Insalubridade | B35: =D7 -> 5.7444459 | C35: ='CALCULO DAS AREAS'!C25 -> 2404.3 | D35: =ROUND(B35,6)*C35 -> 13811.372
A36: B - Externa com Insalubridade | B36: =D17 -> 0.15779175 | C36: ='CALCULO DAS AREAS'!C10 -> 217761.15 | D36: =ROUND(B36,6)*C36 -> 34360.967
A37: C - Esquadrias | B37: =G27 -> 1.5515806 | C37: ='CALCULO DAS AREAS'!C29 -> 50.33 | D37: =ROUND(B37,6)*C37 -> 78.091072
A38: D - Serviços (Outros) | B38: 0 | C38: 0 | D38: =ROUND(B38,6)*C38 -> 0
A39: TOTAL MENSAL DOS SERVIÇOS | D39: =SUM(D35:D38) -> 48250.43
D41: =#REF! -> #REF! | E41: Mensal

Sheet CALCULO DAS AREAS
B2: AREA EXTERNA
B3: Local | C3: Área | D3: Unidade | E3: Periodicidade | F3: Índice de Prod. | G3: Efetivo
B4: Área Verde | C4: 76000 | D4: m2 | E4: Quinzenalmente | F4: 100000 | G4: =C4/F4 -> 0.76
B5: Dreno | C5: 1910 | D5: m2 | E5: Mensalmente | F5: 1200 | G5: =C5/F5 -> 1.5916667
B6: Viveiros Escavados | C6: 124600 | D6: m2 | E6: Diariamente | F6: 100000 | G6: =C6/F6 -> 1.246
B7: Tanques de Alvenaria | C7: 211.15 | D7: m2 | E7: 3x na semana | F7: 1200 | G7: =C7/F7 -> 0.17595833
B8: Comportas | C8: 40 | D8: m2 | E8: Mensalmente | F8: 1200 | G8: =C8/F8 -> 0.033333333
B9: Reservatórios | C9: 15000 | D9: m2 | E9: Mensalmente | F9: 5000 | G9: =C9/F9 -> 3
C10: =SUM(C4:C9) -> 217761.15 | G10: =ROUND(SUM(G4:G9),0) -> 7
B12: AREA INTERNA
B13: Local | C13: Área | D13: Unidade | E13: Periodicidade | F13: Índice de Prod. | G13: Efetivo
B14: Administração | C14: 221.73 | D14: m2 | E14: Diariamente | F14: 800 | G14: =C14/F14 -> 0.2771625
B15: Alojamento | C15: 58 | D15: m2 | E15: Diariamente | F15: 800 | G15: =C15/F15 -> 0.0725
B16: Garagem/Almoxarifados | C16: 117.82 | D16: m2 | E16: Quinzenalmente | F16: 1350 | G16: =C16/F16 -> 0.087274074
B17: Depósito de Rações | C17: 107 | D17: m2 | E17: Quinzenalmente | F17: 1350 | G17: =C17/F17 -> 0.079259259
B18: Depósito de Materiais | C18: 180 | D18: m2 | E18: Semanalmente | F18: 1350 | G18: =C18/F18 -> 0.13333333
B19: Auditório | C19: 511.21 | D19: m2 | E19: Semanalmente | F19: 800 | G19: =C19/F19 -> 0.6390125
B20: Esquadrias | C20: 0 | D20: m2 | E20: Semanalmente | F20: 300 | G20: =C20/F20 -> 0
B21: Pavilhão de incubação | C21: 198.38 | D21: m2 | E21: Diariamente | F21: 800 | G21: =C21/F21 -> 0.247975
B22: Sala de hipofisação | C22: 98.74 | D22: m2 | E22: Diariamente | F22: 800 | G22: =C22/F22 -> 0.123425
B23: Galpão de Larvicultura | C23: 850.7 | D23: m2 | E23: Diariamente | F23: 1350 | G23: =C23/F23 -> 0.63014815
B24: Centro de distribuição de Alevinos | C24: 60.72 | D24: m2 | E24: Diariamente | F24: 800 | G24: =C24/F24 -> 0.0759
C25: =SUM(C14:C24) -> 2404.3 | G25: =ROUND(SUM(G14:G24),0) -> 2
B27: ESQUADRIAS
B28: Local | C28: Área | D28: Unidade | E28: Periodicidade | F28: Índice de Prod. | G28: Efetivo
B29: Esquadrias | C29: 50.33 | D29: m2 | E29: Semanalmente | F29: 300 | G29: =C29/F29 -> 0.16776667
B31: PRODUTIVDADE
B32: Área Interna | C32: =ROUND(AVERAGE(F14:F24),0) -> 955
B33: Área Externa | C33: =ROUND(AVERAGE(F4:F9),0) -> 34767
B34: Esquadrias | C34: =ROUND(AVERAGE(F29),0) -> 300
B36: EFETIVO | C36: QUANT.
B37: Servente | C37: =ROUNDUP(G10+G25+G29,0) -> 10
B38: Encarregado | C38: 1
B39: Efetivo Total | C39: =C37+C38 -> 11
