{"text_format":"2","workbook":"xlsx","n_sheets":14,"sheets":["RESUMO","PLANILHA GLOBAL","PLANILHA GLOBAL_em branco","CRONO FISICO-FINANCEIRO","COMP. MÓD. 1.400 M³","MEMÓRIA DE CÁLCULOS","COMPOSIÇÕES - SICRO-SINAPI","COMPOSIÇÕES MISTAS","INSUMOS E SERVIÇOS - PREÇOS","AUX-Cotações","MOBIL. REV. PRIMÁRIO","MOBIL. VIA ASFALTADA","BDI M. DE OBRA E SERVIÇOS","DET. ENCARGOS"],"not_rendered":{"charts":0,"images":8,"macros":0,"external_links":1,"defined_names":3279,"comments":0,"pivot_tables":0},"unopened":[],"bounds":{"document_bytes":16777216,"sheet_cells":100000,"run_cost":"one","rows_first":2000,"rows_last":500,"rows_between":2000,"halvings":0,"cell_chars":16384,"cell_head_chars":4096},"cells_cut":0,"cells_raw":0,"read":"whole","date_system":"1900"}

{"sheet":"RESUMO","index":0,"n_rows":11,"n_cols":7,"rows_kept":11,"cut":false,"hidden":false,"merged":[[5,1,5,6],[8,1,8,6],[1,3,4,6],[6,1,7,6]]}
[]
[null,null,"MINISTÉRIO DA INTEGRAÇÃO E DO DESENVOLVIMENTO REGIONAL - MIDR","RESUMO"]
[null,null,"COMPANHIA DE DESENVOLVIMENTO DOS VALES DO SÃO FRANCISCO E DO PARNAÍBA"]
[null,null,"2ª SUPERINTENDÊNCIA REGIONAL - BOM JESUS DA LAPA/BA."]
[null,null,"GERÊNCIA DE INFRAESTRUTURA - 2ª/GRD"]
[]
[null,"OBJETO: EXECUÇÃO DE SERVIÇOS DE ESCAVAÇÃO EM SOLO DE 1ª CATEGORIA, OBJETIVANDO À IMPLANTAÇÃO DE RESERVATÓRIOS PARA ACÚMULO DE ÁGUA EM COMUNIDADES DE CARÁTER RURAL EM DIVERSOS MUNICÍPIOS DO ESTADO DA BAHIA, NA ÁREA DE ATUAÇÃO DA 2ª SR DA CODEVASF."]
[]
[]
[null,"ITEM","DESCRIÇÃO","QUANTIDADE","UNIDADE","PREÇO UNITÁRIO","PREÇO TOTAL"]
[null,1,"ESCAVAÇÃO EM SOLO DE 1ª CATEGORIA, OBJETIVANDO À IMPLANTAÇÃO DE RESERVATÓRIOS PARA ACÚMULO DE ÁGUA",{"$f":"1400*200","v":280000},"M³",{"$f":"TRUNC(G11/D11,4)","v":17.189399999999999},{"$f":"'PLANILHA GLOBAL'!L34","v":4813055.84}]

{"sheet":"PLANILHA GLOBAL","index":1,"n_rows":34,"n_cols":13,"rows_kept":34,"cut":false,"hidden":false,"merged":[[2,3,2,7],[3,3,3,7],[4,3,4,7],[5,1,5,12],[27,2,27,3],[31,4,31,9],[33,1,33,9],[6,1,7,12],[1,8,4,12],[13,1,13,11],[14,2,14,3],[14,4,14,11],[26,1,26,3],[26,4,26,9],[8,1,8,12],[9,1,9,12],[10,1,10,12],[11,1,11,12],[12,2,12,3],[1,3,1,7]]}
[]
[null,null,null,"MINISTÉRIO DA INTEGRAÇÃO E DO DESENVOLVIMENTO REGIONAL - MIDR",{"$nulls":4},"PLANILHA ORÇAMENTÁRIA DE EXECUÇÃO - GLOBAL"]
[null,null,null,"COMPANHIA DE DESENVOLVIMENTO DOS VALES DO SÃO FRANCISCO E DO PARNAÍBA"]
[null,null,null,"2ª SUPERINTENDÊNCIA REGIONAL - BOM JESUS DA LAPA/BA."]
[null,null,null,"GERÊNCIA DE INFRAESTRUTURA - 2ª/GRD"]
[]
[null,"OBJETO: EXECUÇÃO DE SERVIÇOS DE ESCAVAÇÃO EM SOLO DE 1ª CATEGORIA, OBJETIVANDO À IMPLANTAÇÃO DE RESERVATÓRIOS PARA ACÚMULO DE ÁGUA EM COMUNIDADES DE CARÁTER RURAL EM DIVERSOS MUNICÍPIOS DO ESTADO DA BAHIA, NA ÁREA DE ATUAÇÃO DA 2ª SR DA CODEVASF."]
[]
[null,"MESES DE REFERÊNCIA: SINAPI-BA: AGOSTO/2025; SICRO-BA: JULHO/2025; TC DNIT: JULHO/2025.            BDI: 21,50%.                 ENCARGOS SOCIAIS: 115,57% (HORISTA) E 71,29% (MENSALISTA)."]
[]
[null,"PLANILHA ORÇAMENTÁRIA GLOBAL - SEM DESONERAÇÃO"]
[]
[null,"ID","DISCRIMINAÇÃO DOS SERVIÇOS",null,"UND","QUANTIDADE POR MÓDULO","QUANTIDADE DE MÓDULOS","QUANTIDADE","CUSTO UNITÁRIO","PREÇO UNITÁRIO","CUSTO TOTAL","PREÇO TOTAL","%"]
[]
[null,1,"SERVIÇOS AUXILIARES",{"$nulls":9},"%"]
[null,{"$f":"'COMP. MÓD. 1.400 M³'!B15","v":"1.1"},{"$f":"'COMP. MÓD. 1.400 M³'!C15","v":"SICRO 5914639"},{"$f":"'COMP. MÓD. 1.400 M³'!D15","v":"TRANSPORTE DE EQUIPAMENTOS EM RODOVIA COM REVESTIMENTO PRIMÁRIO - MOBILIZAÇÃO"},{"$f":"'COMP. MÓD. 1.400 M³'!E15","v":"TON x KM"},{"$f":"'COMP. MÓD. 1.400 M³'!F15","v":235.8},{"$f":"25*8","v":200},{"$f":"TRUNC((F16*G16),2)","v":47160},{"$f":"'COMP. MÓD. 1.400 M³'!G15","v":0.7},{"$f":"'COMP. MÓD. 1.400 M³'!I15","v":0.85},{"$f":"TRUNC(F16*G16*I16,2)","v":33012},{"$f":"TRUNC(F16*G16*J16,2)","v":40086},{"$f":"((L16/$L$34))","v":8.3285964951530667E-3}]
[null,{"$f":"'COMP. MÓD. 1.400 M³'!B16","v":"1.2"},{"$f":"'COMP. MÓD. 1.400 M³'!C16","v":"SICRO 5914640"},{"$f":"'COMP. MÓD. 1.400 M³'!D16","v":"TRANSPORTE DE EQUIPAMENTOS EM RODOVIA PAVIMENTADA - MOBILIZAÇÃO"},{"$f":"'COMP. MÓD. 1.400 M³'!E16","v":"TON x KM"},{"$f":"'COMP. MÓD. 1.400 M³'!F16","v":314.39999999999998},{"$f":"$G$16","v":200},62880,{"$f":"'COMP. MÓD. 1.400 M³'!G16","v":0.57999999999999996},{"$f":"'COMP. MÓD. 1.400 M³'!I16","v":0.7},{"$f":"TRUNC(F17*G17*I17,2)","v":36470.400000000001},{"$f":"TRUNC(F17*G17*J17,2)","v":44016},9.1451255633053282E-3]
[null,{"$f":"'COMP. MÓD. 1.400 M³'!B17","v":"1.3"},{"$f":"'COMP. MÓD. 1.400 M³'!C17","v":"CPU-01"},{"$f":"'COMP. MÓD. 1.400 M³'!D17","v":"ADMINISTRAÇÃO LOCAL"},{"$f":"'COMP. MÓD. 1.400 M³'!E17","v":"%"},5.0000000000000001E-3,200,1,{"$f":"'COMPOSIÇÕES MISTAS'!H17","v":1012.76},{"$f":"'COMP. MÓD. 1.400 M³'!I17","v":1230.5},{"$f":"TRUNC(G18*H18*I18,2)","v":202552},{"$f":"TRUNC(G18*H18*J18,2)","v":246100},5.1131756659611081E-2]
[null,{"$f":"'COMP. MÓD. 1.400 M³'!B18","v":"1.4"},{"$f":"'COMP. MÓD. 1.400 M³'!C18","v":"CPU-02"},{"$f":"'COMP. MÓD. 1.400 M³'!D18","v":"PLACA DE OBRA EM CHAPA DE AÇO GALVANIZADO (3,20 M x 1,60 M)"},{"$f":"'COMP. MÓD. 1.400 M³'!E18","v":"M²"},{"$f":"'COMP. MÓD. 1.400 M³'!F18","v":0.64000000000000012},200,128,{"$f":"'COMP. MÓD. 1.400 M³'!G18","v":511.21},{"$f":"'COMP. MÓD. 1.400 M³'!I18","v":621.12},{"$f":"TRUNC(F19*G19*I19,2)","v":65434.879999999997},{"$f":"TRUNC(F19*G19*J19,2)","v":79503.360000000001},1.651827085388646E-2]
[null,{"$f":"'COMP. MÓD. 1.400 M³'!B19","v":"1.5"},{"$f":"'COMP. MÓD. 1.400 M³'!C19","v":"SICRO 5914639"},{"$f":"'COMP. MÓD. 1.400 M³'!D19","v":"TRANSPORTE DE EQUIPAMENTOS EM RODOVIA COM REVESTIMENTO PRIMÁRIO - DESMOBILIZAÇÃO"},{"$f":"'COMP. MÓD. 1.400 M³'!E19","v":"TON x KM"},{"$f":"'COMP. MÓD. 1.400 M³'!F19","v":235.8},200,47160,{"$f":"'COMP. MÓD. 1.400 M³'!G19","v":0.7},{"$f":"'COMP. MÓD. 1.400 M³'!I19","v":0.85},33012,40086,8.3285964951530667E-3]
[null,{"$f":"'COMP. MÓD. 1.400 M³'!B20","v":"1.6"},{"$f":"'COMP. MÓD. 1.400 M³'!C20","v":"SICRO 5914640"},{"$f":"'COMP. MÓD. 1.400 M³'!D20","v":"TRANSPORTE DE EQUIPAMENTOS EM RODOVIA PAVIMENTADA - DESMOBILIZAÇÃO"},{"$f":"'COMP. MÓD. 1.400 M³'!E20","v":"TON x KM"},{"$f":"'COMP. MÓD. 1.400 M³'!F20","v":314.39999999999998},200,62880,{"$f":"'COMP. MÓD. 1.400 M³'!G20","v":0.57999999999999996},{"$f":"'COMP. MÓD. 1.400 M³'!I20","v":0.7},36470.400000000001,44016,9.1451255633053282E-3]
[null,{"$f":"'COMP. MÓD. 1.400 M³'!B21","v":"1.7"},{"$f":"'COMP. MÓD. 1.400 M³'!C21","v":"CPU-03"},{"$f":"'COMP. MÓD. 1.400 M³'!D21","v":"LEVANTAMENTOS TOPOGRÁFICOS PRIMITIVOS"},{"$f":"'COMP. MÓD. 1.400 M³'!E21","v":"UND"},{"$f":"'COMP. MÓD. 1.400 M³'!F21","v":1},200,200,{"$f":"'COMP. MÓD. 1.400 M³'!G21","v":943.94},{"$f":"'COMP. MÓD. 1.400 M³'!I21","v":1146.8800000000001},188788,229376,4.7657041103433363E-2]
[null,{"$f":"'COMP. MÓD. 1.400 M³'!B22","v":"1.8"},{"$f":"'COMP. MÓD. 1.400 M³'!C22","v":"CPU-03"},{"$f":"'COMP. MÓD. 1.400 M³'!D22","v":"LEVANTAMENTOS TOPOGRÁFICOS PARA AS BUILT"},{"$f":"'COMP. MÓD. 1.400 M³'!E22","v":"UND"},{"$f":"'COMP. MÓD. 1.400 M³'!F22","v":1},200,200,{"$f":"'COMP. MÓD. 1.400 M³'!G22","v":943.94},{"$f":"'COMP. MÓD. 1.400 M³'!I22","v":1146.8800000000001},188788,229376,4.7657041103433363E-2]
[null,{"$f":"'COMP. MÓD. 1.400 M³'!B23","v":"1.9"},{"$f":"'COMP. MÓD. 1.400 M³'!C23","v":"CPU-04"},{"$f":"'COMP. MÓD. 1.400 M³'!D23","v":"VEÍCULO LEVE 53 KW (SEM MOTORISTA) COM COMBUSTÍVEL INCLUSO"},{"$f":"'COMP. MÓD. 1.400 M³'!E23","v":"UND x MÊS"},{"$f":"'COMP. MÓD. 1.400 M³'!F23","v":0.08},200,16,{"$f":"'COMP. MÓD. 1.400 M³'!G23","v":5433.81},{"$f":"'COMP. MÓD. 1.400 M³'!I23","v":6602.07},86940.96,105633.12,2.1947204335780155E-2]
[null,{"$f":"'COMP. MÓD. 1.400 M³'!B24","v":"1.10"},{"$f":"'COMP. MÓD. 1.400 M³'!C24","v":"CPU-05"},{"$f":"'COMP. MÓD. 1.400 M³'!D24","v":"DIÁRIA PARA VIAGEM COM HOSPEDAGEM"},{"$f":"'COMP. MÓD. 1.400 M³'!E24","v":"DIÁRIA"},{"$f":"'COMP. MÓD. 1.400 M³'!F24","v":2.56},200,512,{"$f":"'COMP. MÓD. 1.400 M³'!G24","v":383.68},{"$f":"'COMP. MÓD. 1.400 M³'!I24","v":466.17},196444.16,238679.04000000001,4.9589917078543599E-2]
[null,{"$f":"'COMP. MÓD. 1.400 M³'!B25","v":"1.11"},{"$f":"'COMP. MÓD. 1.400 M³'!C25","v":"CPU-06"},{"$f":"'COMP. MÓD. 1.400 M³'!D25","v":"DIÁRIA PARA VIAGEM SEM HOSPEDAGEM"},{"$f":"'COMP. MÓD. 1.400 M³'!E25","v":"DIÁRIA"},{"$f":"'COMP. MÓD. 1.400 M³'!F25","v":0.64},200,128,{"$f":"'COMP. MÓD. 1.400 M³'!G25","v":109.21},{"$f":"'COMP. MÓD. 1.400 M³'!I25","v":132.69},13978.88,16984.32,3.5288017767938465E-3]
[{"$nulls":4},"TOTAL DO SUBITEM 1",{"$nulls":5},{"$f":"SUM(K16:K26)","v":1081891.68},{"$f":"SUM(L16:L26)","v":1313855.8400000001},0.2729774770283987]
[null,2,"CONSTRUÇÃO DE BACIA DE CAPTAÇÃO E ARMAZENAMENTO DE ÁGUA, COM CAPACIDADE MÍNIMA DE ARMAZENAMENTO DE 1.000 M³",null,"UND","QUANTIDADE POR MÓDULO","QUANTIDADE DE MÓDULOS","QUANTIDADE","CUSTO UNITÁRIO","PREÇO UNITÁRIO","CUSTO TOTAL","PREÇO TOTAL","%"]
[null,"2.1",{"$f":"'COMP. MÓD. 1.400 M³'!C28","v":"CODEVASF (adaptado de SICRO 5502985)"},{"$f":"'COMP. MÓD. 1.400 M³'!D28","v":"LIMPEZA MECANIZADA DA CAMADA VEGETAL COM RETROESCAVADEIRA DE PNEUS COM CAPACIDADE DE 0,75 M³ - 58 KW"},{"$f":"'COMPOSIÇÕES - SICRO-SINAPI'!I40","v":"M²"},{"$f":"'COMP. MÓD. 1.400 M³'!F28","v":3600},{"$f":"$G$16","v":200},{"$f":"TRUNC((F29*G29),2)","v":720000},{"$f":"'COMP. MÓD. 1.400 M³'!G28","v":0.49},{"$f":"'COMP. MÓD. 1.400 M³'!I28","v":0.59},{"$f":"TRUNC(F29*G29*I29,2)","v":352800},{"$f":"TRUNC(F29*G29*J29,2)","v":424800},{"$f":"((L29/$L$34))","v":8.8259935916305515E-2}]
[null,"2.2",{"$f":"'COMP. MÓD. 1.400 M³'!C29","v":"CODEVASF (adaptado de SICRO 4413942)"},{"$f":"'COMP. MÓD. 1.400 M³'!D29","v":"ESPALHAMENTO DE MATERIAL COM RETROESCAVADEIRA DE PNEUS COM CAPACIDADE DE 0,76 M³ - 58 KW"},{"$f":"'COMPOSIÇÕES - SICRO-SINAPI'!I69","v":"M³"},{"$f":"'COMP. MÓD. 1.400 M³'!F29","v":1400},{"$f":"$G$16","v":200},{"$f":"TRUNC((F30*G30),2)","v":280000},{"$f":"'COMP. MÓD. 1.400 M³'!G29","v":1.77},{"$f":"'COMP. MÓD. 1.400 M³'!I29","v":2.15},{"$f":"TRUNC(F30*G30*I30,2)","v":495600},{"$f":"TRUNC(F30*G30*J30,2)","v":602000},{"$f":"((L30/$L$34))","v":0.12507646285691129}]
[null,"2.3",{"$f":"'COMP. MÓD. 1.400 M³'!C30","v":"CODEVASF (Adaptado de SICRO 5501706)"},{"$f":"'COMP. MÓD. 1.400 M³'!D30","v":"ESCAVAÇÃO MECÂNICA COM RETROESCAVADEIRA (OU EQUIPAMENTO SUPERIOR) EM MATERIAL DE ESCAVAÇÃO DE 1ª CATEGORIA"},{"$f":"'COMPOSIÇÕES - SICRO-SINAPI'!I11","v":"M³"},{"$f":"'COMP. MÓD. 1.400 M³'!F30","v":1400},{"$f":"$G$16","v":200},{"$f":"TRUNC((F31*G31),2)","v":280000},{"$f":"'COMP. MÓD. 1.400 M³'!G30","v":7.27},{"$f":"'COMP. MÓD. 1.400 M³'!I30","v":8.83},{"$f":"TRUNC(F31*G31*I31,2)","v":2035600},{"$f":"TRUNC(F31*G31*J31,2)","v":2472400},{"$f":"((L31/$L$34))","v":0.51368612419838455}]
[{"$nulls":4},"TOTAL DO SUBITEM 2",{"$nulls":5},{"$f":"SUM(K29:K31)","v":2884000},{"$f":"SUM(L29:L31)","v":3499200},{"$f":"((L32/$L$34))","v":0.72702252297160141}]
[]
[null,"TOTAL GERAL DOS SERVIÇOS A SEREM CONTRATADOS:",{"$nulls":9},{"$f":"ROUND((SUM(L27,L32)),4)","v":4813055.84},{"$f":"((L34/$L$34))","v":1}]

{"sheet":"PLANILHA GLOBAL_em branco","index":2,"n_rows":34,"n_cols":13,"rows_kept":34,"cut":false,"hidden":false,"merged":[[12,2,12,3],[1,3,1,7],[1,8,4,12],[2,3,2,7],[3,3,3,7],[4,3,4,7],[5,1,5,12],[6,1,7,12],[8,1,8,12],[9,1,9,12],[10,1,10,12],[11,1,11,12],[31,4,31,9],[33,1,33,9],[13,1,13,11],[14,2,14,3],[14,4,14,11],[26,1,26,3],[26,4,26,9],[27,2,27,3]]}
[]
[null,null,null,"MINISTÉRIO DA INTEGRAÇÃO E DO DESENVOLVIMENTO REGIONAL - MIDR",{"$nulls":4},"PLANILHA ORÇAMENTÁRIA DE EXECUÇÃO - GLOBAL"]
[null,null,null,"COMPANHIA DE DESENVOLVIMENTO DOS VALES DO SÃO FRANCISCO E DO PARNAÍBA"]
[null,null,null,"2ª SUPERINTENDÊNCIA REGIONAL - BOM JESUS DA LAPA/BA."]
[null,null,null,"GERÊNCIA DE INFRAESTRUTURA - 2ª/GRD"]
[]
[null,"OBJETO: EXECUÇÃO DE SERVIÇOS DE ESCAVAÇÃO EM SOLO DE 1ª CATEGORIA, OBJETIVANDO À IMPLANTAÇÃO DE RESERVATÓRIOS PARA ACÚMULO DE ÁGUA EM COMUNIDADES DE CARÁTER RURAL EM DIVERSOS MUNICÍPIOS DO ESTADO DA BAHIA, NA ÁREA DE ATUAÇÃO DA 2ª SR DA CODEVASF."]
[]
[]
[]
[null,"ANEXO 5 - PLANILHA DE CUSTOS E PREÇOS DA PROPONENTE"]
[]
[null,"ID","DISCRIMINAÇÃO DOS SERVIÇOS",null,"UND","QUANTIDADE POR MÓDULO","QUANTIDADE DE MÓDULOS","QUANTIDADE","CUSTO UNITÁRIO","PREÇO UNITÁRIO","CUSTO TOTAL","PREÇO TOTAL","%"]
[]
[null,1,"SERVIÇOS AUXILIARES",{"$nulls":9},"%"]
[null,{"$f":"'COMP. MÓD. 1.400 M³'!B15","v":"1.1"},{"$f":"'COMP. MÓD. 1.400 M³'!C15","v":"SICRO 5914639"},{"$f":"'COMP. MÓD. 1.400 M³'!D15","v":"TRANSPORTE DE EQUIPAMENTOS EM RODOVIA COM REVESTIMENTO PRIMÁRIO - MOBILIZAÇÃO"},{"$f":"'COMP. MÓD. 1.400 M³'!E15","v":"TON x KM"},{"$f":"'COMP. MÓD. 1.400 M³'!F15","v":235.8},{"$f":"25*8","v":200},{"$f":"TRUNC((F16*G16),2)","v":47160}]
[null,{"$f":"'COMP. MÓD. 1.400 M³'!B16","v":"1.2"},{"$f":"'COMP. MÓD. 1.400 M³'!C16","v":"SICRO 5914640"},{"$f":"'COMP. MÓD. 1.400 M³'!D16","v":"TRANSPORTE DE EQUIPAMENTOS EM RODOVIA PAVIMENTADA - MOBILIZAÇÃO"},{"$f":"'COMP. MÓD. 1.400 M³'!E16","v":"TON x KM"},{"$f":"'COMP. MÓD. 1.400 M³'!F16","v":314.39999999999998},{"$f":"$G$16","v":200},62880]
[null,{"$f":"'COMP. MÓD. 1.400 M³'!B17","v":"1.3"},{"$f":"'COMP. MÓD. 1.400 M³'!C17","v":"CPU-01"},{"$f":"'COMP. MÓD. 1.400 M³'!D17","v":"ADMINISTRAÇÃO LOCAL"},{"$f":"'COMP. MÓD. 1.400 M³'!E17","v":"%"},5.0000000000000001E-3,200,1]
[null,{"$f":"'COMP. MÓD. 1.400 M³'!B18","v":"1.4"},{"$f":"'COMP. MÓD. 1.400 M³'!C18","v":"CPU-02"},{"$f":"'COMP. MÓD. 1.400 M³'!D18","v":"PLACA DE OBRA EM CHAPA DE AÇO GALVANIZADO (3,20 M x 1,60 M)"},{"$f":"'COMP. MÓD. 1.400 M³'!E18","v":"M²"},{"$f":"'COMP. MÓD. 1.400 M³'!F18","v":0.64000000000000012},200,128]
[null,{"$f":"'COMP. MÓD. 1.400 M³'!B19","v":"1.5"},{"$f":"'COMP. MÓD. 1.400 M³'!C19","v":"SICRO 5914639"},{"$f":"'COMP. MÓD. 1.400 M³'!D19","v":"TRANSPORTE DE EQUIPAMENTOS EM RODOVIA COM REVESTIMENTO PRIMÁRIO - DESMOBILIZAÇÃO"},{"$f":"'COMP. MÓD. 1.400 M³'!E19","v":"TON x KM"},{"$f":"'COMP. MÓD. 1.400 M³'!F19","v":235.8},200,47160]
[null,{"$f":"'COMP. MÓD. 1.400 M³'!B20","v":"1.6"},{"$f":"'COMP. MÓD. 1.400 M³'!C20","v":"SICRO 5914640"},{"$f":"'COMP. MÓD. 1.400 M³'!D20","v":"TRANSPORTE DE EQUIPAMENTOS EM RODOVIA PAVIMENTADA - DESMOBILIZAÇÃO"},{"$f":"'COMP. MÓD. 1.400 M³'!E20","v":"TON x KM"},{"$f":"'COMP. MÓD. 1.400 M³'!F20","v":314.39999999999998},200,62880]
[null,{"$f":"'COMP. MÓD. 1.400 M³'!B21","v":"1.7"},{"$f":"'COMP. MÓD. 1.400 M³'!C21","v":"CPU-03"},{"$f":"'COMP. MÓD. 1.400 M³'!D21","v":"LEVANTAMENTOS TOPOGRÁFICOS PRIMITIVOS"},{"$f":"'COMP. MÓD. 1.400 M³'!E21","v":"UND"},{"$f":"'COMP. MÓD. 1.400 M³'!F21","v":1},200,200]
[null,{"$f":"'COMP. MÓD. 1.400 M³'!B22","v":"1.8"},{"$f":"'COMP. MÓD. 1.400 M³'!C22","v":"CPU-03"},{"$f":"'COMP. MÓD. 1.400 M³'!D22","v":"LEVANTAMENTOS TOPOGRÁFICOS PARA AS BUILT"},{"$f":"'COMP. MÓD. 1.400 M³'!E22","v":"UND"},{"$f":"'COMP. MÓD. 1.400 M³'!F22","v":1},200,200]
[null,{"$f":"'COMP. MÓD. 1.400 M³'!B23","v":"1.9"},{"$f":"'COMP. MÓD. 1.400 M³'!C23","v":"CPU-04"},{"$f":"'COMP. MÓD. 1.400 M³'!D23","v":"VEÍCULO LEVE 53 KW (SEM MOTORISTA) COM COMBUSTÍVEL INCLUSO"},{"$f":"'COMP. MÓD. 1.400 M³'!E23","v":"UND x MÊS"},{"$f":"'COMP. MÓD. 1.400 M³'!F23","v":0.08},200,16]
[null,{"$f":"'COMP. MÓD. 1.400 M³'!B24","v":"1.10"},{"$f":"'COMP. MÓD. 1.400 M³'!C24","v":"CPU-05"},{"$f":"'COMP. MÓD. 1.400 M³'!D24","v":"DIÁRIA PARA VIAGEM COM HOSPEDAGEM"},{"$f":"'COMP. MÓD. 1.400 M³'!E24","v":"DIÁRIA"},{"$f":"'COMP. MÓD. 1.400 M³'!F24","v":2.56},200,512]
[null,{"$f":"'COMP. MÓD. 1.400 M³'!B25","v":"1.11"},{"$f":"'COMP. MÓD. 1.400 M³'!C25","v":"CPU-06"},{"$f":"'COMP. MÓD. 1.400 M³'!D25","v":"DIÁRIA PARA VIAGEM SEM HOSPEDAGEM"},{"$f":"'COMP. MÓD. 1.400 M³'!E25","v":"DIÁRIA"},{"$f":"'COMP. MÓD. 1.400 M³'!F25","v":0.64},200,128]
[{"$nulls":4},"TOTAL DO SUBITEM 1"]
[null,2,"CONSTRUÇÃO DE BACIA DE CAPTAÇÃO E ARMAZENAMENTO DE ÁGUA, COM CAPACIDADE MÍNIMA DE ARMAZENAMENTO DE 1.000 M³",null,"UND","QUANTIDADE POR MÓDULO","QUANTIDADE DE MÓDULOS","QUANTIDADE","CUSTO UNITÁRIO","PREÇO UNITÁRIO","CUSTO TOTAL","PREÇO TOTAL","%"]
[null,"2.1",{"$f":"'COMP. MÓD. 1.400 M³'!C28","v":"CODEVASF (adaptado de SICRO 5502985)"},{"$f":"'COMP. MÓD. 1.400 M³'!D28","v":"LIMPEZA MECANIZADA DA CAMADA VEGETAL COM RETROESCAVADEIRA DE PNEUS COM CAPACIDADE DE 0,75 M³ - 58 KW"},{"$f":"'COMPOSIÇÕES - SICRO-SINAPI'!I40","v":"M²"},{"$f":"'COMP. MÓD. 1.400 M³'!F28","v":3600},{"$f":"$G$16","v":200},{"$f":"TRUNC((F29*G29),2)","v":720000}]
[null,"2.2",{"$f":"'COMP. MÓD. 1.400 M³'!C29","v":"CODEVASF (adaptado de SICRO 4413942)"},{"$f":"'COMP. MÓD. 1.400 M³'!D29","v":"ESPALHAMENTO DE MATERIAL COM RETROESCAVADEIRA DE PNEUS COM CAPACIDADE DE 0,76 M³ - 58 KW"},{"$f":"'COMPOSIÇÕES - SICRO-SINAPI'!I69","v":"M³"},{"$f":"'COMP. MÓD. 1.400 M³'!F29","v":1400},{"$f":"$G$16","v":200},{"$f":"TRUNC((F30*G30),2)","v":280000}]
[null,"2.3",{"$f":"'COMP. MÓD. 1.400 M³'!C30","v":"CODEVASF (Adaptado de SICRO 5501706)"},{"$f":"'COMP. MÓD. 1.400 M³'!D30","v":"ESCAVAÇÃO MECÂNICA COM RETROESCAVADEIRA (OU EQUIPAMENTO SUPERIOR) EM MATERIAL DE ESCAVAÇÃO DE 1ª CATEGORIA"},{"$f":"'COMPOSIÇÕES - SICRO-SINAPI'!I11","v":"M³"},{"$f":"'COMP. MÓD. 1.400 M³'!F30","v":1400},{"$f":"$G$16","v":200},{"$f":"TRUNC((F31*G31),2)","v":280000}]
[{"$nulls":4},"TOTAL DO SUBITEM 2"]
[]
[null,"TOTAL GERAL DOS SERVIÇOS A SEREM CONTRATADOS:"]

{"sheet":"CRONO FISICO-FINANCEIRO","index":3,"n_rows":43,"n_cols":18,"rows_kept":43,"cut":false,"hidden":false,"merged":[[36,1,36,3],[39,1,39,4],[40,1,40,4],[41,1,41,4],[42,1,42,4],[5,2,6,2],[7,2,8,2],[9,2,10,2],[11,2,12,2],[13,2,14,2],[15,2,16,2],[29,2,30,2],[31,2,32,2],[33,2,34,2],[27,1,27,3],[28,2,28,3],[15,1,16,1],[15,3,16,3],[29,3,30,3],[31,3,32,3],[33,3,34,3],[29,1,30,1],[31,1,32,1],[33,1,34,1],[17,1,18,1],[17,2,18,2],[5,1,6,1],[7,1,8,1],[9,1,10,1],[11,1,12,1],[13,1,14,1],[5,3,6,3],[7,3,8,3],[9,3,10,3],[11,3,12,3],[13,3,14,3],[0,1,0,15],[0,16,0,17],[1,1,1,17],[2,1,2,17],[4,2,4,3],[17,3,18,3],[19,1,20,1],[19,2,20,2],[19,3,20,3],[21,1,22,1],[21,2,22,2],[21,3,22,3],[23,1,24,1],[23,2,24,2],[23,3,24,3],[25,1,26,1],[25,2,26,2],[25,3,26,3]]}
[null,"OBJETO: EXECUÇÃO DE SERVIÇOS DE ESCAVAÇÃO EM SOLO DE 1ª CATEGORIA, OBJETIVANDO À IMPLANTAÇÃO DE RESERVATÓRIOS PARA ACÚMULO DE ÁGUA EM COMUNIDADES DE CARÁTER RURAL EM DIVERSOS MUNICÍPIOS DO ESTADO DA BAHIA, NA ÁREA DE ATUAÇÃO DA 2ª SR DA CODEVASF."]
[]
[null,"CRONOGRAMA DE EXECUÇÃO FÍSICO-FINANCEIRA"]
[]
[null,1,"SERVIÇOS AUXILIARES",null,"VALOR TOTAL","MÊS 1","MÊS 2","MÊS 3","MÊS 4","MÊS 5","MÊS 6","MÊS 7","MÊS 8","MÊS 9","MÊS 10","MÊS 11","MÊS 12","TOTAL"]
[null,{"$f":"'PLANILHA GLOBAL'!B16","v":"1.1"},{"$f":"'COMPOSIÇÕES - SICRO-SINAPI'!A99","v":"SICRO 5914639"},{"$f":"'PLANILHA GLOBAL'!D16","v":"TRANSPORTE DE EQUIPAMENTOS EM RODOVIA COM REVESTIMENTO PRIMÁRIO - MOBILIZAÇÃO"},{"$f":"'PLANILHA GLOBAL'!L16","v":40086},{"$f":"$E$6*F7","v":0},{"$f":"$E$6*G7","v":8017.2000000000007},0,8017.2000000000007,0,8017.2000000000007,0,8017.2000000000007,0,8017.2000000000007,0,0,{"$f":"SUM(F6:Q6)","v":40086}]
[{"$nulls":4},"%",0,0.2,0,0.2,0,0.2,0,0.2,0,0.2,0,0,1]
[null,{"$f":"'PLANILHA GLOBAL'!B17","v":"1.2"},{"$f":"'COMPOSIÇÕES - SICRO-SINAPI'!A127","v":"SICRO 5914640"},{"$f":"'PLANILHA GLOBAL'!D17","v":"TRANSPORTE DE EQUIPAMENTOS EM RODOVIA PAVIMENTADA - MOBILIZAÇÃO"},{"$f":"'PLANILHA GLOBAL'!L17","v":44016},{"$f":"$E$8*F9","v":0},{"$f":"$E$8*G9","v":8803.2000000000007},0,8803.2000000000007,0,8803.2000000000007,0,8803.2000000000007,0,8803.2000000000007,0,0,44016]
[{"$nulls":4},"%",0,0.2,0,0.2,0,0.2,0,0.2,0,0.2,0,0,1]
[null,{"$f":"'PLANILHA GLOBAL'!B18","v":"1.3"},{"$f":"'COMPOSIÇÕES MISTAS'!A14","v":"CPU-01"},{"$f":"'PLANILHA GLOBAL'!D18","v":"ADMINISTRAÇÃO LOCAL"},{"$f":"'PLANILHA GLOBAL'!L18","v":246100},{"$f":"$E$10*F11","v":1230.5},{"$f":"$E$10*G11","v":9745.5600000000013},37554.86,11886.630000000001,37554.86,11886.630000000001,37554.86,11886.630000000001,37554.86,10803.79,37554.86,885.95999999999992,246100.00000000003]
[{"$nulls":4},"%",5.0000000000000001E-3,3.9600000000000003E-2,0.15260000000000001,4.8300000000000003E-2,0.15260000000000001,4.8300000000000003E-2,0.15260000000000001,4.8300000000000003E-2,0.15260000000000001,4.3900000000000002E-2,0.15260000000000001,3.5999999999999999E-3,1.0000000000000002]
[null,{"$f":"'PLANILHA GLOBAL'!B19","v":"1.4"},{"$f":"'COMPOSIÇÕES MISTAS'!A21","v":"CPU-02"},{"$f":"'PLANILHA GLOBAL'!D19","v":"PLACA DE OBRA EM CHAPA DE AÇO GALVANIZADO (3,20 M x 1,60 M)"},{"$f":"'PLANILHA GLOBAL'!L19","v":79503.360000000001},{"$f":"$E$12*F13","v":0},{"$f":"$E$12*G13","v":19875.84},0,19875.84,0,19875.84,0,19875.84,0,0,0,0,79503.360000000001]
[{"$nulls":4},"%",0,0.25,0,0.25,0,0.25,0,0.25,0,0,0,0,1]
[null,{"$f":"'PLANILHA GLOBAL'!B20","v":"1.5"},{"$f":"'COMPOSIÇÕES - SICRO-SINAPI'!A99","v":"SICRO 5914639"},{"$f":"'PLANILHA GLOBAL'!D20","v":"TRANSPORTE DE EQUIPAMENTOS EM RODOVIA COM REVESTIMENTO PRIMÁRIO - DESMOBILIZAÇÃO"},{"$f":"'PLANILHA GLOBAL'!L20","v":40086},{"$f":"$E$14*F15","v":0},{"$f":"$E$14*G15","v":0},0,8017.2000000000007,0,8017.2000000000007,0,8017.2000000000007,0,8017.2000000000007,0,8017.2000000000007,40086]
[{"$nulls":4},"%",0,0,0,0.2,0,0.2,0,0.2,0,0.2,0,0.2,1]
[null,{"$f":"'PLANILHA GLOBAL'!B21","v":"1.6"},{"$f":"'COMPOSIÇÕES - SICRO-SINAPI'!A127","v":"SICRO 5914640"},{"$f":"'PLANILHA GLOBAL'!D21","v":"TRANSPORTE DE EQUIPAMENTOS EM RODOVIA PAVIMENTADA - DESMOBILIZAÇÃO"},{"$f":"'PLANILHA GLOBAL'!L21","v":44016},{"$f":"$E$16*F17","v":0},{"$f":"$E$16*G17","v":0},0,8803.2000000000007,0,8803.2000000000007,0,8803.2000000000007,0,8803.2000000000007,0,8803.2000000000007,44016]
[{"$nulls":4},"%",0,0,0,0.2,0,0.2,0,0.2,0,0.2,0,0.2,1]
[null,{"$f":"'PLANILHA GLOBAL'!B22","v":"1.7"},{"$f":"'COMPOSIÇÕES - SICRO-SINAPI'!A129","v":0},{"$f":"'PLANILHA GLOBAL'!D22","v":"LEVANTAMENTOS TOPOGRÁFICOS PRIMITIVOS"},{"$f":"'PLANILHA GLOBAL'!L22","v":229376},{"$f":"$E$18*F19","v":22937.600000000002},22937.600000000002,22937.600000000002,22937.600000000002,22937.600000000002,22937.600000000002,22937.600000000002,22937.600000000002,22937.600000000002,22937.600000000002,0,0,{"$f":"SUM(F18:Q18)","v":229376.00000000003}]
[{"$nulls":4},"%",0.1,0.1,0.1,0.1,0.1,0.1,0.1,0.1,0.1,0.1,0,0,0.99999999999999989]
[null,{"$f":"'PLANILHA GLOBAL'!B23","v":"1.8"},{"$f":"'COMPOSIÇÕES - SICRO-SINAPI'!A131","v":0},{"$f":"'PLANILHA GLOBAL'!D23","v":"LEVANTAMENTOS TOPOGRÁFICOS PARA AS BUILT"},{"$f":"'PLANILHA GLOBAL'!L23","v":229376},{"$f":"$E$20*F21","v":0},0,22937.600000000002,22937.600000000002,22937.600000000002,22937.600000000002,22937.600000000002,22937.600000000002,22937.600000000002,22937.600000000002,45875.200000000004,0,{"$f":"SUM(F20:Q20)","v":229376.00000000003}]
[{"$nulls":4},"%",0,0,0.1,0.1,0.1,0.1,0.1,0.1,0.1,0.1,0.2,0,1]
[null,{"$f":"'PLANILHA GLOBAL'!B24","v":"1.9"},{"$f":"'COMPOSIÇÕES - SICRO-SINAPI'!A133","v":0},{"$f":"'PLANILHA GLOBAL'!D24","v":"VEÍCULO LEVE 53 KW (SEM MOTORISTA) COM COMBUSTÍVEL INCLUSO"},{"$f":"'PLANILHA GLOBAL'!L24","v":105633.12},{"$f":"$E$22*F23","v":0},10563.312,10563.312,10563.312,10563.312,10563.312,10563.312,10563.312,10563.312,10563.312,10563.312,0,105633.12000000001]
[{"$nulls":4},"%",0,0.1,0.1,0.1,0.1,0.1,0.1,0.1,0.1,0.1,0.1,0,0.99999999999999989]
[null,{"$f":"'PLANILHA GLOBAL'!B25","v":"1.10"},{"$f":"'COMPOSIÇÕES - SICRO-SINAPI'!A135","v":0},{"$f":"'PLANILHA GLOBAL'!D25","v":"DIÁRIA PARA VIAGEM COM HOSPEDAGEM"},{"$f":"'PLANILHA GLOBAL'!L25","v":238679.04000000001},{"$f":"$E$24*F25","v":0},23867.904000000002,23867.904000000002,23867.904000000002,23867.904000000002,23867.904000000002,23867.904000000002,23867.904000000002,23867.904000000002,23867.904000000002,23867.904000000002,0,238679.04000000007]
[{"$nulls":4},"%",0,0.1,0.1,0.1,0.1,0.1,0.1,0.1,0.1,0.1,0.1,0,0.99999999999999989]
[null,{"$f":"'PLANILHA GLOBAL'!B26","v":"1.11"},{"$f":"'COMPOSIÇÕES - SICRO-SINAPI'!A137","v":0},{"$f":"'PLANILHA GLOBAL'!D26","v":"DIÁRIA PARA VIAGEM SEM HOSPEDAGEM"},{"$f":"'PLANILHA GLOBAL'!L26","v":16984.32},{"$f":"$E$26*F27","v":0},1698.432,1698.432,1698.432,1698.432,1698.432,1698.432,1698.432,1698.432,1698.432,1698.432,0,16984.320000000003]
[{"$nulls":4},"%",0,0.1,0.1,0.1,0.1,0.1,0.1,0.1,0.1,0.1,0.1,0,0.99999999999999989]
[{"$nulls":16},"SUBTOTAL",{"$f":"SUM(R6,R8,R10,R12,R14,R16,R18,R20,R22,R24,R26)","v":1313855.8400000001}]
[null,2,"CONSTRUÇÃO DE BACIA DE CAPTAÇÃO E ARMAZENAMENTO DE ÁGUA, COM CAPACIDADE MÍNIMA DE ARMAZENAMENTO DE 1.400 M³.",null,"VALOR TOTAL","MÊS 1","MÊS 2","MÊS 3","MÊS 4","MÊS 5","MÊS 6","MÊS 7","MÊS 8","MÊS 9","MÊS 10","MÊS 11","MÊS 12","TOTAL"]
[null,{"$f":"'PLANILHA GLOBAL'!B29","v":"2.1"},{"$f":"'COMPOSIÇÕES - SICRO-SINAPI'!A41","v":"CODEVASF (adaptado de SICRO 5502985)"},{"$f":"'PLANILHA GLOBAL'!D29","v":"LIMPEZA MECANIZADA DA CAMADA VEGETAL COM RETROESCAVADEIRA DE PNEUS COM CAPACIDADE DE 0,75 M³ - 58 KW"},{"$f":"'PLANILHA GLOBAL'!L29","v":424800},{"$f":"$E$30*F31","v":0},{"$f":"$E$30*G31","v":84960},0,84960,0,84960,0,84960,0,84960,0,0,{"$f":"SUM(F30:Q30)","v":424800}]
[{"$nulls":4},"%",0,0.2,0,0.2,0,0.2,0,0.2,0,0.2,0,0,1]
[null,{"$f":"'PLANILHA GLOBAL'!B30","v":"2.2"},{"$f":"'COMPOSIÇÕES - SICRO-SINAPI'!A70","v":"CODEVASF (adaptado de SICRO 4413942)"},{"$f":"'PLANILHA GLOBAL'!D30","v":"ESPALHAMENTO DE MATERIAL COM RETROESCAVADEIRA DE PNEUS COM CAPACIDADE DE 0,76 M³ - 58 KW"},{"$f":"'PLANILHA GLOBAL'!L30","v":602000},{"$f":"$E$32*F33","v":0},{"$f":"$E$32*G33","v":0},120400,0,120400,0,120400,0,120400,0,120400,0,602000]
[{"$nulls":4},"%",0,0,0.2,0,0.2,0,0.2,0,0.2,0,0.2,0,1]
[null,{"$f":"'PLANILHA GLOBAL'!B31","v":"2.3"},{"$f":"'COMPOSIÇÕES - SICRO-SINAPI'!A12","v":"CODEVASF (Adaptado de SICRO 5501706)"},{"$f":"'PLANILHA GLOBAL'!D31","v":"ESCAVAÇÃO MECÂNICA COM RETROESCAVADEIRA (OU EQUIPAMENTO SUPERIOR) EM MATERIAL DE ESCAVAÇÃO DE 1ª CATEGORIA"},{"$f":"'PLANILHA GLOBAL'!L31","v":2472400},{"$f":"$E$34*F35","v":0},{"$f":"$E$34*G35","v":0},494480,0,494480,0,494480,0,494480,0,494480,0,2472400]
[{"$nulls":4},"%",0,0,0.2,0,0.2,0,0.2,0,0.2,0,0.2,0,1]
[{"$nulls":16},"SUBTOTAL",{"$f":"SUM(R30,R32,R34)","v":3499200}]
[null,"TOTAL GERAL",null,null,{"$f":"SUM(E6,E8,E10,E12,E14,E16,E18,E20,E22,E24,E26,E30,E32,E34)","v":4813055.84},{"$nulls":11},"TOTAL GERAL",{"$f":"SUM(R28,R36)","v":4813055.84}]
[]
[]
[null,"TOTAL A SER EXECUTADO NO MÊS",null,null,null,{"$f":"F6+F8+F10+F12+F14+F16+F18+F20+F22+F24+F26+F30+F32+F34","v":24168.100000000002},{"$f":"G6+G8+G10+G12+G14+G16+G18+G20+G22+G24+G26+G30+G32+G34","v":190469.04800000001},734439.70799999998,232368.11800000002,734439.70799999998,232368.11800000002,734439.70799999998,232368.11800000002,734439.70799999998,211409.43800000002,734439.70799999998,17706.36,{"$f":"SUM(F40:Q40)","v":4813055.8400000008}]
[null,"PERCENTUAL DE EXECUÇÃO NO MÊS",null,null,null,{"$f":"F40/$R$37","v":5.0213628936413924E-3},{"$f":"G40/$R$37","v":3.9573413301600094E-2},0.15259322401711425,4.8278708106573726E-2,0.15259322401711425,4.8278708106573726E-2,0.15259322401711425,4.8278708106573726E-2,0.15259322401711425,4.3924160663799824E-2,0.15259322401711425,3.6788187356662791E-3,{"$f":"SUM(F41:Q41)","v":1.0000000000000002}]
[null,"TOTAL ACUMULADO",null,null,null,{"$f":"F40","v":24168.100000000002},{"$f":"F42+G40","v":214637.14800000002},{"$f":"G42+H40","v":949076.85600000003},1181444.9739999999,1915884.682,2148252.7999999998,2882692.5079999999,3115060.6260000002,3849500.3340000003,4060909.7720000003,4795349.4800000004,4813055.8400000008]
[null,"PERCENTUAL DE EXECUÇÃO ACUMULADO",null,null,null,{"$f":"F42/$R$37","v":5.0213628936413924E-3},{"$f":"G42/$R$37","v":4.4594776195241485E-2},0.19718800021235575,0.24546670831892944,0.3980599323360437,0.4463386404426174,0.59893186445973168,0.64721057256630543,0.79980379658341971,0.84372795724721961,0.99632118126433389,1.0000000000000002]

{"sheet":"COMP. MÓD. 1.400 M³","index":4,"n_rows":35,"n_cols":11,"rows_kept":35,"cut":false,"hidden":false,"merged":[[32,4,32,8],[34,4,34,8],[1,6,4,7],[1,8,4,10],[6,1,7,10],[25,1,25,3],[25,4,25,8],[26,2,26,3],[26,4,26,9],[30,4,30,8],[9,1,9,10],[10,1,10,10],[11,2,11,3],[12,1,12,9],[13,2,13,3],[13,4,13,9],[1,1,1,5],[2,1,2,5],[3,1,3,5],[4,1,4,5],[8,1,8,10]]}
[]
[null,"MINISTÉRIO DA INTEGRAÇÃO E DO DESENVOLVIMENTO REGIONAL - MIDR",{"$nulls":6},"PLANILHA ORÇAMENTÁRIA PARA MÓDULO MÍNIMO"]
[null,"COMPANHIA DE DESENVOLVIMENTO DOS VALES DO SÃO FRANCISCO E DO PARNAÍBA"]
[null,"2ª SUPERINTENDÊNCIA REGIONAL - BOM JESUS DA LAPA/BA."]
[null,"GERÊNCIA DE INFRAESTRUTURA - 2ª/GRD"]
[]
[null,"OBJETO: EXECUÇÃO DE SERVIÇOS DE ESCAVAÇÃO EM SOLO DE 1ª CATEGORIA, OBJETIVANDO À IMPLANTAÇÃO DE RESERVATÓRIOS PARA ACÚMULO DE ÁGUA EM COMUNIDADES DE CARÁTER RURAL EM DIVERSOS MUNICÍPIOS DO ESTADO DA BAHIA, NA ÁREA DE ATUAÇÃO DA 2ª SR DA CODEVASF."]
[]
[null,"MESES DE REFERÊNCIA: SINAPI-BA: AGOSTO/2025; SICRO-BA: JULHO/2025; TC DNIT: JULHO/2025.            BDI: 21,50%.                 ENCARGOS SOCIAIS: 115,57% (HORISTA) E 71,29% (MENSALISTA)."]
[]
[null,"PLANILHA MÓDULO MINIMO PARA RESERVATÓRIO DE 1.400 M³ - SEM DESONERAÇÃO"]
[null,"ITEM","DISCRIMINAÇÃO DOS SERVIÇOS",null,"UND","QUANTIDADE","CUSTO UNITÁRIO","CUSTO TOTAL","PREÇO UNITÁRIO","PREÇO TOTAL","%"]
[]
[null,1,"SERVIÇOS AUXILIARES",{"$nulls":7},"%"]
[null,"1.1",{"$f":"'COMPOSIÇÕES - SICRO-SINAPI'!A99","v":"SICRO 5914639"},"TRANSPORTE DE EQUIPAMENTOS EM RODOVIA COM REVESTIMENTO PRIMÁRIO - MOBILIZAÇÃO",{"$f":"'COMPOSIÇÕES - SICRO-SINAPI'!I98","v":"TON x KM"},{"$f":"TRUNC(('MOBIL. REV. PRIMÁRIO'!D19*'MOBIL. REV. PRIMÁRIO'!I24),2)","v":235.8},{"$f":"'COMPOSIÇÕES - SICRO-SINAPI'!I120","v":0.7},{"$f":"TRUNC(F15*G15,2)","v":165.06},{"$f":"'COMPOSIÇÕES - SICRO-SINAPI'!I121","v":0.85},{"$f":"TRUNC(F15*I15,2)","v":200.43},{"$f":"((J15/$J$33))","v":8.3286031399619209E-3}]
[null,"1.2",{"$f":"'COMPOSIÇÕES - SICRO-SINAPI'!A127","v":"SICRO 5914640"},"TRANSPORTE DE EQUIPAMENTOS EM RODOVIA PAVIMENTADA - MOBILIZAÇÃO",{"$f":"'COMPOSIÇÕES - SICRO-SINAPI'!I126","v":"TON x KM"},{"$f":"TRUNC(('MOBIL. VIA ASFALTADA'!D19*'MOBIL. VIA ASFALTADA'!I24),2)","v":314.39999999999998},{"$f":"'COMPOSIÇÕES - SICRO-SINAPI'!I148","v":0.57999999999999996},182.35,{"$f":"'COMPOSIÇÕES - SICRO-SINAPI'!I149","v":0.7},220.08,9.1451328595660315E-3]
[null,"1.3",{"$f":"'COMPOSIÇÕES MISTAS'!A14","v":"CPU-01"},{"$f":"'COMPOSIÇÕES MISTAS'!D14","v":"ADMINISTRAÇÃO LOCAL"},{"$f":"'COMPOSIÇÕES MISTAS'!E14","v":"%"},1,{"$f":"'COMPOSIÇÕES MISTAS'!H17","v":1012.76},1012.76,{"$f":"'COMPOSIÇÕES MISTAS'!H19","v":1230.5},1230.5,5.1131797454089425E-2]
[null,"1.4",{"$f":"'COMPOSIÇÕES MISTAS'!A21","v":"CPU-02"},{"$f":"'COMPOSIÇÕES MISTAS'!D21","v":"PLACA DE OBRA EM CHAPA DE AÇO GALVANIZADO (3,20 M x 1,60 M)"},{"$f":"'COMPOSIÇÕES MISTAS'!E21","v":"M²"},{"$f":"(3.2*1.6)/8","v":0.64000000000000012},{"$f":"'COMPOSIÇÕES MISTAS'!H32","v":511.21},327.17,{"$f":"'COMPOSIÇÕES MISTAS'!H34","v":621.12},397.51,1.6518001467675812E-2]
[null,"1.5",{"$f":"'COMPOSIÇÕES - SICRO-SINAPI'!A99","v":"SICRO 5914639"},"TRANSPORTE DE EQUIPAMENTOS EM RODOVIA COM REVESTIMENTO PRIMÁRIO - DESMOBILIZAÇÃO",{"$f":"'COMPOSIÇÕES - SICRO-SINAPI'!I98","v":"TON x KM"},{"$f":"TRUNC(('MOBIL. REV. PRIMÁRIO'!D19*'MOBIL. REV. PRIMÁRIO'!I24),2)","v":235.8},{"$f":"'COMPOSIÇÕES - SICRO-SINAPI'!I120","v":0.7},165.06,{"$f":"'COMPOSIÇÕES - SICRO-SINAPI'!I121","v":0.85},200.43,8.3286031399619209E-3]
[null,"1.6",{"$f":"'COMPOSIÇÕES - SICRO-SINAPI'!A127","v":"SICRO 5914640"},"TRANSPORTE DE EQUIPAMENTOS EM RODOVIA PAVIMENTADA - DESMOBILIZAÇÃO",{"$f":"'COMPOSIÇÕES - SICRO-SINAPI'!I126","v":"TON x KM"},{"$f":"TRUNC(('MOBIL. VIA ASFALTADA'!D19*'MOBIL. VIA ASFALTADA'!I24),2)","v":314.39999999999998},{"$f":"'COMPOSIÇÕES - SICRO-SINAPI'!I148","v":0.57999999999999996},182.35,{"$f":"'COMPOSIÇÕES - SICRO-SINAPI'!I149","v":0.7},220.08,9.1451328595660315E-3]
[null,"1.7",{"$f":"'COMPOSIÇÕES MISTAS'!A36","v":"CPU-03"},"LEVANTAMENTOS TOPOGRÁFICOS PRIMITIVOS",{"$f":"'COMPOSIÇÕES MISTAS'!E36","v":"UND"},1,{"$f":"'COMPOSIÇÕES MISTAS'!H46","v":943.94},943.94,{"$f":"'COMPOSIÇÕES MISTAS'!H48","v":1146.8800000000001},1146.8800000000001,4.7657079125677439E-2]
[null,"1.8",{"$f":"'COMPOSIÇÕES MISTAS'!A36","v":"CPU-03"},"LEVANTAMENTOS TOPOGRÁFICOS PARA AS BUILT",{"$f":"'COMPOSIÇÕES MISTAS'!E36","v":"UND"},1,{"$f":"'COMPOSIÇÕES MISTAS'!H46","v":943.94},943.94,{"$f":"'COMPOSIÇÕES MISTAS'!H48","v":1146.8800000000001},1146.8800000000001,4.7657079125677439E-2]
[null,"1.9",{"$f":"'COMPOSIÇÕES MISTAS'!A50","v":"CPU-04"},{"$f":"'COMPOSIÇÕES MISTAS'!D50","v":"VEÍCULO LEVE 53 KW (SEM MOTORISTA) COM COMBUSTÍVEL INCLUSO"},{"$f":"'COMPOSIÇÕES MISTAS'!E50","v":"UND x MÊS"},{"$f":"TRUNC((1/25)*2,2)","v":0.08},{"$f":"'COMPOSIÇÕES MISTAS'!H54","v":5433.81},434.7,{"$f":"'COMPOSIÇÕES MISTAS'!H56","v":6602.07},528.16,2.1946989145348938E-2]
[null,"1.10",{"$f":"'COMPOSIÇÕES MISTAS'!A58","v":"CPU-05"},{"$f":"'COMPOSIÇÕES MISTAS'!D58","v":"DIÁRIA PARA VIAGEM COM HOSPEDAGEM"},{"$f":"'COMPOSIÇÕES MISTAS'!E58","v":"DIÁRIA"},{"$f":"TRUNC(((4*4*2*2)/25),2)","v":2.56},{"$f":"'COMPOSIÇÕES MISTAS'!H61","v":383.68},982.22,{"$f":"'COMPOSIÇÕES MISTAS'!H63","v":466.17},{"$f":"TRUNC(F24*I24,2)","v":1193.3900000000001},4.9589740563783652E-2]
[null,"1.11",{"$f":"'COMPOSIÇÕES MISTAS'!A66","v":"CPU-06"},{"$f":"'COMPOSIÇÕES MISTAS'!D66","v":"DIÁRIA PARA VIAGEM SEM HOSPEDAGEM"},{"$f":"'COMPOSIÇÕES MISTAS'!E66","v":"DIÁRIA"},{"$f":"TRUNC(((4/25)*2*2),2)","v":0.64},{"$f":"'COMPOSIÇÕES MISTAS'!H68","v":109.21},69.89,{"$f":"'COMPOSIÇÕES MISTAS'!H70","v":132.69},84.92,3.528738106299288E-3]
[{"$nulls":4},"TOTAL DO ITEM 1",{"$nulls":4},{"$f":"SUM(J15:J25)","v":6569.26},0.27297689698760791]
[null,2,"CONSTRUÇÃO DE TANQUE DE CAPTAÇÃO E ARMAZENAMENTO DE ÁGUA, COM CAPACIDADE MÍNIMA DE 1.400 M³",{"$nulls":7},"%"]
[null,"2.1",{"$f":"'COMPOSIÇÕES - SICRO-SINAPI'!A41","v":"CODEVASF (adaptado de SICRO 5502985)"},"LIMPEZA MECANIZADA DA CAMADA VEGETAL COM RETROESCAVADEIRA DE PNEUS COM CAPACIDADE DE 0,75 M³ - 58 KW",{"$f":"'COMPOSIÇÕES - SICRO-SINAPI'!I40","v":"M²"},{"$f":"60*60","v":3600},{"$f":"'COMPOSIÇÕES - SICRO-SINAPI'!I63","v":0.49},{"$f":"TRUNC(F28*G28,2)","v":1764},{"$f":"'COMPOSIÇÕES - SICRO-SINAPI'!I64","v":0.59},{"$f":"TRUNC(F28*I28,2)","v":2124},{"$f":"((J28/$J$33))","v":8.8260006332780125E-2}]
[null,"2.2",{"$f":"'COMPOSIÇÕES - SICRO-SINAPI'!A70","v":"CODEVASF (adaptado de SICRO 4413942)"},"ESPALHAMENTO DE MATERIAL COM RETROESCAVADEIRA DE PNEUS COM CAPACIDADE DE 0,76 M³ - 58 KW",{"$f":"'COMPOSIÇÕES - SICRO-SINAPI'!I69","v":"M³"},1400,{"$f":"'COMPOSIÇÕES - SICRO-SINAPI'!I92","v":1.77},{"$f":"TRUNC(F29*G29,2)","v":2478},{"$f":"'COMPOSIÇÕES - SICRO-SINAPI'!I93","v":2.15},{"$f":"TRUNC(F29*I29,2)","v":3010},{"$f":"((J29/$J$33))","v":0.12507656264673642}]
[null,"2.3",{"$f":"'COMPOSIÇÕES - SICRO-SINAPI'!A12","v":"CODEVASF (Adaptado de SICRO 5501706)"},"ESCAVAÇÃO MECÂNICA COM RETROESCAVADEIRA (OU EQUIPAMENTO SUPERIOR) EM MATERIAL DE ESCAVAÇÃO DE 1ª CATEGORIA",{"$f":"'COMPOSIÇÕES - SICRO-SINAPI'!I11","v":"M³"},1400,{"$f":"'COMPOSIÇÕES - SICRO-SINAPI'!I34","v":7.27},{"$f":"TRUNC(F30*G30,2)","v":10178},{"$f":"'COMPOSIÇÕES - SICRO-SINAPI'!I35","v":8.83},{"$f":"TRUNC(F30*I30,2)","v":12362},{"$f":"((J30/$J$33))","v":0.51368653403287567}]
[{"$nulls":4},"TOTAL DO ITEM 2",{"$nulls":4},{"$f":"SUM(J28:J30)","v":17496},{"$f":"((J31/$J$33))","v":0.72702310301239215}]
[]
[{"$nulls":4},"TOTAL GERAL (R$)",{"$nulls":4},{"$f":"ROUND((SUM(J26,J31)),4)","v":24065.26},{"$f":"((J33/$J$33))","v":1}]
[]
[{"$nulls":4},"PREÇO UNITÁRIO POR M³",{"$nulls":4},{"$f":"TRUNC(J33/F29,2)","v":17.18}]

{"sheet":"MEMÓRIA DE CÁLCULOS","index":5,"n_rows":31,"n_cols":9,"rows_kept":31,"cut":false,"hidden":false,"merged":[[14,2,14,10],[19,6,19,10],[20,6,20,10],[21,6,21,10],[22,6,22,10],[23,6,23,10],[24,6,24,10],[26,1,26,10],[31,1,31,10],[15,6,15,10],[16,6,16,10],[17,6,17,10],[18,6,18,10],[25,6,25,10],[28,6,28,10],[29,6,29,10],[30,6,30,10],[27,2,27,10],[13,1,13,10],[1,1,1,5],[1,6,4,7],[1,8,4,10],[2,1,2,5],[3,1,3,5],[4,1,4,5],[6,1,7,10],[8,1,8,10],[9,1,9,10],[10,1,10,10],[12,2,12,3],[12,6,12,10]]}
[]
[null,"MINISTÉRIO DA INTEGRAÇÃO E DO DESENVOLVIMENTO REGIONAL - MIDR",{"$nulls":6},"PLANILHA ORÇAMENTÁRIA PARA MÓDULO MÍNIMO"]
[null,"COMPANHIA DE DESENVOLVIMENTO DOS VALES DO SÃO FRANCISCO E DO PARNAÍBA"]
[null,"2ª SUPERINTENDÊNCIA REGIONAL - BOM JESUS DA LAPA/BA."]
[null,"GERÊNCIA DE INFRAESTRUTURA - 2ª/GRD"]
[]
[null,"OBJETO: EXECUÇÃO DE SERVIÇOS DE ESCAVAÇÃO EM SOLO DE 1ª CATEGORIA, OBJETIVANDO À IMPLANTAÇÃO DE RESERVATÓRIOS PARA ACÚMULO DE ÁGUA EM COMUNIDADES DE CARÁTER RURAL EM DIVERSOS MUNICÍPIOS DO ESTADO DA BAHIA, NA ÁREA DE ATUAÇÃO DA 2ª SR DA CODEVASF."]
[]
[null,"MESES DE REFERÊNCIA: SINAPI-BA: AGOSTO/2025; SICRO-BA: JULHO/2025; TC DNIT: JULHO/2025.            BDI: 21,50%.                 ENCARGOS SOCIAIS: 115,57% (HORISTA) E 71,29% (MENSALISTA)."]
[]
[null,"MEMÓRIA DE CÁLCULOS - MÓDULO MINIMO PARA RESERVATÓRIO DE 1.400 M³"]
[]
[null,"ITEM","DISCRIMINAÇÃO DOS SERVIÇOS",null,"UNDIDADE","QUANTIDADE","MEMÓRIAS DE CÁLCULOS"]
[]
[null,1,"SERVIÇOS AUXILIARES"]
[null,"1.1",{"$f":"'COMPOSIÇÕES - SICRO-SINAPI'!A99","v":"SICRO 5914639"},"TRANSPORTE DE EQUIPAMENTOS EM RODOVIA COM REVESTIMENTO PRIMÁRIO - MOBILIZAÇÃO",{"$f":"'COMPOSIÇÕES - SICRO-SINAPI'!I98","v":"TON x KM"},{"$f":"TRUNC(('MOBIL. REV. PRIMÁRIO'!D19*'MOBIL. REV. PRIMÁRIO'!I24),2)","v":235.8},"7,86 TON (PESO TOTAL) * 30 KM (DISTÂNCIA MÉDIA) = 235,80 TON x KM"]
[null,"1.2",{"$f":"'COMPOSIÇÕES - SICRO-SINAPI'!A127","v":"SICRO 5914640"},"TRANSPORTE DE EQUIPAMENTOS EM RODOVIA PAVIMENTADA - MOBILIZAÇÃO",{"$f":"'COMPOSIÇÕES - SICRO-SINAPI'!I126","v":"TON x KM"},{"$f":"TRUNC(('MOBIL. VIA ASFALTADA'!D19*'MOBIL. VIA ASFALTADA'!I24),2)","v":314.39999999999998},"7,86 TON (PESO TOTAL) * 40 KM (DISTÂNCIA MÉDIA) = 314,40 TON x KM"]
[null,"1.3",{"$f":"'COMPOSIÇÕES MISTAS'!A14","v":"CPU-01"},{"$f":"'COMPOSIÇÕES MISTAS'!D14","v":"ADMINISTRAÇÃO LOCAL"},{"$f":"'COMPOSIÇÕES MISTAS'!E14","v":"%"},1,"12 H DE ENCARREGADO GERAL + 4 H DE ENGENHEIRO CIVIL (OU AFIM)"]
[null,"1.4",{"$f":"'COMPOSIÇÕES MISTAS'!A21","v":"CPU-02"},{"$f":"'COMPOSIÇÕES MISTAS'!D21","v":"PLACA DE OBRA EM CHAPA DE AÇO GALVANIZADO (3,20 M x 1,60 M)"},{"$f":"'COMPOSIÇÕES MISTAS'!E21","v":"M²"},{"$f":"(3.2*1.6)/8","v":0.64000000000000012},"[3,20 M (LARGURA) * 1,60 M (ALTURA)] / 8 = 0,64 M² "]
[null,"1.5",{"$f":"'COMPOSIÇÕES - SICRO-SINAPI'!A99","v":"SICRO 5914639"},"TRANSPORTE DE EQUIPAMENTOS EM RODOVIA COM REVESTIMENTO PRIMÁRIO - DESMOBILIZAÇÃO",{"$f":"'COMPOSIÇÕES - SICRO-SINAPI'!I98","v":"TON x KM"},{"$f":"TRUNC(('MOBIL. REV. PRIMÁRIO'!D19*'MOBIL. REV. PRIMÁRIO'!I24),2)","v":235.8},"7,86 TON (PESO TOTAL) * 30 KM (DISTÂNCIA MÉDIA) = 235,80 TON x KM"]
[null,"1.6",{"$f":"'COMPOSIÇÕES - SICRO-SINAPI'!A127","v":"SICRO 5914640"},"TRANSPORTE DE EQUIPAMENTOS EM RODOVIA PAVIMENTADA - DESMOBILIZAÇÃO",{"$f":"'COMPOSIÇÕES - SICRO-SINAPI'!I126","v":"TON x KM"},{"$f":"TRUNC(('MOBIL. VIA ASFALTADA'!D19*'MOBIL. VIA ASFALTADA'!I24),2)","v":314.39999999999998},"7,86 TON (PESO TOTAL) * 40 KM (DISTÂNCIA MÉDIA) = 314,40 TON x KM"]
[null,"1.7",{"$f":"'COMPOSIÇÕES MISTAS'!A36","v":"CPU-03"},"LEVANTAMENTOS TOPOGRÁFICOS PRIMITIVOS",{"$f":"'COMPOSIÇÕES MISTAS'!E36","v":"UND"},1,"VIDE CPU-03"]
[null,"1.8",{"$f":"'COMPOSIÇÕES MISTAS'!A36","v":"CPU-03"},"LEVANTAMENTOS TOPOGRÁFICOS PARA AS BUILT",{"$f":"'COMPOSIÇÕES MISTAS'!E36","v":"UND"},1,"VIDE CPU-03"]
[null,"1.9",{"$f":"'COMPOSIÇÕES MISTAS'!A50","v":"CPU-04"},{"$f":"'COMPOSIÇÕES MISTAS'!D50","v":"VEÍCULO LEVE 53 KW (SEM MOTORISTA) COM COMBUSTÍVEL INCLUSO"},{"$f":"'COMPOSIÇÕES MISTAS'!E50","v":"UND x MÊS"},{"$f":"TRUNC((1/25)*2,2)","v":0.08},"[(1 UND x MÊS) / (25 TANQUES/MÊS)] x 2 VEÍCULOS = 0,08 UND x MÊS (POR TANQUE ESCAVADO)"]
[null,"1.10",{"$f":"'COMPOSIÇÕES MISTAS'!A58","v":"CPU-05"},{"$f":"'COMPOSIÇÕES MISTAS'!D58","v":"DIÁRIA PARA VIAGEM COM HOSPEDAGEM"},{"$f":"'COMPOSIÇÕES MISTAS'!E58","v":"DIÁRIA"},{"$f":"TRUNC(((4*4*2*2)/25),2)","v":2.56},"(4 DIAS/SEMANA * 4 SEMANAS/MÊS * 2 PROFISSIONAIS * 2 VEZES) / 25 TANQUES/MÊS = 2,56 DIÁRIA"]
[null,"1.11",{"$f":"'COMPOSIÇÕES MISTAS'!A66","v":"CPU-06"},{"$f":"'COMPOSIÇÕES MISTAS'!D66","v":"DIÁRIA PARA VIAGEM SEM HOSPEDAGEM"},{"$f":"'COMPOSIÇÕES MISTAS'!E66","v":"DIÁRIA"},{"$f":"TRUNC(((4/25)*2*2),2)","v":0.64},"(1 DIA/SEMANA * 4 SEMANAS/MÊS * 2 PROFISSIONAIS * 2 VEZES) / 25 TANQUES/MÊS = 0,64 DIÁRIA"]
[]
[null,2,"CONSTRUÇÃO DE TANQUE DE CAPTAÇÃO E ARMAZENAMENTO DE ÁGUA, COM CAPACIDADE MÍNIMA DE 1.400 M³"]
[null,"2.1",{"$f":"'COMPOSIÇÕES - SICRO-SINAPI'!A41","v":"CODEVASF (adaptado de SICRO 5502985)"},"LIMPEZA MECANIZADA DA CAMADA VEGETAL COM RETROESCAVADEIRA DE PNEUS COM CAPACIDADE DE 0,75 M³ - 58 KW",{"$f":"'COMPOSIÇÕES - SICRO-SINAPI'!I40","v":"M²"},{"$f":"60*60","v":3600},"60 M (LARGURA MÉDIA) x 60 M (COMPRIMENTO MÉDIO) = 3.600 M²"]
[null,"2.2",{"$f":"'COMPOSIÇÕES - SICRO-SINAPI'!A70","v":"CODEVASF (adaptado de SICRO 4413942)"},"ESPALHAMENTO DE MATERIAL COM RETROESCAVADEIRA DE PNEUS COM CAPACIDADE DE 0,76 M³ - 58 KW",{"$f":"'COMPOSIÇÕES - SICRO-SINAPI'!I69","v":"M³"},1400,"700,00 M² (ÁREA MÉDIA ESCAVADA) x 2,00 M (PROFUNDIDADE MÉDIA) = 1.400 M³"]
[null,"2.3",{"$f":"'COMPOSIÇÕES - SICRO-SINAPI'!A12","v":"CODEVASF (Adaptado de SICRO 5501706)"},"ESCAVAÇÃO MECÂNICA COM RETROESCAVADEIRA (OU EQUIPAMENTO SUPERIOR) EM MATERIAL DE ESCAVAÇÃO DE 1ª CATEGORIA",{"$f":"'COMPOSIÇÕES - SICRO-SINAPI'!I11","v":"M³"},1400,"700,00 M² (ÁREA MÉDIA ESCAVADA) x 2,00 M (PROFUNDIDADE MÉDIA) = 1.400 M³"]

{"sheet":"COMPOSIÇÕES - SICRO-SINAPI","index":6,"n_rows":149,"n_cols":9,"rows_kept":149,"cut":false,"hidden":false,"merged":[[144,8,145,8],[12,0,13,1],[144,0,145,1],[127,0,128,1],[116,0,117,1],[99,0,100,1],[88,0,89,1],[70,0,71,1],[59,0,60,1],[41,0,42,1],[30,0,31,1],[144,4,144,6],[140,2,140,6],[142,7,142,8],[143,2,143,6],[116,4,116,6],[118,2,118,6],[119,4,119,6],[120,0,120,6],[126,1,126,6],[126,7,126,8],[127,3,127,4],[127,5,127,6],[131,6,131,8],[146,2,146,6],[147,4,147,6],[148,0,148,6],[12,2,13,2],[30,2,31,2],[41,2,42,2],[59,2,60,2],[70,2,71,2],[88,2,89,2],[99,2,100,2],[116,2,117,2],[127,2,128,2],[144,2,145,2],[30,3,31,3],[59,3,60,3],[88,3,89,3],[116,3,117,3],[144,3,145,3],[132,2,132,6],[133,2,133,6],[134,2,134,6],[137,6,137,8],[138,2,138,6],[139,6,139,8],[116,8,117,8],[104,2,104,6],[105,2,105,6],[106,2,106,6],[109,6,109,8],[110,2,110,6],[111,6,111,8],[112,2,112,6],[114,7,114,8],[115,2,115,6],[88,4,88,6],[90,2,90,6],[91,4,91,6],[92,0,92,6],[98,1,98,6],[98,7,98,8],[99,3,99,4],[99,5,99,6],[103,6,103,8],[88,8,89,8],[76,2,76,6],[77,2,77,6],[78,2,78,6],[81,6,81,8],[82,2,82,6],[83,6,83,8],[84,2,84,6],[86,7,86,8],[87,2,87,6],[59,4,59,6],[61,2,61,6],[62,4,62,6],[63,0,63,6],[69,1,69,6],[69,7,69,8],[70,3,70,4],[70,5,70,6],[74,6,74,8],[59,8,60,8],[47,2,47,6],[48,2,48,6],[49,2,49,6],[52,6,52,8],[53,2,53,6],[54,6,54,8],[55,2,55,6],[57,7,57,8],[58,2,58,6],[30,4,30,6],[32,2,32,6],[33,4,33,6],[34,0,34,6],[40,1,40,6],[40,7,40,8],[41,3,41,4],[41,5,41,6],[45,6,45,8],[30,8,31,8],[18,2,18,6],[19,2,19,6],[20,2,20,6],[23,6,23,8],[24,2,24,6],[25,6,25,8],[26,2,26,6],[28,7,28,8],[29,2,29,6],[0,1,0,8],[1,1,1,8],[2,1,2,8],[4,0,4,8],[11,1,11,6],[11,7,11,8],[12,3,12,4],[12,5,12,6],[16,6,16,8]]}
[null,"MINISTÉRIO DA INTEGRAÇÃO E DO DESENVOLVIMENTO REGIONAL"]
[null,"COMPANHIA DE DESENVOLVIMENTO DOS VALES DO SÃO FRANCISCO E DO PARNAÍBA"]
[null,"2ª SUPERINTENDÊNCIA REGIONAL - GERÊNCIA REGIONAL DE INFRAESTRUTURA"]
[]
["OBJETO: EXECUÇÃO DE SERVIÇOS DE ESCAVAÇÃO EM SOLO DE 1ª CATEGORIA, OBJETIVANDO À IMPLANTAÇÃO DE RESERVATÓRIOS PARA ACÚMULO DE ÁGUA EM COMUNIDADES DE CARÁTER RURAL EM DIVERSOS MUNICÍPIOS DO ESTADO DA BAHIA, NA ÁREA DE ATUAÇÃO DA 2ª SR DA CODEVASF."]
[]
[{"$nulls":6},"BDI (%):",{"$f":"TRUNC('BDI M. DE OBRA E SERVIÇOS'!D36,4)","v":0.215}]
[]
["CGCIT",{"$nulls":7},"DNIT"]
["SISTEMA DE CUSTOS REFERENCIAIS DE OBRAS - SICRO",null,null,"Bahia",null,null,"FIC",1.4250000000000001E-2]
["Custo Unitário de Referência",null,null,"Julho de 2025",null,null,"Produção da equipe ",26,"M³"]
["CODEVASF (Adaptado de SICRO 5501706)","Escavação mecânica com retroescavadeira em material de 1ª categoria",{"$nulls":5},"Valores em reais (R$)"]
["A - EQUIPAMENTOS",null,"Quantidade","Utilização",null,"Custo Horário",null,null,"Custo"]
[null,null,null,"Operativa","Improdutiva","Produtivo","Improdutivo",null,"Horário Total"]
[{"$f":"'INSUMOS E SERVIÇOS - PREÇOS'!D6","v":"E9526"},{"$f":"'INSUMOS E SERVIÇOS - PREÇOS'!A6","v":"RETROESCAVADEIRA DE PNEUS - CAPACIDADE DA CAÇAMBA DA PÁ CARREGADEIRA DE 0,76 M³ E DA RETROESCAVADEIRA DE 0,29 M³ - 58 KW"},1,1,0,{"$f":"'INSUMOS E SERVIÇOS - PREÇOS'!F6","v":162.0506},{"$f":"'INSUMOS E SERVIÇOS - PREÇOS'!G6","v":87.238299999999995},null,{"$f":"TRUNC((((D15*F15)+(E15*G15))*C15),2)","v":162.05000000000001}]
[{"$nulls":6},"Custo horário total de equipamentos",null,{"$f":"SUM(I15)","v":162.05000000000001}]
["B - MÃO DE OBRA",null,"Quantidade","Unidade",null,"Custo Horário","Custo Horário Total"]
[{"$f":"'INSUMOS E SERVIÇOS - PREÇOS'!D23","v":88316},{"$f":"'INSUMOS E SERVIÇOS - PREÇOS'!A23","v":"SERVENTE COM ENCARGOS COMPLEMENTARES"},1,"h",null,{"$f":"'INSUMOS E SERVIÇOS - PREÇOS'!F23","v":24.37},null,null,{"$f":"TRUNC((C18*F18),2)","v":24.37}]
[null,null,"Custo horário total de mão de obra",{"$nulls":5},{"$f":"SUM(I18)","v":24.37}]
[null,null,"Custo horário total de execução",{"$nulls":5},{"$f":"TRUNC((SUM(I16,I19)),2)","v":186.42}]
[null,null,"Custo unitário de execução",{"$nulls":5},{"$f":"TRUNC((I20/H11),2)","v":7.17}]
[{"$nulls":6},"Custo do FIC",null,{"$f":"TRUNC((I21*H10),2)","v":0.1}]
[{"$nulls":6},"Custo do FIT",null,"-"]
["C - MATERIAL",null,"Quantidade","Unidade",null,"Preço Unitário","Custo Unitário"]
[null,null,"Custo unitário total de material"]
["D - ATIVIDADES AUXILIARES",null,"Quantidade","Unidade",null,"Custo Unitário","Custo Unitário"]
[null,null,"Custo total de atividades auxiliares"]
[{"$nulls":6},"Subtotal",null,{"$f":"TRUNC((I21+I22),2)","v":7.27}]
["E - TEMPO FIXO",null,"Código","Quantidade","Unidade",null,"Custo Unitário","Custo Unitário"]
[null,null,"Custo unitário total de tempo fixo"]
["F - MOMENTO DE TRANSPORTE",null,"Quantidade","Unidade","DMT",null,null,null,"Custo Unitário"]
[{"$nulls":4},"LN","RP","P"]
[null,null,"Custo unitário total de transporte"]
[{"$nulls":4},"Custo unitário direto total",null,null,null,{"$f":"TRUNC((I28),2)","v":7.27}]
["Obs.: ",{"$nulls":6},"Com BDI",{"$f":"TRUNC(((1+$H$7)*I34),2)","v":8.83}]
[]
[]
["CGCIT",{"$nulls":7},"DNIT"]
["SISTEMA DE CUSTOS REFERENCIAIS DE OBRAS - SICRO",null,null,"Bahia",null,null,"FIC",1.4250000000000001E-2]
["Custo Unitário de Referência",null,null,"Julho de 2025",null,null,"Produção da equipe ",{"$f":"622.95*0.6","v":373.77000000000004},"M²"]
["CODEVASF (adaptado de SICRO 5502985)","Limpeza mecanizada da camada vegetal com retroescavadeira de pneus com capacidade de 0,76 m³ - 58 Kw",{"$nulls":5},"Valores em reais (R$)"]
["A - EQUIPAMENTOS",null,"Quantidade","Utilização",null,"Custo Horário",null,null,"Custo"]
[null,null,null,"Operativa","Improdutiva","Produtivo","Improdutivo",null,"Horário Total"]
[{"$f":"'INSUMOS E SERVIÇOS - PREÇOS'!D6","v":"E9526"},{"$f":"'INSUMOS E SERVIÇOS - PREÇOS'!A6","v":"RETROESCAVADEIRA DE PNEUS - CAPACIDADE DA CAÇAMBA DA PÁ CARREGADEIRA DE 0,76 M³ E DA RETROESCAVADEIRA DE 0,29 M³ - 58 KW"},1,1,0,{"$f":"'INSUMOS E SERVIÇOS - PREÇOS'!F6","v":162.0506},{"$f":"'INSUMOS E SERVIÇOS - PREÇOS'!G6","v":87.238299999999995},null,{"$f":"TRUNC((((D44*F44)+(E44*G44))*C44),2)","v":162.05000000000001}]
[{"$nulls":6},"Custo horário total de equipamentos",null,{"$f":"TRUNC((SUM(I44)),2)","v":162.05000000000001}]
["B - MÃO DE OBRA",null,"Quantidade","Unidade",null,"Custo Horário","Custo Horário Total"]
[{"$f":"'INSUMOS E SERVIÇOS - PREÇOS'!D23","v":88316},{"$f":"'INSUMOS E SERVIÇOS - PREÇOS'!A23","v":"SERVENTE COM ENCARGOS COMPLEMENTARES"},1,"h",null,{"$f":"'INSUMOS E SERVIÇOS - PREÇOS'!F23","v":24.37},null,null,{"$f":"TRUNC((C47*F47),2)","v":24.37}]
[null,null,"Custo horário total de mão de obra",{"$nulls":5},{"$f":"TRUNC(SUM(I47),2)","v":24.37}]
[null,null,"Custo horário total de execução",{"$nulls":5},{"$f":"TRUNC(SUM(I45,I48),2)","v":186.42}]
[null,null,"Custo unitário de execução",{"$nulls":5},{"$f":"TRUNC((I49/H40),2)","v":0.49}]
[{"$nulls":6},"Custo do FIC",null,{"$f":"TRUNC((I50*H39),2)","v":0}]
[{"$nulls":6},"Custo do FIT",null,"-"]
["C - MATERIAL",null,"Quantidade","Unidade",null,"Preço Unitário","Custo Unitário"]
[null,null,"Custo unitário total de material"]
["D - ATIVIDADES AUXILIARES",null,"Quantidade","Unidade",null,"Custo Unitário","Custo Unitário"]
[null,null,"Custo total de atividades auxiliares"]
[{"$nulls":6},"Subtotal",null,{"$f":"TRUNC((I50+I51),2)","v":0.49}]
["E - TEMPO FIXO",null,"Código","Quantidade","Unidade",null,"Custo Unitário","Custo Unitário"]
[null,null,"Custo unitário total de tempo fixo"]
["F - MOMENTO DE TRANSPORTE",null,"Quantidade","Unidade","DMT",null,null,null,"Custo Unitário"]
[{"$nulls":4},"LN","RP","P"]
[null,null,"Custo unitário total de transporte"]
[{"$nulls":4},"Custo unitário direto total",null,null,null,{"$f":"TRUNC((I57),2)","v":0.49}]
["Obs.: considerou-se o rendimento da retroescavadeira de 58 kw correspondente a 60% do rendimento do trator sobre esteiras com lâmina de 127 kw.",{"$nulls":6},"Com BDI",{"$f":"TRUNC(((1+$H$7)*I63),2)","v":0.59}]
[]
[]
["CGCIT",{"$nulls":7},"DNIT"]
["SISTEMA DE CUSTOS REFERENCIAIS DE OBRAS - SICRO",null,null,"Bahia",null,null,"FIC",1.4250000000000001E-2]
["Custo Unitário de Referência",null,null,"Julho de 2025",null,null,"Produção da equipe ",{"$f":"176.81*0.6","v":106.086},"M³"]
["CODEVASF (adaptado de SICRO 4413942)","Espalhamento de material em bota-fora com retroescavadeira de pneus com capacidade de 0,76 m³ - 58 Kw",{"$nulls":5},"Valores em reais (R$)"]
["A - EQUIPAMENTOS",null,"Quantidade","Utilização",null,"Custo Horário",null,null,"Custo"]
[null,null,null,"Operativa","Improdutiva","Produtivo","Improdutivo",null,"Horário Total"]
[{"$f":"'INSUMOS E SERVIÇOS - PREÇOS'!D6","v":"E9526"},{"$f":"'INSUMOS E SERVIÇOS - PREÇOS'!A6","v":"RETROESCAVADEIRA DE PNEUS - CAPACIDADE DA CAÇAMBA DA PÁ CARREGADEIRA DE 0,76 M³ E DA RETROESCAVADEIRA DE 0,29 M³ - 58 KW"},1,1,0,{"$f":"'INSUMOS E SERVIÇOS - PREÇOS'!F6","v":162.0506},{"$f":"'INSUMOS E SERVIÇOS - PREÇOS'!G6","v":87.238299999999995},null,{"$f":"TRUNC((((D73*F73)+(E73*G73))*C73),2)","v":162.05000000000001}]
[{"$nulls":6},"Custo horário total de equipamentos",null,{"$f":"TRUNC((SUM(I73)),2)","v":162.05000000000001}]
["B - MÃO DE OBRA",null,"Quantidade","Unidade",null,"Custo Horário","Custo Horário Total"]
[{"$f":"'INSUMOS E SERVIÇOS - PREÇOS'!D23","v":88316},{"$f":"'INSUMOS E SERVIÇOS - PREÇOS'!A23","v":"SERVENTE COM ENCARGOS COMPLEMENTARES"},1,"h",null,{"$f":"'INSUMOS E SERVIÇOS - PREÇOS'!F23","v":24.37},null,null,{"$f":"TRUNC((C76*F76),2)","v":24.37}]
[null,null,"Custo horário total de mão de obra",{"$nulls":5},{"$f":"TRUNC((SUM(I76)),2)","v":24.37}]
[null,null,"Custo horário total de execução",{"$nulls":5},{"$f":"TRUNC((SUM(I74,I77)),2)","v":186.42}]
[null,null,"Custo unitário de execução",{"$nulls":5},{"$f":"TRUNC((I78/H69),2)","v":1.75}]
[{"$nulls":6},"Custo do FIC",null,{"$f":"TRUNC((I79*H68),2)","v":0.02}]
[{"$nulls":6},"Custo do FIT",null,"-"]
["C - MATERIAL",null,"Quantidade","Unidade",null,"Preço Unitário","Custo Unitário"]
[null,null,"Custo unitário total de material"]
["D - ATIVIDADES AUXILIARES",null,"Quantidade","Unidade",null,"Custo Unitário","Custo Unitário"]
[null,null,"Custo total de atividades auxiliares"]
[{"$nulls":6},"Subtotal",null,{"$f":"TRUNC((I79+I80),2)","v":1.77}]
["E - TEMPO FIXO",null,"Código","Quantidade","Unidade",null,"Custo Unitário","Custo Unitário"]
[null,null,"Custo unitário total de tempo fixo"]
["F - MOMENTO DE TRANSPORTE",null,"Quantidade","Unidade","DMT",null,null,null,"Custo Unitário"]
[{"$nulls":4},"LN","RP","P"]
[null,null,"Custo unitário total de transporte"]
[{"$nulls":4},"Custo unitário direto total",null,null,null,{"$f":"TRUNC((I79+I80),2)","v":1.77}]
["Obs.: considerou-se o rendimento da retroescavadeira de 58 kw correspondente a 60% do rendimento do trator sobre esteiras com lâmina de 127 kw.",{"$nulls":6},"Com BDI",{"$f":"TRUNC(((1+$H$7)*I92),2)","v":2.15}]
[]
[]
["CGCIT",{"$nulls":7},"DNIT"]
["SISTEMA DE CUSTOS REFERENCIAIS DE OBRAS - SICRO",null,null,"Bahia",null,null,"FIC",1.4250000000000001E-2]
["Custo Unitário de Referência",null,null,"Julho de 2025",null,null,"Produção da equipe ",669.81,"TON x KM"]
["SICRO 5914639","Transporte com cavalo mecânico com semirreboque com capacidade de 32 t - rodovia em revestimento primário",{"$nulls":5},"Valores em reais (R$)"]
["A - EQUIPAMENTOS",null,"Quantidade","Utilização",null,"Custo Horário",null,null,"Custo"]
[null,null,null,"Operativa","Improdutiva","Produtivo","Improdutivo",null,"Horário Total"]
[{"$f":"'INSUMOS E SERVIÇOS - PREÇOS'!D5","v":"E9666"},{"$f":"'INSUMOS E SERVIÇOS - PREÇOS'!A5","v":"CAVALO MECÂNICO COM SEMIRREBOQUE COM CAPACIDADE DE 32 T - 302 KW"},1,1,0,{"$f":"'INSUMOS E SERVIÇOS - PREÇOS'!F5","v":472.36599999999999},{"$f":"'INSUMOS E SERVIÇOS - PREÇOS'!G5","v":148.93549999999999},null,{"$f":"TRUNC((((D102*F102)+(E102*G102))*C102),2)","v":472.36}]
[{"$nulls":6},"Custo horário total de equipamentos",null,{"$f":"TRUNC((SUM(I102)),2)","v":472.36}]
["B - MÃO DE OBRA",null,"Quantidade","Unidade",null,"Custo Horário","Custo Horário Total"]
[null,null,"Custo horário total de mão de obra"]
[null,null,"Custo horário total de execução",{"$nulls":5},{"$f":"TRUNC((I103),2)","v":472.36}]
[null,null,"Custo unitário de execução",{"$nulls":5},{"$f":"TRUNC((I106/H98),2)","v":0.7}]
[{"$nulls":6},"Custo do FIC",null,{"$f":"TRUNC(I107*H97,2)","v":0}]
[{"$nulls":6},"Custo do FIT",null,"-"]
["C - MATERIAL",null,"Quantidade","Unidade",null,"Preço Unitário","Custo Unitário"]
[null,null,"Custo unitário total de material"]
["D - ATIVIDADES AUXILIARES",null,"Quantidade","Unidade",null,"Custo Unitário","Custo Unitário"]
[null,null,"Custo total de atividades auxiliares"]
[{"$nulls":6},"Subtotal",null,{"$f":"TRUNC((SUM(I107,I108)),2)","v":0.7}]
["E - TEMPO FIXO",null,"Código","Quantidade","Unidade",null,"Custo Unitário","Custo Unitário"]
[null,null,"Custo unitário total de tempo fixo"]
["F - MOMENTO DE TRANSPORTE",null,"Quantidade","Unidade","DMT",null,null,null,"Custo Unitário"]
[{"$nulls":4},"LN","RP","P"]
[null,null,"Custo unitário total de transporte"]
[{"$nulls":4},"Custo unitário direto total",null,null,null,{"$f":"TRUNC((I114),2)","v":0.7}]
["Obs.: ",{"$nulls":6},"Com BDI",{"$f":"TRUNC(((1+$H$7)*I120),2)","v":0.85}]
[]
[]
["CGCIT",{"$nulls":7},"DNIT"]
["SISTEMA DE CUSTOS REFERENCIAIS DE OBRAS - SICRO",null,null,"Bahia",null,null,"FIC",0]
["Custo Unitário de Referência",null,null,"Julho de 2025",null,null,"Produção da equipe ",803.77,"TON x KM"]
["SICRO 5914640","Transporte com cavalo mecânico com semirreboque com capacidade de 32 t - rodovia pavimentada",{"$nulls":5},"Valores em reais (R$)"]
["A - EQUIPAMENTOS",null,"Quantidade","Utilização",null,"Custo Horário",null,null,"Custo"]
[null,null,null,"Operativa","Improdutiva","Produtivo","Improdutivo",null,"Horário Total"]
[{"$f":"'INSUMOS E SERVIÇOS - PREÇOS'!D5","v":"E9666"},{"$f":"'INSUMOS E SERVIÇOS - PREÇOS'!A5","v":"CAVALO MECÂNICO COM SEMIRREBOQUE COM CAPACIDADE DE 32 T - 302 KW"},1,1,0,{"$f":"'INSUMOS E SERVIÇOS - PREÇOS'!F5","v":472.36599999999999},{"$f":"'INSUMOS E SERVIÇOS - PREÇOS'!G5","v":148.93549999999999},null,{"$f":"TRUNC(((((D130*F130)+(E130*G130))*C130)),2)","v":472.36}]
[{"$nulls":6},"Custo horário total de equipamentos",null,{"$f":"TRUNC((SUM(I130)),2)","v":472.36}]
["B - MÃO DE OBRA",null,"Quantidade","Unidade",null,"Custo Horário","Custo Horário Total"]
[null,null,"Custo horário total de mão de obra"]
[null,null,"Custo horário total de execução",{"$nulls":5},{"$f":"TRUNC((I131),2)","v":472.36}]
[null,null,"Custo unitário de execução",{"$nulls":5},{"$f":"TRUNC((I134/H126),2)","v":0.57999999999999996}]
[{"$nulls":6},"Custo do FIC",null,{"$f":"TRUNC(I135*H125,2)","v":0}]
[{"$nulls":6},"Custo do FIT",null,"-"]
["C - MATERIAL",null,"Quantidade","Unidade",null,"Preço Unitário","Custo Unitário"]
[null,null,"Custo unitário total de material"]
["D - ATIVIDADES AUXILIARES",null,"Quantidade","Unidade",null,"Custo Unitário","Custo Unitário"]
[null,null,"Custo total de atividades auxiliares"]
[{"$nulls":6},"Subtotal",null,{"$f":"TRUNC((SUM(I135,I136)),2)","v":0.57999999999999996}]
["E - TEMPO FIXO",null,"Código","Quantidade","Unidade",null,"Custo Unitário","Custo Unitário"]
[null,null,"Custo unitário total de tempo fixo"]
["F - MOMENTO DE TRANSPORTE",null,"Quantidade","Unidade","DMT",null,null,null,"Custo Unitário"]
[{"$nulls":4},"LN","RP","P"]
[null,null,"Custo unitário total de transporte"]
[{"$nulls":4},"Custo unitário direto total",null,null,null,{"$f":"TRUNC((I142),2)","v":0.57999999999999996}]
["Obs.: ",{"$nulls":6},"Com BDI",{"$f":"TRUNC(((1+$H$7)*I148),2)","v":0.7}]

{"sheet":"COMPOSIÇÕES MISTAS","index":7,"n_rows":70,"n_cols":8,"rows_kept":70,"cut":false,"hidden":false,"merged":[[34,0,34,7],[48,0,48,7],[56,0,56,7],[64,0,64,7],[63,0,63,7],[53,0,55,3],[53,4,53,6],[54,4,54,6],[55,4,55,6],[60,0,62,3],[60,4,60,6],[61,4,61,6],[62,4,62,6],[16,0,18,3],[17,4,17,6],[18,4,18,6],[31,4,31,6],[9,5,9,6],[10,5,10,6],[11,1,11,3],[11,5,11,7],[16,4,16,6],[12,0,12,7],[19,0,19,7],[67,0,69,3],[67,4,67,6],[68,4,68,6],[69,4,69,6],[0,3,0,7],[1,3,1,7],[2,3,2,7],[5,0,5,7],[45,0,47,3],[45,4,45,6],[46,4,46,6],[47,4,47,6],[32,4,32,6],[33,4,33,6],[7,0,8,7],[31,0,33,3]]}
[null,null,null,"MINISTÉRIO DA INTEGRAÇÃO E DO DESENVOLVIMENTO REGIONAL"]
[null,null,null,"COMPANHIA DE DESENVOLVIMENTO DOS VALES DO SÃO FRANCISCO E DO PARNAÍBA"]
[null,null,null,"2ª SUPERINTENDÊNCIA REGIONAL - GERÊNCIA REGIONAL DE INFRAESTRUTURA"]
[]
[]
["PLANILHA COMPOSIÇÕES DE PREÇOS - ADMINISTRAÇÃO LOCAL E PLACA DE OBRAS"]
[]
["OBJETO: EXECUÇÃO DE SERVIÇOS DE ESCAVAÇÃO EM SOLO DE 1ª CATEGORIA, OBJETIVANDO À IMPLANTAÇÃO DE RESERVATÓRIOS PARA ACÚMULO DE ÁGUA EM COMUNIDADES RURAIS DIFUSAS DE DIVERSOS MUNICÍPIOS DO ESTADO DA BAHIA, NA ÁREA DE ATUAÇÃO DA 2ª SR DA CODEVASF."]
[]
[{"$nulls":5},"BDI (%):",null,{"$f":"TRUNC('BDI M. DE OBRA E SERVIÇOS'!D36,4)","v":0.215}]
[{"$nulls":5},"ENCARGOS SOCIAIS HORISTAS (%):",null,{"$f":"'DET. ENCARGOS'!C45","v":115.57}]
["BASE:","SINAPI-BA: AGOSTO/2025; SICRO-BA: JULHO/2025; TC DNIT: JULHO/2025.",null,null,null,"NÃO DESONERADO"]
["ADMINISTRAÇÃO LOCAL"]
["CPU-01","REFERÊNCIA","CÓDIGO","ADMINISTRAÇÃO LOCAL","%","QUANTITATIVO","CUSTO UNITÁRIO","TOTAL (R$)"]
["COMPOSIÇÃO","SINAPI",{"$f":"'INSUMOS E SERVIÇOS - PREÇOS'!D15","v":90776},{"$f":"'INSUMOS E SERVIÇOS - PREÇOS'!A15","v":"ENCARREGADO GERAL COM ENCARGOS COMPLEMENTARES"},{"$f":"'INSUMOS E SERVIÇOS - PREÇOS'!E15","v":"H"},12,{"$f":"'INSUMOS E SERVIÇOS - PREÇOS'!F15","v":40.869999999999997},{"$f":"TRUNC(F15*G15,2)","v":490.44}]
["COMPOSIÇÃO","SINAPI",{"$f":"'INSUMOS E SERVIÇOS - PREÇOS'!D16","v":90777},{"$f":"'INSUMOS E SERVIÇOS - PREÇOS'!A16","v":"ENGENHEIRO CIVIL (OU AFIM) DE OBRA JUNIOR COM ENCARGOS COMPLEMENTARES"},{"$f":"'INSUMOS E SERVIÇOS - PREÇOS'!E16","v":"H"},4,{"$f":"'INSUMOS E SERVIÇOS - PREÇOS'!F16","v":130.58000000000001},{"$f":"TRUNC(F16*G16,2)","v":522.32000000000005}]
[{"$nulls":4},"CUSTO TOTAL",null,null,{"$f":"TRUNC(SUM(H15:H16),2)","v":1012.76}]
[{"$nulls":4},"BDI",null,null,{"$f":"TRUNC(H17*H10,2)","v":217.74}]
[{"$nulls":4},"PREÇO GLOBAL TOTAL:",null,null,{"$f":"TRUNC(H17+H18,2)","v":1230.5}]
["PLACA DE OBRA"]
["CPU-02","REFERÊNCIA","CÓDIGO","PLACA DE OBRA EM CHAPA DE AÇO GALVANIZADO (3,20 M x 1,60 M)","M²","QUANTITATIVO","CUSTO UNITÁRIO","TOTAL (R$)"]
["INSUMO","SINAPI",{"$f":"'INSUMOS E SERVIÇOS - PREÇOS'!D21","v":5075},{"$f":"'INSUMOS E SERVIÇOS - PREÇOS'!A21","v":"PREGO DE AÇO POLIDO COM CABEÇA 18 X 30 (2 3/4 X 10)"},{"$f":"'INSUMOS E SERVIÇOS - PREÇOS'!E21","v":"KG"},0.11,{"$f":"'INSUMOS E SERVIÇOS - PREÇOS'!F21","v":16.32},{"$f":"TRUNC(F22*G22,2)","v":1.79}]
["INSUMO","SINAPI",{"$f":"'INSUMOS E SERVIÇOS - PREÇOS'!D20","v":4491},{"$f":"'INSUMOS E SERVIÇOS - PREÇOS'!A20","v":"PONTALETE *7,5 X 7,5* CM EM PINUS, MISTA OU EQUIVALENTE DA REGIÃO - BRUTA"},{"$f":"'INSUMOS E SERVIÇOS - PREÇOS'!E20","v":"M"},4,{"$f":"'INSUMOS E SERVIÇOS - PREÇOS'!F20","v":9.59},38.36]
["INSUMO","SINAPI",{"$f":"'INSUMOS E SERVIÇOS - PREÇOS'!D22","v":4417},{"$f":"'INSUMOS E SERVIÇOS - PREÇOS'!A22","v":"SARRAFO NÃO APARELHADO *2,5 X 7* CM, EM MAÇARANDUBA, ANGELIM OU EQUIVALENTE DA REGIÃO - BRUTA"},{"$f":"'INSUMOS E SERVIÇOS - PREÇOS'!E22","v":"M"},1,{"$f":"'INSUMOS E SERVIÇOS - PREÇOS'!F22","v":7.24},7.24]
["INSUMO","SINAPI",{"$f":"'INSUMOS E SERVIÇOS - PREÇOS'!D19","v":4813},{"$f":"'INSUMOS E SERVIÇOS - PREÇOS'!A19","v":"PLACA DE OBRA (PARA CONSTRUÇÃO CIVIL) EM CHAPA GALVANIZADA *N. 22*, ADESIVADA, DE *2,4 X 1,2* M (SEM POSTES PARA FIXAÇÃO)"},{"$f":"'INSUMOS E SERVIÇOS - PREÇOS'!E19","v":"M²"},1,{"$f":"'INSUMOS E SERVIÇOS - PREÇOS'!F19","v":377.5},377.5]
["INSUMO","SINAPI",{"$f":"'INSUMOS E SERVIÇOS - PREÇOS'!D9","v":370},{"$f":"'INSUMOS E SERVIÇOS - PREÇOS'!A9","v":"AREIA MEDIA - POSTO JAZIDA/FORNECEDOR (RETIRADO NA JAZIDA, SEM TRANSPORTE)"},{"$f":"'INSUMOS E SERVIÇOS - PREÇOS'!E9","v":"M³"},4.8999999999999998E-3,{"$f":"'INSUMOS E SERVIÇOS - PREÇOS'!F9","v":139.88999999999999},0.68]
["INSUMO","SINAPI",{"$f":"'INSUMOS E SERVIÇOS - PREÇOS'!D13","v":1379},{"$f":"'INSUMOS E SERVIÇOS - PREÇOS'!A13","v":"CIMENTO PORTLAND COMPOSTO CP II-32 "},{"$f":"'INSUMOS E SERVIÇOS - PREÇOS'!E13","v":"KG"},1.5,{"$f":"'INSUMOS E SERVIÇOS - PREÇOS'!F13","v":0.8},1.2]
["INSUMO","SINAPI",{"$f":"'INSUMOS E SERVIÇOS - PREÇOS'!D18","v":4718},{"$f":"'INSUMOS E SERVIÇOS - PREÇOS'!A18","v":"PEDRA BRITADA N. 2 (19 A 38 MM) POSTO PEDREIRA/FORNECEDOR, SEM FRETE"},{"$f":"'INSUMOS E SERVIÇOS - PREÇOS'!E18","v":"M³"},9.7999999999999997E-3,{"$f":"'INSUMOS E SERVIÇOS - PREÇOS'!F18","v":116.7},1.1399999999999999]
["COMPOSIÇÃO","SINAPI",{"$f":"'INSUMOS E SERVIÇOS - PREÇOS'!D11","v":87445},{"$f":"'INSUMOS E SERVIÇOS - PREÇOS'!A11","v":"BETONEIRA CAPACIDADE NOMINAL 400 L, CAPACIDADE DE MISTURA 310 L, MOTOR A DIESEL POTÊNCIA 5,0 HP, SEM CARREGADOR - CHP DIURNO. AF_06/2014"},{"$f":"'INSUMOS E SERVIÇOS - PREÇOS'!E11","v":"H"},6.4999999999999997E-3,{"$f":"'INSUMOS E SERVIÇOS - PREÇOS'!F11","v":5.38},0.03]
["COMPOSIÇÃO","SINAPI",{"$f":"'INSUMOS E SERVIÇOS - PREÇOS'!D12","v":88262},{"$f":"'INSUMOS E SERVIÇOS - PREÇOS'!A12","v":"CARPINTEIRO DE FORMAS COM ENCARGOS COMPLEMENTARES"},{"$f":"'INSUMOS E SERVIÇOS - PREÇOS'!E12","v":"H"},1,{"$f":"'INSUMOS E SERVIÇOS - PREÇOS'!F12","v":33.07},33.07]
["COMPOSIÇÃO","SINAPI",{"$f":"'INSUMOS E SERVIÇOS - PREÇOS'!D23","v":88316},{"$f":"'INSUMOS E SERVIÇOS - PREÇOS'!A23","v":"SERVENTE COM ENCARGOS COMPLEMENTARES"},{"$f":"'INSUMOS E SERVIÇOS - PREÇOS'!E23","v":"H"},2.06,{"$f":"'INSUMOS E SERVIÇOS - PREÇOS'!F23","v":24.37},50.2]
[{"$nulls":4},"CUSTO TOTAL",null,null,{"$f":"TRUNC((SUM(H22:H31)),2)","v":511.21}]
[{"$nulls":4},"BDI",null,null,{"$f":"TRUNC(H32*H10,2)","v":109.91}]
[{"$nulls":4},"PREÇO UNITÁRIO TOTAL (com BDI):",null,null,{"$f":"TRUNC(H32+H33,2)","v":621.12}]
["LEVANTAMENTOS TOPOGRÁFICOS PRIMITIVOS / AS BUILT"]
["CPU-03","REFERÊNCIA","CÓDIGO","LEVANTAMENTOS TOPOGRÁFICOS PRIMITIVOS / AS BUILT","UND","QUANTITATIVO","CUSTO UNITÁRIO","TOTAL (R$)"]
["COMPOSIÇÃO","SINAPI",{"$f":"'INSUMOS E SERVIÇOS - PREÇOS'!D24","v":90781},{"$f":"'INSUMOS E SERVIÇOS - PREÇOS'!A24","v":"TOPÓGRAFO COM ENCARGOS COMPLEMENTARES"},{"$f":"'INSUMOS E SERVIÇOS - PREÇOS'!E24","v":"H"},{"$f":"160/25","v":6.4},{"$f":"'INSUMOS E SERVIÇOS - PREÇOS'!F24","v":40.590000000000003},{"$f":"TRUNC(F37*G37,2)","v":259.77}]
["COMPOSIÇÃO","SINAPI",{"$f":"'INSUMOS E SERVIÇOS - PREÇOS'!D10","v":88253},{"$f":"'INSUMOS E SERVIÇOS - PREÇOS'!A10","v":"AUXILIAR DE TOPÓGRAFO COM ENCARGOS COMPLEMENTARES"},{"$f":"'INSUMOS E SERVIÇOS - PREÇOS'!E10","v":"H"},{"$f":"160/25","v":6.4},{"$f":"'INSUMOS E SERVIÇOS - PREÇOS'!F10","v":17.510000000000002},112.06]
["COMPOSIÇÃO","SINAPI",{"$f":"'INSUMOS E SERVIÇOS - PREÇOS'!D14","v":90775},{"$f":"'INSUMOS E SERVIÇOS - PREÇOS'!A14","v":"DESENHISTA/PROJETISTA COM ENCARGOS COMPLEMENTARES"},{"$f":"'INSUMOS E SERVIÇOS - PREÇOS'!E14","v":"H"},{"$f":"160/25","v":6.4},{"$f":"'INSUMOS E SERVIÇOS - PREÇOS'!F14","v":31.24},199.93]
["COMPOSIÇÃO",{"$f":"'INSUMOS E SERVIÇOS - PREÇOS'!B34","v":"CODEVASF"},{"$f":"'INSUMOS E SERVIÇOS - PREÇOS'!D34","v":"COT-05"},{"$f":"'INSUMOS E SERVIÇOS - PREÇOS'!A34","v":"NOTEBOOK + MICROSOFT OFFICE"},{"$f":"'INSUMOS E SERVIÇOS - PREÇOS'!E34","v":"UND x MÊS"},{"$f":"1/25","v":0.04},{"$f":"'INSUMOS E SERVIÇOS - PREÇOS'!F34","v":141.41999999999999},5.65]
["COMPOSIÇÃO",{"$f":"'INSUMOS E SERVIÇOS - PREÇOS'!B32","v":"CODEVASF"},{"$f":"'INSUMOS E SERVIÇOS - PREÇOS'!D32","v":"COT-01"},{"$f":"'INSUMOS E SERVIÇOS - PREÇOS'!A32","v":"AUTOCAD CIVIL 3D"},{"$f":"'INSUMOS E SERVIÇOS - PREÇOS'!E32","v":"UND x MÊS"},0.04,{"$f":"'INSUMOS E SERVIÇOS - PREÇOS'!F32","v":978.75},39.15]
["COMPOSIÇÃO",{"$f":"'INSUMOS E SERVIÇOS - PREÇOS'!B33","v":"CODEVASF"},{"$f":"'INSUMOS E SERVIÇOS - PREÇOS'!D33","v":"COT-02"},{"$f":"'INSUMOS E SERVIÇOS - PREÇOS'!A33","v":"AUTOCAD RECAP PRO"},{"$f":"'INSUMOS E SERVIÇOS - PREÇOS'!E33","v":"UND x MÊS"},0.04,{"$f":"'INSUMOS E SERVIÇOS - PREÇOS'!F33","v":163.75},6.55]
["COMPOSIÇÃO",{"$f":"'INSUMOS E SERVIÇOS - PREÇOS'!B27","v":"TC DNIT"},{"$f":"'INSUMOS E SERVIÇOS - PREÇOS'!D27","v":"B8958"},{"$f":"'INSUMOS E SERVIÇOS - PREÇOS'!A27","v":"TOPOGRAFIA (EQUIPAMENTOS BÁSICOS)"},{"$f":"'INSUMOS E SERVIÇOS - PREÇOS'!E27","v":"CONJ x MÊS"},0.04,{"$f":"'INSUMOS E SERVIÇOS - PREÇOS'!F27","v":5426.19},217.04]
["COMPOSIÇÃO",{"$f":"'INSUMOS E SERVIÇOS - PREÇOS'!B28","v":"TC DNIT"},{"$f":"'INSUMOS E SERVIÇOS - PREÇOS'!D28","v":"B8961"},{"$f":"'INSUMOS E SERVIÇOS - PREÇOS'!A28","v":"TOPOGRAFIA POR VANT"},{"$f":"'INSUMOS E SERVIÇOS - PREÇOS'!E28","v":"UND x MÊS"},0.04,{"$f":"'INSUMOS E SERVIÇOS - PREÇOS'!F28","v":904.73},36.18]
["COMPOSIÇÃO",{"$f":"'INSUMOS E SERVIÇOS - PREÇOS'!B35","v":"CODEVASF"},{"$f":"'INSUMOS E SERVIÇOS - PREÇOS'!D35","v":"COT-06"},{"$f":"'INSUMOS E SERVIÇOS - PREÇOS'!A35","v":"SOFTWARE DE FOTOGAMETRIA (PIX4D OU COMPATÍVEL)"},{"$f":"'INSUMOS E SERVIÇOS - PREÇOS'!E35","v":"UND x MÊS"},0.04,{"$f":"'INSUMOS E SERVIÇOS - PREÇOS'!F35","v":1690.45},67.61]
[{"$nulls":4},"CUSTO TOTAL",null,null,{"$f":"TRUNC(SUM(H37:H45),2)","v":943.94}]
[{"$nulls":4},"BDI",null,null,{"$f":"TRUNC(H46*$H$10,2)","v":202.94}]
[{"$nulls":4},"PREÇO GLOBAL TOTAL:",null,null,{"$f":"TRUNC(H46+H47,2)","v":1146.8800000000001}]
["VEÍCULO LEVE COM COMBUSTÍVEL (SEM MOTORISTA)"]
["CPU-04","REFERÊNCIA","CÓDIGO","VEÍCULO LEVE 53 KW (SEM MOTORISTA) COM COMBUSTÍVEL INCLUSO","UND x MÊS","QUANTITATIVO/ MÊS","CUSTO UNITÁRIO","TOTAL"]
["COMPOSIÇÃO",{"$f":"'INSUMOS E SERVIÇOS - PREÇOS'!B29","v":"TC DNIT"},{"$f":"'INSUMOS E SERVIÇOS - PREÇOS'!D29","v":"E8889"},{"$f":"'INSUMOS E SERVIÇOS - PREÇOS'!A29","v":"VEÍCULO LEVE 53 KW (SEM MOTORISTA)"},"CHP",66,{"$f":"'INSUMOS E SERVIÇOS - PREÇOS'!F29","v":36.65},{"$f":"TRUNC(F51*G51,2)","v":2418.9}]
["COMPOSIÇÃO",{"$f":"'INSUMOS E SERVIÇOS - PREÇOS'!B29","v":"TC DNIT"},{"$f":"'INSUMOS E SERVIÇOS - PREÇOS'!D29","v":"E8889"},{"$f":"'INSUMOS E SERVIÇOS - PREÇOS'!A29","v":"VEÍCULO LEVE 53 KW (SEM MOTORISTA)"},"CHI",116.49,{"$f":"'INSUMOS E SERVIÇOS - PREÇOS'!G29","v":6.69},{"$f":"TRUNC(F52*G52,2)","v":779.31}]
["INSUMO",{"$f":"'INSUMOS E SERVIÇOS - PREÇOS'!B17","v":"SINAPI BAHIA"},{"$f":"'INSUMOS E SERVIÇOS - PREÇOS'!D17","v":4222},{"$f":"'INSUMOS E SERVIÇOS - PREÇOS'!A17","v":"GASOLINA COMUM"},{"$f":"'INSUMOS E SERVIÇOS - PREÇOS'!E17","v":"L"},{"$f":"45*2*4","v":360},{"$f":"'INSUMOS E SERVIÇOS - PREÇOS'!F17","v":6.21},{"$f":"TRUNC(F53*G53,2)","v":2235.6}]
[{"$nulls":4},"CUSTO TOTAL",null,null,{"$f":"TRUNC(SUM(H51:H53),2)","v":5433.81}]
[{"$nulls":4},"BDI",null,null,{"$f":"TRUNC(H54*$H$10,2)","v":1168.26}]
[{"$nulls":4},"PREÇO GLOBAL TOTAL:",null,null,{"$f":"TRUNC(H54+H55,2)","v":6602.07}]
["DIÁRIA COM HOSPEDAGEM"]
["CPU-05","REFERÊNCIA","CÓDIGO","DIÁRIA PARA VIAGEM COM HOSPEDAGEM","DIÁRIA","QUANTIDADE","CUSTO UNITÁRIO","TOTAL"]
["COMPOSIÇÃO",{"$f":"'INSUMOS E SERVIÇOS - PREÇOS'!B36","v":"CODEVASF"},{"$f":"'INSUMOS E SERVIÇOS - PREÇOS'!D36","v":"COT-07"},{"$f":"'INSUMOS E SERVIÇOS - PREÇOS'!A36","v":"VIAGEM - ALIMENTAÇÃO"},{"$f":"'INSUMOS E SERVIÇOS - PREÇOS'!E36","v":"UND"},1,{"$f":"'INSUMOS E SERVIÇOS - PREÇOS'!F36","v":109.21},{"$f":"TRUNC(F59*G59,2)","v":109.21}]
["COMPOSIÇÃO",{"$f":"'INSUMOS E SERVIÇOS - PREÇOS'!B37","v":"CODEVASF"},{"$f":"'INSUMOS E SERVIÇOS - PREÇOS'!D37","v":"COT-08"},{"$f":"'INSUMOS E SERVIÇOS - PREÇOS'!A37","v":"VIAGEM - HOSPEDAGEM"},{"$f":"'INSUMOS E SERVIÇOS - PREÇOS'!E37","v":"UND"},1,{"$f":"'INSUMOS E SERVIÇOS - PREÇOS'!F37","v":274.47000000000003},{"$f":"TRUNC(F60*G60,2)","v":274.47000000000003}]
[{"$nulls":4},"CUSTO TOTAL",null,null,{"$f":"TRUNC(SUM(H59:H60),2)","v":383.68}]
[{"$nulls":4},"BDI",null,null,{"$f":"TRUNC(H61*$H$10,2)","v":82.49}]
[{"$nulls":4},"PREÇO GLOBAL TOTAL:",null,null,{"$f":"TRUNC(H61+H62,2)","v":466.17}]
[]
["DIÁRIA SEM HOSPEDAGEM"]
["CPU-06","REFERÊNCIA","CÓDIGO","DIÁRIA PARA VIAGEM SEM HOSPEDAGEM","DIÁRIA","QUANTIDADE","CUSTO UNITÁRIO","TOTAL"]
["COMPOSIÇÃO",{"$f":"'INSUMOS E SERVIÇOS - PREÇOS'!B36","v":"CODEVASF"},{"$f":"'INSUMOS E SERVIÇOS - PREÇOS'!D36","v":"COT-07"},{"$f":"'INSUMOS E SERVIÇOS - PREÇOS'!A36","v":"VIAGEM - ALIMENTAÇÃO"},{"$f":"'INSUMOS E SERVIÇOS - PREÇOS'!E36","v":"UND"},1,{"$f":"'INSUMOS E SERVIÇOS - PREÇOS'!F36","v":109.21},{"$f":"TRUNC(F67*G67,2)","v":109.21}]
[{"$nulls":4},"CUSTO TOTAL",null,null,{"$f":"TRUNC(SUM(H67:H67),2)","v":109.21}]
[{"$nulls":4},"BDI",null,null,{"$f":"TRUNC(H68*$H$10,2)","v":23.48}]
[{"$nulls":4},"PREÇO GLOBAL TOTAL:",null,null,{"$f":"TRUNC(H68+H69,2)","v":132.69}]

{"sheet":"INSUMOS E SERVIÇOS - PREÇOS","index":8,"n_rows":37,"n_cols":7,"rows_kept":37,"cut":false,"hidden":false,"merged":[[1,0,1,4],[1,5,1,6]]}
[]
["OBJETO: EXECUÇÃO DE SERVIÇOS DE ESCAVAÇÃO EM SOLO DE 1ª CATEGORIA, OBJETIVANDO À IMPLANTAÇÃO DE RESERVATÓRIOS PARA ACÚMULO DE ÁGUA EM COMUNIDADES DE CARÁTER RURAL EM DIVERSOS MUNICÍPIOS DO ESTADO DA BAHIA, NA ÁREA DE ATUAÇÃO DA 2ª SR DA CODEVASF."]
[]
["ESPECIFICAÇÃO DO ITEM DA COMPOSIÇÃO - SICRO (NÃO DESONERADO)","REFERÊNCIA","MÊS DE REFERÊNCIA","CÓDIGO","UNIDADE","CUSTO UNITÁRIO PRODUTIVO","CUSTO UNITÁRIO IMPRODUTIVO"]
["CAVALO MECÂNICO COM SEMIRREBOQUE COM CAPACIDADE DE 32 T - 302 KW","SICRO BAHIA","2025-07-01","E9666","H",472.36599999999999,148.93549999999999]
["RETROESCAVADEIRA DE PNEUS - CAPACIDADE DA CAÇAMBA DA PÁ CARREGADEIRA DE 0,76 M³ E DA RETROESCAVADEIRA DE 0,29 M³ - 58 KW","SICRO BAHIA","2025-07-01","E9526","H",162.0506,87.238299999999995]
[]
["ESPECIFICAÇÃO DO ITEM DA COMPOSIÇÃO - SINAPI (NÃO DESONERADO)","SINAPI","MÊS DE REFERÊNCIA","CÓDIGO","UNIDADE","CUSTO UNITÁRIO PRODUTIVO","CUSTO UNITÁRIO IMPRODUTIVO"]
["AREIA MEDIA - POSTO JAZIDA/FORNECEDOR (RETIRADO NA JAZIDA, SEM TRANSPORTE)","SINAPI BAHIA","2025-08-01",370,"M³",139.88999999999999]
["AUXILIAR DE TOPÓGRAFO COM ENCARGOS COMPLEMENTARES","SINAPI BAHIA","2025-08-01",88253,"H",17.510000000000002]
["BETONEIRA CAPACIDADE NOMINAL 400 L, CAPACIDADE DE MISTURA 310 L, MOTOR A DIESEL POTÊNCIA 5,0 HP, SEM CARREGADOR - CHP DIURNO. AF_06/2014","SINAPI BAHIA","2025-08-01",87445,"H",5.38]
["CARPINTEIRO DE FORMAS COM ENCARGOS COMPLEMENTARES","SINAPI BAHIA","2025-08-01",88262,"H",33.07]
["CIMENTO PORTLAND COMPOSTO CP II-32 ","SINAPI BAHIA","2025-08-01",1379,"KG",0.8]
["DESENHISTA/PROJETISTA COM ENCARGOS COMPLEMENTARES","SINAPI BAHIA","2025-08-01",90775,"H",31.24]
["ENCARREGADO GERAL COM ENCARGOS COMPLEMENTARES","SINAPI BAHIA","2025-08-01",90776,"H",40.869999999999997]
["ENGENHEIRO CIVIL (OU AFIM) DE OBRA JUNIOR COM ENCARGOS COMPLEMENTARES","SINAPI BAHIA","2025-08-01",90777,"H",130.58000000000001]
["GASOLINA COMUM","SINAPI BAHIA","2025-08-01",4222,"L",6.21]
["PEDRA BRITADA N. 2 (19 A 38 MM) POSTO PEDREIRA/FORNECEDOR, SEM FRETE","SINAPI BAHIA","2025-08-01",4718,"M³",116.7]
["PLACA DE OBRA (PARA CONSTRUÇÃO CIVIL) EM CHAPA GALVANIZADA *N. 22*, ADESIVADA, DE *2,4 X 1,2* M (SEM POSTES PARA FIXAÇÃO)","SINAPI BAHIA","2025-08-01",4813,"M²",377.5]
["PONTALETE *7,5 X 7,5* CM EM PINUS, MISTA OU EQUIVALENTE DA REGIÃO - BRUTA","SINAPI BAHIA","2025-08-01",4491,"M",9.59]
["PREGO DE AÇO POLIDO COM CABEÇA 18 X 30 (2 3/4 X 10)","SINAPI BAHIA","2025-08-01",5075,"KG",16.32]
["SARRAFO NÃO APARELHADO *2,5 X 7* CM, EM MAÇARANDUBA, ANGELIM OU EQUIVALENTE DA REGIÃO - BRUTA","SINAPI BAHIA","2025-08-01",4417,"M",7.24]
["SERVENTE COM ENCARGOS COMPLEMENTARES","SINAPI BAHIA","2025-08-01",88316,"H",24.37]
["TOPÓGRAFO COM ENCARGOS COMPLEMENTARES","SINAPI BAHIA","2025-08-01",90781,"H",40.590000000000003]
[]
["ESPECIFICAÇÃO DO ITEM DA COMPOSIÇÃO - TC DNIT (NÃO DESONERADO)","TC DNIT","MÊS DE REFERÊNCIA","CÓDIGO","UNIDADE","CUSTO UNITÁRIO PRODUTIVO","CUSTO UNITÁRIO IMPRODUTIVO"]
["TOPOGRAFIA (EQUIPAMENTOS BÁSICOS)","TC DNIT","2025-07-01","B8958","CONJ x MÊS",5426.19]
["TOPOGRAFIA POR VANT","TC DNIT","2025-07-01","B8961","UND x MÊS",904.73]
["VEÍCULO LEVE 53 KW (SEM MOTORISTA)","TC DNIT","2025-07-01","E8889","H",36.65,6.69]
[]
["ESPECIFICAÇÃO DO ITEM DA COMPOSIÇÃO - COTAÇÕES (NÃO DESONERADO)","COTAÇÃO","MÊS DE REFERÊNCIA","CÓDIGO","UNIDADE","CUSTO UNITÁRIO PRODUTIVO","CUSTO UNITÁRIO IMPRODUTIVO"]
["AUTOCAD CIVIL 3D","CODEVASF","2025-10-01","COT-01","UND x MÊS",978.75]
["AUTOCAD RECAP PRO","CODEVASF","2025-10-01","COT-02","UND x MÊS",163.75]
["NOTEBOOK + MICROSOFT OFFICE","CODEVASF","2025-10-01","COT-05","UND x MÊS",141.41999999999999]
["SOFTWARE DE FOTOGAMETRIA (PIX4D OU COMPATÍVEL)","CODEVASF","2025-10-01","COT-06","UND x MÊS",1690.45]
["VIAGEM - ALIMENTAÇÃO","CODEVASF","2025-10-01","COT-07","UND",109.21]
["VIAGEM - HOSPEDAGEM","CODEVASF","2025-10-01","COT-08","UND",274.47000000000003]

{"sheet":"AUX-Cotações","index":9,"n_rows":33,"n_cols":11,"rows_kept":33,"cut":false,"hidden":false,"merged":[[5,13,5,14],[5,15,6,15],[13,1,14,1],[13,2,14,2],[13,3,13,7],[1,1,1,9],[5,1,6,1],[5,2,6,2],[5,3,5,7],[9,1,10,1],[9,2,10,2],[9,3,9,7],[9,13,9,14],[9,15,10,15],[17,1,18,1],[17,2,18,2],[17,3,17,7],[19,8,19,9],[21,1,22,1],[21,2,22,2],[21,3,21,7],[30,9,31,9],[25,1,26,1],[25,2,26,2],[25,3,25,7],[30,1,31,1],[30,2,31,2],[30,3,30,6],[30,7,30,8]]}
[]
[null,"COTAÇÕES E COMPOSIÇÕES DE CUSTO UNITÁRIO PARA ALUGUEL DE EQUIPAMENTOS E SOFTWARE"]
[{"$nulls":8},"MÊS DA COLETA DE PREÇOS:","2025-10-01"]
[]
[null,"VALOR DE REFERÊCIA DE AQUISIÇÃO"]
[null,"CÓDIGO","ITEM","VALORES COTADOS PARA AQUISIÇÃO DO EQUIPAMENTO - PAINEL DE PREÇOS"]
[null,null,null,"Mediana","Mínimo","Máximo","MÉDIA DE AQUISIÇÃO","VALOR DE REFERÊNCIA"]
[null,"COTAÇÃO","Notebook, Tela Superior a 14 Polegadas, Memória RAM Superior a 8 GB",3207,2567.8000000000002,4890,3279.92,{"$f":"MIN(D8,G8)","v":3207}]
[]
[null,"CÓDIGO","ITEM","VALOR MENSAL DA LICENÇA"]
[null,null,null,"Valor/Usuário X Mês",null,null,"MÉDIA DE AQUISIÇÃO / MÊS","VALOR DE REFERÊNCIA"]
[null,"COTAÇÃO","Licença Microsoft 365 Business Basic",33.4,null,null,{"$f":"ROUND(AVERAGE(B12:E12),2)","v":33.4},{"$f":"MIN(D12,G12)","v":33.4}]
[]
[null,"CÓDIGO","ITEM","VALOR MENSAL DA LICENÇA"]
[null,null,null,"Valor/Usuário x Ano",null,null,"MÉDIA DE AQUISIÇÃO / MÊS","VALOR DE REFERÊNCIA"]
[null,"COT-01","AutoCAD Civil 3D",11745,null,null,{"$f":"ROUND(AVERAGE(B16:E16),2)/12","v":978.75},{"$f":"MIN(D16,G16)","v":978.75}]
[]
[null,"CÓDIGO","ITEM","VALOR MENSAL DA LICENÇA"]
[null,null,null,"Valor/Usuário x Mês",null,null,"MÉDIA DE AQUISIÇÃO / MÊS","VALOR DE REFERÊNCIA"]
[null,"COT-06","Software de fotogametria (Pix4D ou compatível)",{"$f":"291.67*J21","v":1690.4464025},null,null,{"$f":"D20","v":1690.4464025},{"$f":"MIN(D20,G20)","v":1690.4464025},"A 2ª/SR possui licença do PIX4D, por isso o software de apoio deve ser compatível"]
[{"$nulls":8},"Cotação média do dólar (2025-presente) =",{"$f":"'[1]MC AUX'!D128","v":5.79575}]
[null,"CÓDIGO","ITEM","VALOR MENSAL DA LICENÇA"]
[null,null,null,"Valor/Usuário x Ano",null,null,"MÉDIA DE AQUISIÇÃO / MÊS","VALOR DE REFERÊNCIA"]
[null,"COT-02","AutoCAd Recap Pro",1650,null,null,190,{"$f":"AVERAGE(D24/12,G24)","v":163.75},"Processamento de nuvem de pontos"]
[]
[null,"CÓDIGO","ITEM","VALOR MENSAL DA LICENÇA"]
[null,null,null,"Valor/Usuário x Ano",null,null,"MÉDIA DE AQUISIÇÃO / MÊS","VALOR DE REFERÊNCIA"]
[null,"COT-06","AutoCad Revit",12305,null,null,1488,{"$f":"AVERAGE(D28/12,G28)","v":1256.7083333333335}]
[]
[null,"VALOR DE REFERÊNCIA DE LOCAÇÃO"]
[null,"CCÓDIGO","NOTEBOOK + Microsoft Office","VALOR DA DEPRECIAÇÃO",null,null,null,"MANUTENÇÃO",null,"VALOR MENSAL TOTAL (R$)"]
[null,null,null,"Tempo de Utilização (Anos)","Meses p/Ano de Uso","Percentual Residual (%)","Depreciação        Mensal - R$","Percentual Anual (%)","Valor Mensal (R$)"]
[null,"COT-05",{"$f":"H8+H12","v":3240.4},5,12,0,{"$f":"ROUND((C33*(100%-F33))/(D33*E33),2)","v":54.01},0.2,{"$f":"ROUND((H33*C33)/12,2)","v":54.01},{"$f":"I33+G33+H12","v":141.41999999999999},"Obs: vida útil de 5 anos e depreciação de 20% a.a."]

{"sheet":"MOBIL. REV. PRIMÁRIO","index":10,"n_rows":27,"n_cols":10,"rows_kept":27,"cut":false,"hidden":false,"merged":[[26,1,26,4],[26,6,26,7],[15,1,15,2],[16,1,16,2],[18,1,18,2],[20,1,20,2],[22,5,22,7],[23,5,23,7],[9,1,9,14],[10,1,11,14],[13,1,13,2],[13,3,13,5],[14,1,14,2],[14,3,14,5],[6,1,8,14],[1,1,1,14],[2,1,2,14],[3,1,3,14],[4,1,4,14],[5,1,5,14]]}
[]
[null,"MINISTÉRIO DA INTEGRAÇÃO E DO DESENVOLVIMENTO REGIONAL - M. I. D. R."]
[null,"COMPANHIA DE DESENVOLVIMENTO DOS VALES DO SÃO FRANCISCO E DO PARNAÍBA"]
[null,"2ª SUPERINTENDÊNCIA REGIONAL - SEDIADA EM BOM JESUS DA LAPA/BA."]
[null,"GERÊNCIA DE INFRAESTRUTURA -  2ª/GRD"]
[]
[null,"OBJETO: EXECUÇÃO DE SERVIÇOS DE ESCAVAÇÃO EM SOLO DE 1ª CATEGORIA, OBJETIVANDO À IMPLANTAÇÃO DE RESERVATÓRIOS PARA ACÚMULO DE ÁGUA EM COMUNIDADES DE CARÁTER RURAL EM DIVERSOS MUNICÍPIOS DO ESTADO DA BAHIA, NA ÁREA DE ATUAÇÃO DA 2ª SR DA CODEVASF."]
[]
[]
[]
[null,"MEMÓRIA DE CÁLCULO DOS MOMENTOS DE TRANSPORTE PARA MOBILIZAÇÃO E DESMOBILIZAÇÃO EM REVESTIMENTO PRIMÁRIO"]
[]
[]
[null,"Cidade de Origem:",null,"Cidade Pólo"]
[null,"Destino:",null,"Local da Execução"]
[null,"Dist.  a Origem :",null,50," km"]
[null,"Quant. de Municípios:",null,1]
[]
[null,"Distância Total:",null,30," km"]
[]
[null,"Peso das máquinas:",null,null,null,"Retroescavadeira de pneus - 58 kW",null,null,7.86,"toneladas"]
[]
[]
[{"$nulls":5},"Total",null,null,{"$f":"ROUND((SUM(I21:I23)),2)","v":7.86},"toneladas"]
[]
[]
[null,{"$f":"\"Momento de transporte  =  \"&TEXT(I24,\"0,00\")&\"  x  \"&TEXT(D19,\"0,00\")&\"            =>\"","v":"Momento de transporte  =  7,86  x  30,00            =>"},{"$nulls":4},{"$f":"TRUNC(D19*I24,2)","v":235.8},null," t x km"]

{"sheet":"MOBIL. VIA ASFALTADA","index":11,"n_rows":27,"n_cols":10,"rows_kept":27,"cut":false,"hidden":false,"merged":[[23,5,23,7],[26,1,26,4],[26,6,26,7],[10,1,11,14],[6,1,8,14],[15,1,15,2],[16,1,16,2],[18,1,18,2],[20,1,20,2],[22,5,22,7],[9,1,9,14],[13,1,13,2],[13,3,13,5],[14,1,14,2],[14,3,14,5],[1,1,1,14],[2,1,2,14],[3,1,3,14],[4,1,4,14],[5,1,5,14]]}
[]
[null,"MINISTÉRIO DA INTEGRAÇÃO E DO DESENVOLVIMENTO REGIONAL - M. I. D. R."]
[null,"COMPANHIA DE DESENVOLVIMENTO DOS VALES DO SÃO FRANCISCO E DO PARNAÍBA"]
[null,"2ª SUPERINTENDÊNCIA REGIONAL - SEDIADA EM BOM JESUS DA LAPA/BA."]
[null,"GERÊNCIA DE INFRAESTRUTURA -  2ª/GRD"]
[]
[null,"OBJETO: EXECUÇÃO DE SERVIÇOS DE ESCAVAÇÃO EM SOLO DE 1ª CATEGORIA, OBJETIVANDO À IMPLANTAÇÃO DE RESERVATÓRIOS PARA ACÚMULO DE ÁGUA EM COMUNIDADES DE CARÁTER RURAL EM DIVERSOS MUNICÍPIOS DO ESTADO DA BAHIA, NA ÁREA DE ATUAÇÃO DA 2ª SR DA CODEVASF."]
[]
[]
[]
[null,"MEMÓRIA DE CÁLCULO DOS MOMENTOS DE TRANSPORTE PARA MOBILIZAÇÃO E DESMOBILIZAÇÃO EM VIA ASFALTADA"]
[]
[]
[null,"Cidade de Origem:",null,"Cidade Pólo"]
[null,"Destino:",null,"Local da Execução"]
[null,"Dist.  a Origem :",null,50," km"]
[null,"Quant. de Municípios:",null,1]
[]
[null,"Distância Total:",null,40," km"]
[]
[null,"Peso das máquinas:",null,null,null,"Retroescavadeira de pneus - 58 kW",null,null,7.86,"toneladas"]
[]
[]
[{"$nulls":5},"Total",null,null,{"$f":"ROUND((SUM(I21:I23)),2)","v":7.86},"toneladas"]
[]
[]
[null,{"$f":"\"Momento de transporte  =  \"&TEXT(I24,\"0,00\")&\"  x  \"&TEXT(D19,\"0,00\")&\"            =>\"","v":"Momento de transporte  =  7,86  x  40,00            =>"},{"$nulls":4},{"$f":"TRUNC(D19*I24,2)","v":314.39999999999998},null," t x km"]

{"sheet":"BDI M. DE OBRA E SERVIÇOS","index":12,"n_rows":36,"n_cols":14,"rows_kept":36,"cut":false,"hidden":false,"merged":[[18,11,18,12],[28,1,28,2],[23,5,24,5],[23,8,24,8],[19,6,19,7],[19,11,19,12],[20,1,20,2],[20,6,20,7],[20,11,20,12],[23,6,24,7],[25,1,26,1],[25,2,26,2],[25,3,26,3],[21,1,21,3],[22,2,22,3],[22,5,22,8],[14,11,14,12],[15,6,15,7],[15,11,15,12],[16,1,16,2],[16,6,16,7],[16,11,16,12],[11,11,11,12],[12,6,12,7],[12,11,12,12],[13,6,13,7],[13,11,13,12],[6,10,6,13],[7,1,7,3],[9,6,9,7],[9,11,9,12],[10,1,10,3],[7,5,8,8],[7,10,8,13],[8,1,9,1],[8,2,9,2],[8,3,9,3],[35,3,36,3],[1,1,1,8],[2,1,2,8],[3,2,3,8],[4,2,4,8],[5,1,5,8],[11,2,11,3],[11,6,11,7],[14,6,14,7],[17,1,17,3],[18,2,18,3],[18,6,18,7],[32,1,33,3],[35,1,36,2],[29,1,29,3],[26,6,26,7]]}
[]
[null,"PLANILHA DE DETALHAMENTO DO BDI"]
[]
[null,"OBJETO:","EXECUÇÃO DE SERVIÇOS DE ESCAVAÇÃO EM SOLO DE 1ª CATEGORIA, OBJETIVANDO À IMPLANTAÇÃO DE RESERVATÓRIOS PARA ACÚMULO DE ÁGUA EM COMUNIDADES DE CARÁTER RURAL EM DIVERSOS MUNICÍPIOS DO ESTADO DA BAHIA, NA ÁREA DE ATUAÇÃO DA 2ª SR DA CODEVASF."]
[]
[null,"MEMÓRIA DE CALCULO DO BDI  DOS SERVIÇOS - NÃO DESONERADO"]
[{"$nulls":10},"Obras rodoviárias"]
[null,"BDI APLICADO NA OBRA (SEM RISCO, SEGURO E GARANTIA)",null,null,null,"FAIXAS DE ADMISSIBILIDADE DE ACORDO COM O ACORDÃO N.º 2622/2013 DO TCU",{"$nulls":4},"FAIXAS DE ADMISSIBILIDADE DE ACORDO COM O ACORDÃO N.º 2622/2013 DO TCU"]
[null,"ITEM","DISCRIMINAÇÃO ","PERC.   (%)"]
[{"$nulls":5},"MÍNIMO","MÉDIO",null,"MÁXIMO",null,"MÍNIMO","MÉDIO",null,"MÁXIMO"]
[]
[null,"1.00"," Despesas Indiretas"]
[null,"A1","Seguro e Garantia",3.3999999999999998E-3,null,3.2000000000000002E-3,4.0000000000000001E-3,null,7.4000000000000003E-3,null,3.2000000000000002E-3,4.0000000000000001E-3,null,7.4000000000000003E-3]
[null,"A2","Riscos e Imprevistos",5.0000000000000001E-3,null,5.0000000000000001E-3,5.5999999999999999E-3,null,9.7000000000000003E-3,null,5.0000000000000001E-3,5.5999999999999999E-3,null,9.7000000000000003E-3]
[null,"A3","Despesas Financeiras",1.0200000000000001E-2,null,1.0200000000000001E-2,1.11E-2,null,1.21E-2,null,1.0200000000000001E-2,1.11E-2,null,1.21E-2]
[null,"A4","Administração Central",3.7999999999999999E-2,null,3.7999999999999999E-2,4.0099999999999997E-2,null,4.6699999999999998E-2,null,3.7999999999999999E-2,4.0099999999999997E-2,null,4.6699999999999998E-2]
[null,"Total do Grupo A =",null,{"$f":"SUM(D13:D16)","v":5.6599999999999998E-2}]
[]
[null,"2.00","Benefício"]
[null,"B-1","LUCRO",7.2999999999999995E-2,null,6.6400000000000001E-2,7.2999999999999995E-2,null,8.6900000000000005E-2,null,6.6400000000000001E-2,7.2999999999999995E-2,null,8.6900000000000005E-2]
[null,"Total do Grupo B =",null,{"$f":"SUM(D20)","v":7.2999999999999995E-2}]
[]
[null,"3.00","Impostos",null,null,"CÁLCULO DO ISS"]
[null,"C-1","PIS / PASEP",6.4999999999999997E-3,null,"ALÍQUOTA MUNICIPAL (%)","% DE MÃO DE OBRA",null,"ALÍQUOTA FINAL (%)"]
[null,"C-2","COFINS",0.03]
[null,"C-3","ISS",{"$f":"I27","v":0.03}]
[{"$nulls":5},0.05,0.6,null,{"$f":"G27*F27","v":0.03}]
[null,"C-4","CPRB (Contribuição Previdenciária sobre o Lucro Bruto)",0]
[null,"Total do Grupo C =",null,{"$f":"SUM(D24:D28)","v":6.6500000000000004E-2}]
[]
[null,null,"Fórmula Para Cálculo do B.D.I.:"]
[]
[null,"BDI =(((1+A4+A1+A2)*(1+A3)*(1+B1))/(1-C))-1"]
[]
[]
[null,"Bonificação Sobre Despesas indiretas (B.D.I.) =",null,{"$f":"TRUNC(((((1+D16+D13+D14)*(1+D15)*(1+D21))/(1-D29))-1),4)","v":0.215}]

{"sheet":"DET. ENCARGOS","index":13,"n_rows":45,"n_cols":4,"rows_kept":45,"cut":false,"hidden":false,"merged":[[39,0,39,1],[40,1,40,3],[43,0,43,1],[44,0,44,1],[0,3,2,3],[8,0,9,1],[10,1,10,3],[20,0,20,1],[21,1,21,3],[32,0,32,1],[33,1,33,3],[0,0,0,2],[1,0,1,2],[2,0,2,2],[4,0,4,3],[6,0,6,3]]}
["MINISTÉRIO DA INTEGRAÇÃO E DO DESENVOLVIMENTO REGIONAL - MIDR"]
["COMPANHIA DE DESENVOLVIMENTO DOS VALES DO SÃO FRANCISCO E DO PARNAÍBA"]
["2ª SUPERINTENDÊNCIA REGIONAL - BOM JESUS DA LAPA/BA."]
[]
["OBJETO: EXECUÇÃO DE SERVIÇOS DE ESCAVAÇÃO EM SOLO DE 1ª CATEGORIA, OBJETIVANDO À IMPLANTAÇÃO DE RESERVATÓRIOS PARA ACÚMULO DE ÁGUA EM COMUNIDADES DE CARÁTER RURAL EM DIVERSOS MUNICÍPIOS DO ESTADO DA BAHIA, NA ÁREA DE ATUAÇÃO DA 2ª SR DA CODEVASF."]
[]
["DETALHAMENTO DE ENCARGOS SOCIAIS - HORISTAS E MENSALISTAS (SEM DESONERAÇÃO)"]
[]
["DISCRIMINAÇÃO",null,"HORISTA","MENSALISTA"]
[null,null,"%","%"]
["A","ENCARGOS SOCIAIS BÁSICOS"]
["A1","INSS",20,20]
["A2","SESI",1.5,1.5]
["A3","SENAI",1,1]
["A4","INCRA",0.2,0.2]
["A5","SEBRAE",0.6,0.6]
["A6","Salário Educação",2.5,2.5]
["A7","Seguro Contra Acidente de Trabalho",3,3]
["A8","FGTS",8,8]
["A9","SECONCI",0,0]
["SUBTOTAL DE “A”:",null,{"$f":"SUM(C12:C20)","v":36.799999999999997},{"$f":"SUM(D12:D20)","v":36.799999999999997}]
["B","ENCARGOS SOCIAIS QUE RECEBEM INCIDÊNCIA DE “A”"]
["B1","Repouso Semanal Remunerado",17.98,"Não incide"]
["B2","Feriados",3.97,"Não incide"]
["B3","Auxílio-Enfermidade",0.86,0.65]
["B4","13º Salário",11.07,8.33]
["B5","Licença Paternidade",7.0000000000000007E-2,0.05]
["B6","Faltas Justificadas",0.74,0.56000000000000005]
["B7","Dias de Chuva",2.14,"Não incide"]
["B8","Auxílio Acidente de Trabalho",0.1,7.0000000000000007E-2]
["B9","Férias Gozadas",11.92,8.9700000000000006]
["B10","Salário Maternidade",0.03,0.03]
["SUBTOTAL DE “B”:",null,{"$f":"SUM(C23:C32)","v":48.88},{"$f":"SUM(D25,D26,D27,D28,D30,D31,D32)","v":18.660000000000004}]
["C","ENCARGOS SOCIAIS QUE NÃO RECEBEM INCIDÊNCIA DE “A”"]
["C1","Aviso Prévio Indenizado",5.49,4.13]
["C2","Aviso Prévio Trabalhado",0.13,0.1]
["C3","Férias Indenizadas",2.36,1.77]
["C4","Depósito Rescisão Sem Justa Causa",2.97,2.2400000000000002]
["C5","Indenização Adicional",0.46,0.35]
["SUBTOTAL DE “C”:",null,{"$f":"SUM(C35:C39)","v":11.410000000000002},{"$f":"SUM(D35:D39)","v":8.59}]
["D","REINCIDÊNCIAS DE UM GRUPO SOBRE O OUTRO"]
["D1","Reincidência de “A” sobre “B”",17.989999999999998,6.87]
["D2","Reincidência de Grupo A sobre Aviso Prévio Trabalhado e Reincidência do FGTS sobre Aviso Prévio Indenizado",0.49,0.37]
["SUBTOTAL DE “D”:",null,{"$f":"SUM(C42:C43)","v":18.479999999999997},{"$f":"SUM(D42:D43)","v":7.24}]
["TOTAIS DE ENCARGOS SOCIAIS (%):",null,{"$f":"SUM(C21,C33,C40,C44)","v":115.57},{"$f":"SUM(D21,D33,D40,D44)","v":71.289999999999992}]