Workbook

Sheet Exemplo e explicação
B1: Anexo I - Planilha de custo detalhada
B3: Processo | C3: 59513.000336/2025-00-e
B4: Responsável | C4: Luzia Yuriko Miyata
B5: Órgão | C5: 11ª/GRR/UDT
B6: Data | C6: 45820
B8: ITEM: | C8: Estufa agrícola
B9: LICITAÇÕES ANTERIORES | I9: SISTEMAS DE REFERÊNCIA | N9: COTAÇÕES DE MERCADO | T9: Grupos de referência (não precisa mexer)
B10: Órgão | C10: Edital/Ano - Nº do Item/Lote | D10: Valor Unitário | E10: Data | F10: índice de atualização | G10: Valor unitário aualizado | H10: Utilizar? (Sim/Não) | I10: Base | J10: Código | K10: Data | L10: Valor Unitário | M10: Utilizar? (Sim/Não) | N10: Empresa | O10: Data | P10: Valor Unitário | Q10: Utilizar? (Sim/Não) | T10: Todos | U10: Sem o maior | V10: Sem o menor | W10: Sem o maior e sem o menor | X10: Sem os dois maiores
B11: Codevasf - BA 2ª/SR | C11: Compra: 90041/2024 item n° 06 | D11: 69900 | E11: 45653 | F11: IPA-EP-MATERIAIS E COMPONENTES PARA A CONSTRUÇÃO | G11: =D11*(1+(INDEX('índices de atualização'!B:B,MATCH(F12,'índices de atualização'!B:B,0)+COUNTA('índices de atualização'!B:B)-1)-INDEX('índices de atualização'!B:B,MATCH(TEXT(E12,"MM/AAAA"),'índices de atualização'!A:A,0)))/INDEX('índices de atualização'!B:B,MATCH(TEXT(E12,"MM/AAAA"),'índices de atualização'!A:A,0))) -> 70895.775 | H11: Sim | N11: Aço Fort | O11: 45810 | P11: 127400 | Q11: sim | T11: =IF(ISNUMBER(P11),"Sim","") -> Sim | U11: =IF(ISNUMBER(P11),IF(_xlfn.RANK.EQ(P11,$P$11:$P$20)=1,"Não","Sim"),"") -> Sim | V11: =IF(ISNUMBER(P11),IF(_xlfn.RANK.EQ(P11,$P$11:$P$21)=COUNT($P$11:$P$21),"Não","Sim"),"") -> Sim | W11: =IF(U11="","",IF(AND(U11="Sim",V11="Sim"),"Sim","Não")) -> Sim | X11: =IF(ISNUMBER(P11),IF(_xlfn.RANK.EQ(P11,$P$11:$P$21)<=2,"Não","Sim"),"") -> Sim
B12: EMBRAPA RORAIMA/BOA VISTA/RR | C12: Compra: 90030/2024 item n° 03 | D12: 75000 | E12: 45650 | F12: IPA-EP-MATERIAIS E COMPONENTES PARA A CONSTRUÇÃO | G12: =D12*(1+(INDEX('índices de atualização'!B:B,MATCH(F12,'índices de atualização'!B:B,0)+COUNTA('índices de atualização'!B:B)-1)-INDEX('índices de atualização'!B:B,MATCH(TEXT(E12,"MM/AAAA"),'índices de atualização'!A:A,0)))/INDEX('índices de atualização'!B:B,MATCH(TEXT(E12,"MM/AAAA"),'índices de atualização'!A:A,0))) -> 76068.428 | H12: Sim | N12: J S Brasilio | O12: 45810 | P12: 127400 | Q12: sim | T12: =IF(ISNUMBER(P12),"Sim","") -> Sim | U12: =IF(ISNUMBER(P12),IF(_xlfn.RANK.EQ(P12,$P$11:$P$20)=1,"Não","Sim"),"") -> Sim | V12: =IF(ISNUMBER(P12),IF(_xlfn.RANK.EQ(P12,$P$11:$P$21)=COUNT($P$11:$P$21),"Não","Sim"),"") -> Sim | W12: =IF(U12="","",IF(AND(U12="Sim",V12="Sim"),"Sim","Não")) -> Sim | X12: =IF(ISNUMBER(P12),IF(_xlfn.RANK.EQ(P12,$P$11:$P$21)<=2,"Não","Sim"),"") -> Sim
B13: UNIVERSIDADE DE RIO VERDE - GO | C13: Compra: 90069/2024 item n° 01 | D13: 84461 | E13: 45635 | F13: IPA-EP-MATERIAIS E COMPONENTES PARA A CONSTRUÇÃO | G13: =D13*(1+(INDEX('índices de atualização'!B:B,MATCH(F13,'índices de atualização'!B:B,0)+COUNTA('índices de atualização'!B:B)-1)-INDEX('índices de atualização'!B:B,MATCH(TEXT(E13,"MM/AAAA"),'índices de atualização'!A:A,0)))/INDEX('índices de atualização'!B:B,MATCH(TEXT(E13,"MM/AAAA"),'índices de atualização'!A:A,0))) -> 85664.207 | H13: Sim | N13: Agro Tope | O13: 45810 | P13: 94800 | Q13: não | T13: =IF(ISNUMBER(P13),"Sim","") -> Sim | U13: =IF(ISNUMBER(P13),IF(_xlfn.RANK.EQ(P13,$P$11:$P$20)=1,"Não","Sim"),"") -> Sim | V13: =IF(ISNUMBER(P13),IF(_xlfn.RANK.EQ(P13,$P$11:$P$21)=COUNT($P$11:$P$21),"Não","Sim"),"") -> Não | W13: =IF(U13="","",IF(AND(U13="Sim",V13="Sim"),"Sim","Não")) -> Não | X13: =IF(ISNUMBER(P13),IF(_xlfn.RANK.EQ(P13,$P$11:$P$21)<=2,"Não","Sim"),"") -> Sim
B14: EMBRAPA RORAIMA/BOA VISTA/RR | C14: Compra: 90030/2024 item n° 02 | D14: 112000 | E14: 45650 | F14: IPA-EP-MATERIAIS E COMPONENTES PARA A CONSTRUÇÃO | G14: =D14*(1+(INDEX('índices de atualização'!B:B,MATCH(F14,'índices de atualização'!B:B,0)+COUNTA('índices de atualização'!B:B)-1)-INDEX('índices de atualização'!B:B,MATCH(TEXT(E14,"MM/AAAA"),'índices de atualização'!A:A,0)))/INDEX('índices de atualização'!B:B,MATCH(TEXT(E14,"MM/AAAA"),'índices de atualização'!A:A,0))) -> 113595.52 | H14: Sim | N14: Arrud Estufas | O14: 45810 | P14: 178140 | Q14: não | T14: =IF(ISNUMBER(P14),"Sim","") -> Sim | U14: =IF(ISNUMBER(P14),IF(_xlfn.RANK.EQ(P14,$P$11:$P$20)=1,"Não","Sim"),"") -> Não | V14: =IF(ISNUMBER(P14),IF(_xlfn.RANK.EQ(P14,$P$11:$P$21)=COUNT($P$11:$P$21),"Não","Sim"),"") -> Sim | W14: =IF(U14="","",IF(AND(U14="Sim",V14="Sim"),"Sim","Não")) -> Não | X14: =IF(ISNUMBER(P14),IF(_xlfn.RANK.EQ(P14,$P$11:$P$21)<=2,"Não","Sim"),"") -> Não
B15: UNIVERSIDADE DE RIO VERDE - GO | C15: Compra: 90069/2024 item n° 02 | D15: 128000 | E15: 45635 | F15: IPA-EP-MATERIAIS E COMPONENTES PARA A CONSTRUÇÃO | G15: =D15*(1+(INDEX('índices de atualização'!B:B,MATCH(F15,'índices de atualização'!B:B,0)+COUNTA('índices de atualização'!B:B)-1)-INDEX('índices de atualização'!B:B,MATCH(TEXT(E15,"MM/AAAA"),'índices de atualização'!A:A,0)))/INDEX('índices de atualização'!B:B,MATCH(TEXT(E15,"MM/AAAA"),'índices de atualização'!A:A,0))) -> 129823.45 | H15: Sim | N15: Plantfort | O15: 45810 | P15: 139350 | Q15: sim | T15: =IF(ISNUMBER(P15),"Sim","") -> Sim | U15: =IF(ISNUMBER(P15),IF(_xlfn.RANK.EQ(P15,$P$11:$P$20)=1,"Não","Sim"),"") -> Sim | V15: =IF(ISNUMBER(P15),IF(_xlfn.RANK.EQ(P15,$P$11:$P$21)=COUNT($P$11:$P$21),"Não","Sim"),"") -> Sim | W15: =IF(U15="","",IF(AND(U15="Sim",V15="Sim"),"Sim","Não")) -> Sim | X15: =IF(ISNUMBER(P15),IF(_xlfn.RANK.EQ(P15,$P$11:$P$21)<=2,"Não","Sim"),"") -> Não
B16: INST.FED.DE EDUC.,CIENC.E TEC.DO SUL DE MG | C16: Compra: 90413/2024 item n° 01 | D16: 175300 | E16: 45261 | F16: IPA-EP-MATERIAIS E COMPONENTES PARA A CONSTRUÇÃO | G16: =D16*(1+(INDEX('índices de atualização'!B:B,MATCH(F16,'índices de atualização'!B:B,0)+COUNTA('índices de atualização'!B:B)-1)-INDEX('índices de atualização'!B:B,MATCH(TEXT(E16,"MM/AAAA"),'índices de atualização'!A:A,0)))/INDEX('índices de atualização'!B:B,MATCH(TEXT(E16,"MM/AAAA"),'índices de atualização'!A:A,0))) -> 188815.52 | H16: Sim | T16: =IF(ISNUMBER(P16),"Sim","") | U16: =IF(ISNUMBER(P16),IF(_xlfn.RANK.EQ(P16,$P$11:$P$20)=1,"Não","Sim"),"") | V16: =IF(ISNUMBER(P16),IF(_xlfn.RANK.EQ(P16,$P$11:$P$21)=COUNT($P$11:$P$21),"Não","Sim"),"") | W16: =IF(U16="","",IF(AND(U16="Sim",V16="Sim"),"Sim","Não")) | X16: =IF(ISNUMBER(P16),IF(_xlfn.RANK.EQ(P16,$P$11:$P$21)<=2,"Não","Sim"),"")
T17: =IF(ISNUMBER(P17),"Sim","") | U17: =IF(ISNUMBER(P17),IF(_xlfn.RANK.EQ(P17,$P$11:$P$20)=1,"Não","Sim"),"") | V17: =IF(ISNUMBER(P17),IF(_xlfn.RANK.EQ(P17,$P$11:$P$21)=COUNT($P$11:$P$21),"Não","Sim"),"") | W17: =IF(U17="","",IF(AND(U17="Sim",V17="Sim"),"Sim","Não")) | X17: =IF(ISNUMBER(P17),IF(_xlfn.RANK.EQ(P17,$P$11:$P$21)<=2,"Não","Sim"),"")
T18: =IF(ISNUMBER(P18),"Sim","") | U18: =IF(ISNUMBER(P18),IF(_xlfn.RANK.EQ(P18,$P$11:$P$20)=1,"Não","Sim"),"") | V18: =IF(ISNUMBER(P18),IF(_xlfn.RANK.EQ(P18,$P$11:$P$21)=COUNT($P$11:$P$21),"Não","Sim"),"") | W18: =IF(U18="","",IF(AND(U18="Sim",V18="Sim"),"Sim","Não")) | X18: =IF(ISNUMBER(P18),IF(_xlfn.RANK.EQ(P18,$P$11:$P$21)<=2,"Não","Sim"),"")
T19: =IF(ISNUMBER(P19),"Sim","") | U19: =IF(ISNUMBER(P19),IF(_xlfn.RANK.EQ(P19,$P$11:$P$20)=1,"Não","Sim"),"") | V19: =IF(ISNUMBER(P19),IF(_xlfn.RANK.EQ(P19,$P$11:$P$21)=COUNT($P$11:$P$21),"Não","Sim"),"") | W19: =IF(U19="","",IF(AND(U19="Sim",V19="Sim"),"Sim","Não")) | X19: =IF(ISNUMBER(P19),IF(_xlfn.RANK.EQ(P19,$P$11:$P$21)<=2,"Não","Sim"),"")
T20: =IF(ISNUMBER(P20),"Sim","") | U20: =IF(ISNUMBER(P20),IF(_xlfn.RANK.EQ(P20,$P$11:$P$20)=1,"Não","Sim"),"") | V20: =IF(ISNUMBER(P20),IF(_xlfn.RANK.EQ(P20,$P$11:$P$21)=COUNT($P$11:$P$21),"Não","Sim"),"") | W20: =IF(U20="","",IF(AND(U20="Sim",V20="Sim"),"Sim","Não")) | X20: =IF(ISNUMBER(P20),IF(_xlfn.RANK.EQ(P20,$P$11:$P$21)<=2,"Não","Sim"),"")
Q21: =IF(ISBLANK(P21),"",IFERROR(INDEX($T21:$X21,1,MATCH(MIN($T29:$X29),$T29:$X29,0)),"Sim")) | T21: =IF(ISNUMBER(P21),"Sim","") | U21: =IF(ISNUMBER(P21),IF(_xlfn.RANK.EQ(P21,$P$11:$P$20)=1,"Não","Sim"),"") | V21: =IF(ISNUMBER(P21),IF(_xlfn.RANK.EQ(P21,$P$11:$P$21)=COUNT($P$11:$P$21),"Não","Sim"),"") | W21: =IF(U21="","",IF(AND(U21="Sim",V21="Sim"),"Sim","Não")) | X21: =IF(ISNUMBER(P21),IF(_xlfn.RANK.EQ(P21,$P$11:$P$21)<=2,"Não","Sim"),"")
Q22: =IF(ISBLANK(P22),"",IFERROR(INDEX($T22:$X22,1,MATCH(MIN($T29:$X29),$T29:$X29,0)),"Sim")) | T22: =IF(ISNUMBER(P22),"Sim","") | U22: =IF(ISNUMBER(P22),IF(_xlfn.RANK.EQ(P22,$P$11:$P$20)=1,"Não","Sim"),"") | V22: =IF(ISNUMBER(P22),IF(_xlfn.RANK.EQ(P22,$P$11:$P$21)=COUNT($P$11:$P$21),"Não","Sim"),"") | W22: =IF(U22="","",IF(AND(U22="Sim",V22="Sim"),"Sim","Não")) | X22: =IF(ISNUMBER(P22),IF(_xlfn.RANK.EQ(P22,$P$11:$P$21)<=2,"Não","Sim"),"")
Q23: =IF(ISBLANK(P23),"",IFERROR(INDEX($T23:$X23,1,MATCH(MIN($T29:$X29),$T29:$X29,0)),"Sim")) | T23: =IF(ISNUMBER(P23),"Sim","") | U23: =IF(ISNUMBER(P23),IF(_xlfn.RANK.EQ(P23,$P$11:$P$20)=1,"Não","Sim"),"") | V23: =IF(ISNUMBER(P23),IF(_xlfn.RANK.EQ(P23,$P$11:$P$21)=COUNT($P$11:$P$21),"Não","Sim"),"") | W23: =IF(U23="","",IF(AND(U23="Sim",V23="Sim"),"Sim","Não")) | X23: =IF(ISNUMBER(P23),IF(_xlfn.RANK.EQ(P23,$P$11:$P$21)<=2,"Não","Sim"),"")
B24: Média: | H24: {=IFERROR(AVERAGE(IF(H11:H16="Sim",G11:G16)),"")} -> 110810.48 | Q24: =IF(ISBLANK(P24),"",IFERROR(INDEX($T24:$X24,1,MATCH(MIN($T29:$X29),$T29:$X29,0)),"Sim")) | T24: =IF(ISNUMBER(P24),"Sim","") | U24: =IF(ISNUMBER(P24),IF(_xlfn.RANK.EQ(P24,$P$11:$P$20)=1,"Não","Sim"),"") | V24: =IF(ISNUMBER(P24),IF(_xlfn.RANK.EQ(P24,$P$11:$P$21)=COUNT($P$11:$P$21),"Não","Sim"),"") | W24: =IF(U24="","",IF(AND(U24="Sim",V24="Sim"),"Sim","Não")) | X24: =IF(ISNUMBER(P24),IF(_xlfn.RANK.EQ(P24,$P$11:$P$21)<=2,"Não","Sim"),"")
B25: Mediana: | H25: {=IFERROR(MEDIAN(IF(H11:H23="Sim",G11:G23)),"")} -> 99629.863 | N25: Grupo | Q25: =IF(COUNTIF(Q11:Q24,"Sim")<3,"N/D (são necessários pelo menos 3 preços)",IFERROR(INDEX(T10:X10,1,MATCH(Q29,T29:X29,0)),"Seleção específica de preços")) -> Sem o maior e sem o menor | T25: =IF(ISNUMBER(P25),"Sim","") | U25: =IF(ISNUMBER(P25),IF(_xlfn.RANK.EQ(P25,$P$11:$P$20)=1,"Não","Sim"),"") | V25: =IF(ISNUMBER(P25),IF(_xlfn.RANK.EQ(P25,$P$11:$P$21)=COUNT($P$11:$P$21),"Não","Sim"),"") | W25: =IF(U25="","",IF(AND(U25="Sim",V25="Sim"),"Sim","Não")) | X25: =IF(ISNUMBER(P25),IF(_xlfn.RANK.EQ(P25,$P$11:$P$21)<=2,"Não","Sim"),"")
B26: Menor valor: | H26: =MIN(G11:G23) -> 70895.775 | N26: Média: | Q26: {=IF(COUNTIF(Q11:Q24,"Sim")<3,"N/D (são necessários pelo menos 3 preços)",AVERAGE(IF(Q11:Q24="Sim",P11:P24)))} -> 131383.33 | S26: Média | T26: {=IF(COUNTIF(T11:T25,"Sim")<3,"N/D (são necessários pelo menos 3 preços)",AVERAGE(IF(T11:T25="Sim",$P11:$P25)))} -> 133418 | U26: {=IF(COUNTIF(U11:U25,"Sim")<3,"N/D (são necessários pelo menos 3 preços)",AVERAGE(IF(U11:U25="Sim",$P11:$P25)))} -> 122237.5 | V26: {=IF(COUNTIF(V11:V25,"Sim")<3,"N/D (são necessários pelo menos 3 preços)",AVERAGE(IF(V11:V25="Sim",$P11:$P25)))} -> 143072.5 | W26: {=IF(COUNTIF(W11:W25,"Sim")<3,"N/D (são necessários pelo menos 3 preços)",AVERAGE(IF(W11:W25="Sim",$P11:$P25)))} -> 131383.33 | X26: {=IF(COUNTIF(X11:X25,"Sim")<3,"N/D (são necessários pelo menos 3 preços)",AVERAGE(IF(X11:X25="Sim",$P11:$P25)))} -> 116533.33
B27: VALOR REFERENCIAL DE LICITAÇÕES: | H27: =MIN(H24:H25) -> 99629.863 | I27: Média: | M27: {=IFERROR(AVERAGE(IF(M12:M26="Sim",L12:L26)),"")} | N27: Mediana: | Q27: {=IF(COUNTIF(Q11:Q24,"Sim")<3,"N/D (são necessários pelo menos 3 preços)",MEDIAN(IF(Q11:Q24="Sim",P11:P24)))} -> 127400 | S27: Mediana | T27: {=IF(COUNTIF(T11:T25,"Sim")<3,"N/D (são necessários pelo menos 3 preços)",MEDIAN(IF(T11:T25="Sim",$P11:$P25)))} -> 127400 | U27: {=IF(COUNTIF(U11:U25,"Sim")<3,"N/D (são necessários pelo menos 3 preços)",MEDIAN(IF(U11:U25="Sim",$P11:$P25)))} -> 127400 | V27: {=IF(COUNTIF(V11:V25,"Sim")<3,"N/D (são necessários pelo menos 3 preços)",MEDIAN(IF(V11:V25="Sim",$P11:$P25)))} -> 133375 | W27: {=IF(COUNTIF(W11:W25,"Sim")<3,"N/D (são necessários pelo menos 3 preços)",MEDIAN(IF(W11:W25="Sim",$P11:$P25)))} -> 127400 | X27: {=IF(COUNTIF(X11:X25,"Sim")<3,"N/D (são necessários pelo menos 3 preços)",MEDIAN(IF(X11:X25="Sim",$P11:$P25)))} -> 127400
B28: OBSERVAÇÕES: | D28: Não foram encotrados preços nos sistemas de referência. Índice de atualização nº 1473554. | I28: Mediana: | M28: {=IFERROR(MEDIAN(IF(M12:M26="Sim",L12:L26)),"")} | N28: Menor valor: | Q28: =MIN(P11:P24) -> 94800
I29: Menor valor: | M29: =MIN(L12:L26) -> 0 | N29: CV: | O29: =IFERROR(DSTDEVP(N10:Q17,3,T10:X12),"") | Q29: {=IF(COUNTIF(Q11:Q24,"Sim")<3,"N/D (são necessários pelo menos 3 preços)",_xlfn.STDEV.S(IF(Q11:Q24="Sim",P11:P24))/AVERAGE(IF(Q11:Q24="Sim",P11:P24)))} -> 0.052513021 | S29: CV | T29: {=IF(COUNTIF(T11:T24,"Sim")<3,"N/D (são necessários pelo menos 3 preços)",_xlfn.STDEV.S(IF(T11:T24="Sim",$P11:$P24))/AVERAGE(IF(T11:T24="Sim",$P11:$P24)))} -> 0.22482687 | U29: {=IF(COUNTIF(U11:U24,"Sim")<3,"N/D (são necessários pelo menos 3 preços)",_xlfn.STDEV.S(IF(U11:U24="Sim",$P11:$P24))/AVERAGE(IF(U11:U24="Sim",$P11:$P24)))} -> 0.15657602 | V29: {=IF(COUNTIF(V11:V24,"Sim")<3,"N/D (são necessários pelo menos 3 preços)",_xlfn.STDEV.S(IF(V11:V24="Sim",$P11:$P24))/AVERAGE(IF(V11:V24="Sim",$P11:$P24)))} -> 0.16807884 | W29: {=IF(COUNTIF(W11:W24,"Sim")<3,"N/D (são necessários pelo menos 3 preços)",_xlfn.STDEV.S(IF(W11:W24="Sim",$P11:$P24))/AVERAGE(IF(W11:W24="Sim",$P11:$P24)))} -> 0.052513021 | X29: {=IF(COUNTIF(X11:X24,"Sim")<3,"N/D (são necessários pelo menos 3 preços)",_xlfn.STDEV.S(IF(X11:X24="Sim",$P11:$P24))/AVERAGE(IF(X11:X24="Sim",$P11:$P24)))} -> 0.16151275
I30: VALOR REFERENCIAL DE SISTEMAS OFICIAIS: | M30: =MIN(M27:M28) -> 0 | N30: VALOR REFERENCIAL DE COTAÇÕES: | Q30: =MIN(Q26:Q27) -> 127400
N31: VALOR UNITÁRIO ESTIMADO DO ITEM: | Q31: =AVERAGE(H27,Q30) -> 113514.93

Sheet índices de atualização
A1: \\drive2\Boletim_de_Indices\
B4: IPA-EP-MATERIAIS E COMPONENTES PARA A CONSTRUÇÃO
B5: 1473554
A6: Data | B6: 45819
A7: 02/2010 | B7: 101.005
A8: 03/2010 | B8: 101.259
A9: 04/2010 | B9: 101.387
A10: 05/2010 | B10: 101.536
A11: 06/2010 | B11: 101.83
A12: 07/2010 | B12: 102.193
A13: 08/2010 | B13: 102.283
A14: 09/2010 | B14: 102.309
A15: 10/2010 | B15: 102.274
A16: 11/2010 | B16: 102.18
A17: 12/2010 | B17: 102.431
... A155: 06/2022 | B155: 206.016
A156: 07/2022 | B156: 207,139
A157: 08/2022 | B157: 207.757
A158: 09/2022 | B158: 208.371
A159: 10/2022 | B159: 210.321
A160: 11/2022 | B160: 210.928
A161: 12/2022 | B161: 211.405
A162: 01/2023 | B162: 1196.126
A163: 02/2023 | B163: 1197.386
A164: 03/2023 | B164: 1189.72
A165: 04/2023 | B165: 1194.105
A166: 05/2023 | B166: 1192.011
A167: 06/2023 | B167: 1189.561
A168: 07/2023 | B168: 1180.884
... A189: 04/2025 | B189: 1251.066
A190: 05/2025

Sheet CVs de referência

Sheet Classes
E2: 30
E3: 39.99
E4: 36
E5: 24
E6: 37
E7: =AVERAGE(E2:E6) -> 33.398
E8: =MEDIAN(E2:E6) -> 36
