Workbook

Sheet RESUMO (2)
A2: Ministério do Desenvolvimento Regional - MDR
A3: Companhia de Desenvolvimento dos Vales do São Francisco e do Parnaíba
A5: QUADRO RESUMO
A7: OBJETO: SERVIÇOS COMUNS DE ENGENHARIA PARA EXECUÇÃO DE PÁTIO PARA MÚLTIPLOS USOS EM DIVERSOS MUNICÍPIOS DO ESTADO DO AMAPÁ SOB A ÁREA DE ATUAÇÃO DA 11ª SUPERINTENDÊNCIA REGIONAL DA CODEVASF ATRAVÉS DE SISTEMA DE REGISTRO DE PREÇOS - SRP
A11: ENCARGOS SOCIAIS | E11: HORISTA | G11: MENSALISTA | I11: BDI PARA SERVIÇOS | L11: BANCO DE DADOS
A12: Desonerado | E12: 1.1408 | G12: 0.69 | I12: 0.2624 | L12: SINAPI AP 06/2025 - SBC AP 07/2025 - SICRO3 AP 04/2025 - ORSE 05/2025 | Q12: =#REF!+#REF! -> #REF!
A15: GRUPO | B15: REGIÃO | D15: MUNICÍPIOS DE ABRANGÊNCIA | G15: QUANTIDADE (un) | H15: VALOR UNITÁRIO PÁTIO (R$) | K15: VALOR PROJETO EXECUTIVO/GRUPO (R$) | M15: VALOR GLOBAL COM BDI (R$)
A17: 1 | B17: Macapá | D17: Itaubal, Macapá, Mazagão e Santana | G17: 04 un | H17: 1529449.5 | K17: 14579 | M17: 6132377.1
A19: 2 | B19: Laranjal do Jari | D19: Laranjal do Jari e Vitória do Jari | G19: 02 un | H19: 1555842.1 | K19: 14579 | M19: 3126263.2
A21: 3 | B21: Oiapoque | D21: Amapá, Calçoene, Cutias, Oiapoque, Pracuúba e Tartarugalzinho | G21: 06 un | H21: 1560782.5 | K21: 14579 | M21: 9379274.2
R22: =#REF!-#REF! -> #REF!
A23: 4 | B23: Porto Grande | D23: Ferreira Gomes, Pedra Branca do Amapari, Porto Grande e Serra do Navio | G23: 04 un | H23: 1532165.2 | K23: 14579 | M23: 6143239.9
A25: TOTAL | G25: 16 unidades | M25: 24781154
P26: =#REF!-P28 -> #REF!
P28: 1526415.8

Sheet RESUMO
B2: Ministério do Desenvolvimento Regional - MDR
B3: Companhia de Desenvolvimento dos Vales do São Francisco e do Parnaíba
B5: ORÇAMENTO RESUMIDO
B7: OBJETO: EXECUÇÃO DE OBRA E SERVIÇOS DE ENGENHARIA PARA CONSTRUÇÃO DE GALPÃO PARA MÚLTIPLOS USOS QUE IRÁ COMPOR ESTRUTURA DO CENTRO DE PRODUÇÃO DE MUDAS/BIOFÁBRICA, SOB A ÁREA DE ATUAÇÃO DA 11ª SUPERINTENDÊNCIA REGIONAL DA CODEVASF
B10: ETAPA | D10: SERVIÇO | J10: QUANTIDADE | L10: VALORES (R$)
L11: VALOR UNITÁRIO (R$) | N11: VALOR GLOBAL (R$)
B12: 1 | D12: =SINTÉTICO!D13 -> PROJETO EXECUTIVO | J12: 1 | L12: =SINTÉTICO!L13 -> 11024.53 | N12: =L12*J12 -> 11024.53
B13: 2 | D13: =SINTÉTICO!D18 -> SERVIÇOS PRELIMINARES | J13: 1 | L13: =SINTÉTICO!L18 -> 45830.94 | N13: =L13*J13 -> 45830.94
B14: 3 | D14: =SINTÉTICO!D26 -> ADMINISTRAÇÃO LOCAL | J14: 1 | L14: =SINTÉTICO!L26 -> 72914.25 | N14: =L14*J14 -> 72914.25
B15: 4 | D15: =SINTÉTICO!D30 -> MOVIMENTO DE TERRA | J15: 1 | L15: =SINTÉTICO!L30 -> 2127.44 | N15: =L15*J15 -> 2127.44
B16: 5 | D16: =SINTÉTICO!D35 -> CONSTRUÇÃO CIVIL | J16: 1 | L16: =SINTÉTICO!L35 -> 224679.62 | N16: =L16*J16 -> 224679.62
B17: 6 | D17: =SINTÉTICO!D46 -> FUNDAÇÃO - ESTRUTURAS DE CONCRETO ARMADO | J17: 1 | L17: =SINTÉTICO!L46 -> 81260.95 | N17: =L17*J17 -> 81260.95
B18: 7 | D18: =SINTÉTICO!D59 -> ESTRUTURAS METÁLICAS | J18: 1 | L18: =SINTÉTICO!L59 -> 249560.38 | N18: =L18*J18 -> 249560.38
B19: 8 | D19: =SINTÉTICO!D65 -> SERVIÇOS DIVERSOS | J19: 1 | L19: =SINTÉTICO!L65 -> 17369.94 | N19: =L19*J19 -> 17369.94
B20: 9 | D20: =SINTÉTICO!D68 -> INSTALAÇÃO ELÉTRICA | J20: 1 | L20: =SINTÉTICO!L68 -> 9856.08 | N20: =L20*J20 -> 9856.08
B21: 10 | D21: =SINTÉTICO!D86 -> LIMPEZA FINAL DE OBRA | J21: 1 | L21: =SINTÉTICO!L86 -> 14860.97 | N21: =L21*J21 -> 14860.97
B22: VALOR TOTAL COM BDI | L22: =SUM(N12:P21) -> 729485.1

Sheet SINTÉTICO
D2: Ministério do Desenvolvimento Regional - MDR
D3: Companhia de Desenvolvimento dos Vales do São Francisco e do Parnaíba
A5: ORÇAMENTO SINTÉTICO
A7: OBJETO: EXECUÇÃO DE OBRA E SERVIÇOS DE ENGENHARIA PARA CONSTRUÇÃO DE GALPÃO PARA MÚLTIPLOS USOS QUE IRÁ COMPOR ESTRUTURA DO CENTRO DE PRODUÇÃO DE MUDAS/BIOFÁBRICA, SOB A ÁREA DE ATUAÇÃO DA 11ª SUPERINTENDÊNCIA REGIONAL DA CODEVASF
A10: ENCARGOS SOCIAIS | D10: HORISTA | E10: MENSALISTA | G10: BDI | I10: BANCO DE DADOS:
A11: NÃO DESONERADO | D11: 1.1408 | E11: 0.69 | G11: 0.2624 | I11: SINAPI AP 08/2025 - SBC AP 09/2025 - EMBASA 06/2025 - AGESUL 06/2025 - SICRO3 AP 07/2025 - SETOP 04/2025 - ORSE 07/2025
A12: ITEM | B12: CÓDIGO | C12: FONTE | D12: DESCRIÇÃO DOS SERVIÇOS | E12: UND. | F12: QUANT. UNITÁRIA | G12: QUANT. GLOBAL | H12: PREÇO UNITÁRIO S/BDI | I12: PREÇO UNITÁRIO C/ BDI | J12: VALOR UNITÁRIO C/BDI | K12: VALOR GLOBAL C/ BDI
A13: 1.0 | D13: PROJETO EXECUTIVO | L13: =ROUND(SUM(J14:J17),2) -> 11024.53 | M13: =ROUND(SUM(K14:K17),2) -> 11024.53
A14: 1.1 | B14: 90778 | C14: SINAPI | D14: ENGENHEIRO CIVIL DE OBRA PLENO (HORISTA) | E14: H | F14: =10*3.5 -> 35 | G14: =ROUND(F14,2) -> 35 | H14: 135.94 | I14: =(H14*26.24%)+H14 -> 171.61066 | J14: =ROUND(F14*I14,2) -> 6006.37 | K14: =ROUND(G14*I14,2) -> 6006.37 | M14: POR UM MÊS SÓ PARA ESSA ETAPA NO CRONOGRAMA
A15: 1.2 | B15: 25 | C15: SBC | D15: LEVANTAMENTO TOPOGRAFICO PLANIALTIMETRICO ATE 1 HECTARE | E15: M² | F15: =35*19 -> 665 | G15: =ROUND(F15,2) -> 665 | H15: 0.4 | I15: =(H15*26.24%)+H15 -> 0.50496 | J15: =ROUND(F15*I15,2) -> 335.8 | K15: =ROUND(G15*I15,2) -> 335.8
A16: 1.3 | B16: 32.02.01 | C16: EMBASA | D16: SONDAGEM A PERCUSSÃO | E16: M | F16: 40 | G16: =ROUND(F16,2) -> 40 | H16: 85 | I16: =(H16*26.24%)+H16 -> 107.304 | J16: =ROUND(F16*I16,2) -> 4292.16 | K16: =ROUND(G16*I16,2) -> 4292.16
A17: 1.4 | B17: * | C17: CREA/AP | D17: ART DE OBRAS E SERVIÇOS - CREA/AP | E17: UND | F17: 3 | G17: =ROUND(F17,2) -> 3 | H17: 103.03 | I17: =(H17*26.24%)+H17 -> 130.06507 | J17: =ROUND(F17*I17,2) -> 390.2 | K17: =ROUND(G17*I17,2) -> 390.2
A18: 2.0 | D18: SERVIÇOS PRELIMINARES | L18: =ROUND(SUM(J19:J25),2) -> 45830.94 | M18: =ROUND(SUM(K19:K25),2) -> 45830.94
A19: 2.1 | B19: 103689 | C19: SINAPI | D19: FORNECIMENTO E INSTALAÇÃO DE PLACA DE OBRA COM CHAPA GALVANIZADA E ESTRUTURA DE MADEIRA. AF_03/2022_PS | E19: M2 | F19: 6.48 | G19: =ROUND(F19,2) -> 6.48 | H19: 460.34 | I19: =(H19*26.24%)+H19 -> 581.13322 | J19: =ROUND(F19*I19,2) -> 3765.74 | K19: =ROUND(G19*I19,2) -> 3765.74
A20: 2.2 | B20: 98459 | C20: SINAPI | D20: TAPUME COM TELHA METÁLICA. AF_03/2024 | E20: M2 | F20: 196.68 | G20: =ROUND(F20,2) -> 196.68 | H20: 84.37 | I20: =(H20*26.24%)+H20 -> 106.50869 | J20: =ROUND(F20*I20,2) -> 20948.13 | K20: =ROUND(G20*I20,2) -> 20948.13
A21: 2.3 | B21: 101509 | C21: SINAPI | D21: ENTRADA DE ENERGIA ELÉTRICA, AÉREA, TRIFÁSICA, COM CAIXA DE EMBUTIR, CABO DE 10 MM2 E DISJUNTOR DIN 50A (NÃO INCLUSO O POSTE DE CONCRETO). AF_07/2020 | E21: UN | F21: 1 | G21: =ROUND(F21,2) -> 1 | H21: 2110.95 | I21: =(H21*26.24%)+H21 -> 2664.8633 | J21: =ROUND(F21*I21,2) -> 2664.86 | K21: =ROUND(G21*I21,2) -> 2664.86
A22: 2.4 | B22: 12075 | C22: SBC | D22: INSTALACAO PROVISORIA DE AGUA E ESGOTO | E22: PT | F22: 1 | G22: =ROUND(F22,2) -> 1 | H22: 3377.45 | I22: =(H22*26.24%)+H22 -> 4263.6929 | J22: =ROUND(F22*I22,2) -> 4263.69 | K22: =ROUND(G22*I22,2) -> 4263.69
A23: 2.5 | B23: 5088 | C23: ORSE | D23: BARRACÃO PARA OBRAS DE MÉDIO PORTE REAPROVEITAMENTO 2 VEZES | E23: M2 | F23: =4*5 -> 20 | G23: =ROUND(F23,2) -> 20 | H23: 251.64 | I23: =(H23*26.24%)+H23 -> 317.67034 | J23: =ROUND(F23*I23,2) -> 6353.41 | K23: =ROUND(G23*I23,2) -> 6353.41
A24: 2.5 | B24: 99059 | C24: SINAPI | D24: LOCAÇÃO CONVENCIONAL DE OBRA, UTILIZANDO GABARITO DE TÁBUAS CORRIDAS PONTALETADAS A CADA 2,00M - 2 UTILIZAÇÕES. AF_03/2024 | E24: M | F24: 85.4 | G24: =ROUND(F24,2) -> 85.4 | H24: 69.04 | I24: =(H24*26.24%)+H24 -> 87.156096 | J24: =ROUND(F24*I24,2) -> 7443.13 | K24: =ROUND(G24*I24,2) -> 7443.13
A25: 2.6 | B25: 98525 | C25: SINAPI | D25: LIMPEZA MECANIZADA DE CAMADA VEGETAL, VEGETAÇÃO E PEQUENAS ÁRVORES (DIÂMETRO DE TRONCO MENOR QUE 0,20 M), COM TRATOR DE ESTEIRAS | E25: M2 | F25: =30*15 -> 450 | G25: =ROUND(F25,2) -> 450 | H25: 0.69 | I25: =(H25*26.24%)+H25 -> 0.871056 | J25: =ROUND(F25*I25,2) -> 391.98 | K25: =ROUND(G25*I25,2) -> 391.98
A26: 3.0 | D26: ADMINISTRAÇÃO LOCAL | L26: =ROUND(SUM(J27:J29),2) -> 72914.25 | M26: =ROUND(SUM(K27:K29),2) -> 72914.25
A27: 3.1 | B27: 93563 | C27: SINAPI | D27: ALMOXARIFE COM ENCARGOS COMPLEMENTARES | E27: MÊS | F27: 4 | G27: =ROUND(F27,2) -> 4 | H27: 4133.84 | I27: =(H27*26.24%)+H27 -> 5218.5596 | J27: =ROUND(F27*I27,2) -> 20874.24 | K27: =ROUND(G27*I27,2) -> 20874.24
A28: 3.2 | B28: 93572 | C28: SINAPI | D28: ENCARREGADO GERAL DE OBRAS COM ENCARGOS COMPLEMENTARES | E28: MÊS | F28: 4 | G28: =ROUND(F28,2) -> 4 | H28: 4868.17 | I28: =(H28*26.24%)+H28 -> 6145.5778 | J28: =ROUND(F28*I28,2) -> 24582.31 | K28: =ROUND(G28*I28,2) -> 24582.31
A29: 3.3 | B29: 90778 | C29: SINAPI | D29: ENGENHEIRO CIVIL DE OBRA PLENO COM ENCARGOS COMPLEMENTARES | E29: H | F29: 160 | G29: =ROUND(F29,2) -> 160 | H29: 135.94 | I29: =(H29*26.24%)+H29 -> 171.61066 | J29: =ROUND(F29*I29,2) -> 27457.7 | K29: =ROUND(G29*I29,2) -> 27457.7
A30: 4.0 | D30: MOVIMENTO DE TERRA | L30: =ROUND(SUM(J31:J34),2) -> 2127.44 | M30: =ROUND(SUM(K31:K34),2) -> 2127.46
A31: 4.1 | B31: 96525 | C31: SINAPI | D31: ESCAVAÇÃO MECANIZADA PARA VIGA BALDRAME OU SAPATA CORRIDA COM MINI-ESCAVADEIRA (INCLUINDO ESCAVAÇÃO PARA COLOCAÇÃO DE FÔRMAS). AF_01/2024 | E31: M3 | F31: 23.47 | G31: =ROUND(F31,2) -> 23.47 | H31: 56.5 | I31: =(H31*26.24%)+H31 -> 71.3256 | J31: =ROUND(F31*I31,2) -> 1674.01 | K31: =ROUND(G31*I31,2) -> 1674.01
A32: 4.2 | B32: 101617 | C32: SINAPI | D32: PREPARO DE FUNDO DE VALA COM LARGURA MAIOR OU IGUAL A 1,5 M E MENOR QUE 2,5 M (ACERTO DO SOLO NATURAL). AF_08/2020 | E32: M2 | F32: 10.145 | G32: =ROUND(F32,2) -> 10.15 | H32: 2.95 | I32: =(H32*26.24%)+H32 -> 3.72408 | J32: =ROUND(F32*I32,2) -> 37.78 | K32: =ROUND(G32*I32,2) -> 37.8
A33: 4.3 | B33: 101616 | C33: SINAPI | D33: PREPARO DE FUNDO DE VALA COM LARGURA MENOR QUE 1,5 M (ACERTO DO SOLO NATURAL). AF_08/2020 | E33: M2 | F33: 7.95 | G33: =ROUND(F33,2) -> 7.95 | H33: 5.99 | I33: =(H33*26.24%)+H33 -> 7.561776 | J33: =ROUND(F33*I33,2) -> 60.12 | K33: =ROUND(G33*I33,2) -> 60.12
A34: 4.4 | B34: 93381 | C34: SINAPI | D34: REATERRO MECANIZADO DE VALA COM RETROESCAVADEIRA (CAPACIDADE DA CAÇAMBA DA RETRO: 0,26 M³/POTÊNCIA: 88 HP), LARGURA 0,8 A 1,5 M, PROFUNDIDADE 1,5 A 3,0 M, COM SOLO (SEM SUBSTITUIÇÃO) DE 1ª CATEGORIA E COMPACTADOR DE SOLOS DE PERCUSSÃO. AF_08/2023 | E34: M3 | F34: 20.8 | G34: =ROUND(F34,2) -> 20.8 | H34: 13.54 | I34: =(H34*26.24%)+H34 -> 17.092896 | J34: =ROUND(F34*I34,2) -> 355.53 | K34: =ROUND(G34*I34,2) -> 355.53
A35: 5.0 | D35: CONSTRUÇÃO CIVIL | L35: =ROUND(SUM(J36:J45),2) -> 224679.62 | M35: =ROUND(SUM(K37:K45),2) -> 223104.14
A36: 5.1 | B36: 97083 | C36: SINAPI | D36: COMPACTAÇÃO MECÂNICA DE SOLO PARA EXECUÇÃO DE RADIER, PISO DE CONCRETO OU LAJE SOBRE SOLO, COM COMPACTADOR DE SOLOS A PERCUSSÃO. AF_09/2021 | E36: M2 | F36: 400 | G36: =ROUND(F36,2) -> 400 | H36: 3.12 | I36: =(H36*26.24%)+H36 -> 3.938688 | J36: =ROUND(F36*I36,2) -> 1575.48 | K36: =ROUND(G36*I36,2) -> 1575.48
A37: 5.2 | B37: 103913 | C37: SINAPI | D37: EXECUÇÃO DE PISO INDUSTRIAL DE CONCRETO ARMADO, FCK = 20 MPA, ESPESSURA DE 12,0 CM. AF_04/2022 | E37: M2 | F37: 400 | G37: =ROUND(F37,2) -> 400 | H37: 158.44 | I37: =(H37*26.24%)+H37 -> 200.01466 | J37: =ROUND(F37*I37,2) -> 80005.86 | K37: =ROUND(G37*I37,2) -> 80005.86
A38: 5.3 | B38: 98575 | C38: SINAPI | D38: TRATAMENTO DE JUNTA DE DILATAÇÃO, COM TARUGO DE POLIETILENO E SELANTE PU, INCLUSO PREENCHIMENTO COM ESPUMA EXPANSIVA PU. AF_09/2023 | E38: M | F38: 85 | G38: =ROUND(F38,2) -> 85 | H38: 75.32 | I38: =(H38*26.24%)+H38 -> 95.083968 | J38: =ROUND(F38*I38,2) -> 8082.14 | K38: =ROUND(G38*I38,2) -> 8082.14
A39: 5.4 | B39: 103338 | C39: SINAPI | D39: ALVENARIA DE VEDAÇÃO DE BLOCOS VAZADOS DE CONCRETO APARENTE DE 14X19X39 CM (ESPESSURA 14 CM) E ARGAMASSA DE ASSENTAMENTO COM PREPARO EM BETONEIRA. AF_12/2021 | E39: M2 | F39: 545 | G39: =ROUND(F39,2) -> 545 | H39: 117.63 | I39: =(H39*26.24%)+H39 -> 148.49611 | J39: =ROUND(F39*I39,2) -> 80930.38 | K39: =ROUND(G39*I39,2) -> 80930.38
A40: 5.5 | B40: 94213 | C40: SINAPI | D40: TELHAMENTO COM TELHA DE AÇO/ALUMÍNIO E = 0,5 MM, COM ATÉ 2 ÁGUAS, INCLUSO IÇAMENTO. AF_07/2019 | E40: M2 | F40: 509 | G40: =ROUND(F40,2) -> 509 | H40: 59.97 | I40: =(H40*26.24%)+H40 -> 75.706128 | J40: =ROUND(F40*I40,2) -> 38534.42 | K40: =ROUND(G40*I40,2) -> 38534.42
A41: 5.6 | B41: 94228 | C41: SINAPI | D41: CALHA EM CHAPA DE AÇO GALVANIZADO NÚMERO 24, DESENVOLVIMENTO DE 50 CM, INCLUSO TRANSPORTE VERTICAL. AF_07/2019 | E41: M | F41: 60 | G41: =ROUND(F41,2) -> 60 | H41: 80.74 | I41: =(H41*26.24%)+H41 -> 101.92618 | J41: =ROUND(F41*I41,2) -> 6115.57 | K41: =ROUND(G41*I41,2) -> 6115.57
A42: 5.7 | B42: 100326 | C42: SINAPI | D42: CUMEEIRA NORMAL PARA TELHA TRAPEZOIDAL DE AÇO, E = 0,5 MM, INCLUSO ACESSÓRIOS DE FIXAÇÃO E IÇAMENTO. AF_07/2019 | E42: M | F42: 30 | G42: =ROUND(F42,2) -> 30 | H42: 17.24 | I42: =(H42*26.24%)+H42 -> 21.763776 | J42: =ROUND(F42*I42,2) -> 652.91 | K42: =ROUND(G42*I42,2) -> 652.91
A43: 5.8 | B43: 4911 | C43: SINAPI | D43: PORTA DE ENROLAR MANUAL COMPLETA, ARTICULADA RAIADA LARGA, EM ACO GALVANIZADO NATURAL, CHAPA NUMERO 24 (SEM INSTALACAO) | E43: M2 | F43: 21 | G43: =ROUND(F43,2) -> 21 | H43: 328.16 | I43: =(H43*26.24%)+H43 -> 414.26918 | J43: =ROUND(F43*I43,2) -> 8699.65 | K43: =ROUND(G43*I43,2) -> 8699.65
A44: 5.9 | B44: 88316 | C44: SINAPI | D44: SERVENTE COM ENCARGOS COMPLEMENTARES - PARA EXECUÇÃO E INSTALAÇÃO DA PORTA DE ENROLAR | E44: H | F44: 2 | G44: =ROUND(F44,2) -> 2 | H44: 19.85 | I44: =(H44*26.24%)+H44 -> 25.05864 | J44: =ROUND(F44*I44,2) -> 50.12 | K44: =ROUND(G44*I44,2) -> 50.12
A45: 5.10 | B45: 88309 | C45: SINAPI | D45: PEDREIRO COM ENCARGOS COMPLEMENTARES - PARA EXECUÇÃO E INSTALAÇÃO DA PORTA DE ENROLAR | E45: H | F45: 1 | G45: =ROUND(F45,2) -> 1 | H45: 26.21 | I45: =(H45*26.24%)+H45 -> 33.087504 | J45: =ROUND(F45*I45,2) -> 33.09 | K45: =ROUND(G45*I45,2) -> 33.09
...

Sheet CURVA ABC
A1: ITEM | B1: CÓDIGO | C1: FONTE | D1: DESCRIÇÃO DOS SERVIÇOS | E1: UND. | F1: QUANT. | G1: PREÇO UNITÁRIO S/BDI | H1: PREÇO UNITÁRIO C/ BDI | I1: PREÇO TOTAL C/ BDI | J1: PORCENTAGEM INDIVIDUAL
A2: 7.6.1 | B2: 104314 | C2: SINAPI | D2: TRAMA DE AÇO COMPOSTA POR TERÇAS PARA TELHADOS DE ATÉ 2 ÁGUAS PARA TELHA ONDULADA DE FIBROCIMENTO, METÁLICA, PLÁSTICA OU TERMOACÚSTICA, INCLUSO TRANSPORTE VERTICAL (EM KG). AF_07/2019 | E2: KG | F2: 16805.58 | G2: 10.75 | H2: =(G2*26.24%)+G2 -> 13.5708 | I2: =ROUND(F2*H2,2) -> 228065.17 | J2: =I2/$I$248 -> 7.0759768
A3: 7.5.6 | B3: 101747 | C3: SINAPI | D3: PISO EM CONCRETO 20 MPA PREPARO MECÂNICO, ESPESSURA 7CM. AF_09/2020 | E3: M2 | F3: 619 | G3: 118.47 | H3: =(G3*26.24%)+G3 -> 149.55653 | I3: =ROUND(F3*H3,2) -> 92575.49 | J3: =I3/$I$248 -> 2.872258
A4: 10.6 | B4: 94213 | C4: SINAPI | D4: TELHAMENTO COM TELHA DE AÇO/ALUMÍNIO E = 0,5 MM, COM ATÉ 2 ÁGUAS, INCLUSO IÇAMENTO. AF_07/2019 | E4: M2 | F4: =0.72+562.5+187.5 -> 750.72 | G4: 65.01 | H4: =(G4*26.24%)+G4 -> 82.068624 | I4: =ROUND(F4*H4,2) -> 61610.56 | J4: =I4/$I$248 -> 1.9115365 | K4: 1526415.8
A5: 12.2 | B5: 87535 | C5: SINAPI | D5: EMBOÇO, EM ARGAMASSA TRAÇO 1:2:8, PREPARO MECÂNICO, APLICADO MANUALMENTE EM PAREDES INTERNAS DE AMBIENTES COM ÁREA MAIOR QUE 10M², E = 17,5MM, COM TALISCAS. AF_03/2024 | E5: M2 | F5: 1032.57 | G5: 35.39 | H5: =(G5*26.24%)+G5 -> 44.676336 | I5: =ROUND(F5*H5,2) -> 46131.44 | J5: =I5/$I$248 -> 1.4312795 | K5: =K4-#REF! -> #REF!
A6: 13.3 | B6: 87632 | C6: SINAPI | D6: CONTRAPISO EM ARGAMASSA TRAÇO 1:4 (CIMENTO E AREIA), PREPARO MANUAL, APLICADO EM ÁREAS SECAS SOBRE LAJE, ADERIDO, ACABAMENTO NÃO REFORÇADO, ESPESSURA 3CM. AF_07/2021 | E6: M2 | F6: 619 | G6: 54.78 | H6: =(G6*26.24%)+G6 -> 69.154272 | I6: =ROUND(F6*H6,2) -> 42806.49 | J6: =I6/$I$248 -> 1.3281192
A7: 4.3 | B7: 90777 | C7: SINAPI | D7: ENGENHEIRO CIVIL DE OBRA JUNIOR COM ENCARGOS COMPLEMENTARES | E7: H | F7: 240 | G7: 136.41 | H7: =(G7*26.24%)+G7 -> 172.20398 | I7: =ROUND(F7*H7,2) -> 41328.96 | J7: =I7/$I$248 -> 1.2822772
A8: 10.5 | B8: 170099 | C8: SBC | D8: CANTONEIRA (ABAS IGUAIS) EM FERRO GALVANIZADO, 50,8mmx9,53mm | E8: M | F8: 298 | G8: 102.71 | H8: =(G8*26.24%)+G8 -> 129.6611 | I8: =ROUND(F8*H8,2) -> 38639.01 | J8: =I8/$I$248 -> 1.1988185
A9: 4.2 | B9: 93572 | C9: SINAPI | D9: ENCARREGADO GERAL DE OBRAS COM ENCARGOS COMPLEMENTARES | E9: MÊS | F9: =3*2 -> 6 | G9: 5045.37 | H9: =(G9*26.24%)+G9 -> 6369.2751 | I9: =ROUND(F9*H9,2) -> 38215.65 | J9: =I9/$I$248 -> 1.1856832
A10: 8.3.1 | B10: 102253 | C10: SINAPI | D10: DIVISORIA SANITÁRIA, TIPO CABINE, EM GRANITO CINZA POLIDO, ESP = 3CM, ASSENTADO COM ARGAMASSA COLANTE AC III-E, EXCLUSIVE FERRAGENS. AF_01/2021 | E10: M2 | F10: 25.43 | G10: 1160.01 | H10: =(G10*26.24%)+G10 -> 1464.3966 | I10: =ROUND(F10*H10,2) -> 37239.61 | J10: =I10/$I$248 -> 1.1554005
A11: 21.3 | B11: 96974 | C11: SINAPI | D11: CORDOALHA DE COBRE NU 50 MM², NÃO ENTERRADA, COM ISOLADOR - FORNECIMENTO E INSTALAÇÃO. AF_08/2023 | E11: M | F11: 255 | G11: 102.71 | H11: =(G11*26.24%)+G11 -> 129.6611 | I11: =ROUND(F11*H11,2) -> 33063.58 | J11: =I11/$I$248 -> 1.0258345
A12: 12.3 | B12: 87543 | C12: SINAPI | D12: MASSA ÚNICA, EM ARGAMASSA INDUSTRIALIZADA, PREPARO MECÂNICO, APLICADA COM EQUIPAMENTO DE MISTURA E PROJEÇÃO DE ARGAMASSA EM PAREDES INTERNAS, E = 5MM, SEM TALISCAS. AF_03/2024 | E12: M2 | F12: 897.78 | G12: 28.8 | H12: =(G12*26.24%)+G12 -> 36.35712 | I12: =ROUND(F12*H12,2) -> 32640.7 | J12: =I12/$I$248 -> 1.0127142
A13: 4.1 | B13: 93563 | C13: SINAPI | D13: ALMOXARIFE COM ENCARGOS COMPLEMENTARES | E13: MÊS | F13: =3*2 -> 6 | G13: 4284.85 | H13: =(G13*26.24%)+G13 -> 5409.1946 | I13: =ROUND(F13*H13,2) -> 32455.17 | J13: =I13/$I$248 -> 1.0069579
A14: 8.2.1 | B14: 103322 | C14: SINAPI | D14: ALVENARIA DE VEDAÇÃO DE BLOCOS CERÂMICOS FURADOS NA VERTICAL DE 9X19X39 CM (ESPESSURA 9 CM) E ARGAMASSA DE ASSENTAMENTO COM PREPARO EM BETONEIRA. AF_12/2021 | E14: M2 | F14: 395.31 | G14: 63.46 | H14: =(G14*26.24%)+G14 -> 80.111904 | I14: =ROUND(F14*H14,2) -> 31669.04 | J14: =I14/$I$248 -> 0.98256736
A15: 6.1.1 | B15: 100896 | C15: SINAPI | D15: ESTACA ESCAVADA MECANICAMENTE, SEM FLUIDO ESTABILIZANTE, COM 25CM DE DIÂMETRO, CONCRETO LANÇADO POR CAMINHÃO BETONEIRA (EXCLUSIVE MOBILIZAÇÃO E DESMOBILIZAÇÃO). AF_01/2020_PA | E15: M | F15: 270 | G15: 82.84 | H15: =(G15*26.24%)+G15 -> 104.57722 | I15: =ROUND(F15*H15,2) -> 28235.85 | J15: =I15/$I$248 -> 0.8760488
A16: 3.10 | B16: * | C16: SICRO3 | D16: MOBILIZAÇÃO E DESMOBILIZAÇÃO | E16: KM | F16: =(101+36.1+23.5/3)+1 -> 145.93333 | G16: =CPUs!I17 -> 149.69817 | H16: =(G16*26.24%)+G16 -> 188.97897 | I16: =ROUND(F16*H16,2) -> 27578.33 | J16: =I16/$I$248 -> 0.85564851 | K16: =2*5*4*6 -> 240
A17: 8.1.1 | B17: 101161 | C17: SINAPI | D17: ALVENARIA DE VEDAÇÃO COM ELEMENTO VAZADO DE CONCRETO (COBOGÓ) DE 7X50X50CM E ARGAMASSA DE ASSENTAMENTO COM PREPARO EM BETONEIRA. AF_05/2020 | E17: M2 | F17: 84.2 | G17: 247.42 | H17: =(G17*26.24%)+G17 -> 312.34301 | I17: =ROUND(F17*H17,2) -> 26299.28 | J17: =I17/$I$248 -> 0.81596455
A18: 6.1.9 | B18: 96557 | C18: SINAPI | D18: CONCRETAGEM DE BLOCO DE COROAMENTO OU VIGA BALDRAME, FCK 30 MPA, COM USO DE BOMBA - LANÇAMENTO, ADENSAMENTO E ACABAMENTO. AF_01/2024 | E18: M3 | F18: 16.96 | G18: 1177.65 | H18: =(G18*26.24%)+G18 -> 1486.6654 | I18: =ROUND(F18*H18,2) -> 25213.84 | J18: =I18/$I$248 -> 0.78228756
A19: 20.4.5 | B19: 92988 | C19: SINAPI | D19: CABO DE COBRE FLEXÍVEL ISOLADO, 50 MM², ANTI-CHAMA 0,6/1,0 KV, PARA REDE ENTERRADA DE DISTRIBUIÇÃO DE ENERGIA ELÉTRICA - FORNECIMENTO E INSTALAÇÃO. AF_12/2021 | E19: M | F19: 231.5 | G19: 67.7 | H19: =(G19*26.24%)+G19 -> 85.46448 | I19: =ROUND(F19*H19,2) -> 19785.03 | J19: =I19/$I$248 -> 0.61385267
A20: 7.5.3 | B20: 96622 | C20: SINAPI | D20: LASTRO COM MATERIAL GRANULAR, APLICADO EM PISOS OU LAJES SOBRE SOLO, ESPESSURA DE *5 CM*. AF_01/2024 | E20: M3 | F20: 30.95 | G20: 483.3 | H20: =(G20*26.24%)+G20 -> 610.11792 | I20: =ROUND(F20*H20,2) -> 18883.15 | J20: =I20/$I$248 -> 0.58587083
A21: 7.4.1 | B21: 101964 | C21: SINAPI | D21: LAJE PRÉ-MOLDADA UNIDIRECIONAL, BIAPOIADA, PARA FORRO, ENCHIMENTO EM CERÂMICA, VIGOTA CONVENCIONAL, ALTURA TOTAL DA LAJE (ENCHIMENTO+CAPA) = (8+3). AF_11/2020_PA | E21: M2 | F21: 80.74 | G21: 181.81 | H21: =(G21*26.24%)+G21 -> 229.51694 | I21: =ROUND(F21*H21,2) -> 18531.2 | J21: =I21/$I$248 -> 0.57495119
A22: 14.7 | B22: 102491 | C22: SINAPI | D22: PINTURA DE PISO COM TINTA ACRÍLICA, APLICAÇÃO MANUAL, 2 DEMÃOS, INCLUSO FUNDO PREPARADOR. AF_05/2021 | E22: M2 | F22: 659.8 | G22: 21.04 | H22: =(G22*26.24%)+G22 -> 26.560896 | I22: =ROUND(F22*H22,2) -> 17524.88 | J22: =I22/$I$248 -> 0.54372899
A23: 7.1.6 | B23: 103672 | C23: SINAPI | D23: CONCRETAGEM DE PILARES, FCK = 25 MPA, COM USO DE BOMBA - LANÇAMENTO, ADENSAMENTO E ACABAMENTO. AF_02/2022_PS | E23: M3 | F23: 12.92 | G23: 1047.6 | H23: =(G23*26.24%)+G23 -> 1322.4902 | I23: =ROUND(F23*H23,2) -> 17086.57 | J23: =I23/$I$248 -> 0.53012993
A24: 14.5 | B24: 100739 | C24: SINAPI | D24: PINTURA COM TINTA ALQUÍDICA DE ACABAMENTO (ESMALTE SINTÉTICO ACETINADO) PULVERIZADA SOBRE PERFIL METÁLICO EXECUTADO EM FÁBRICA (POR DEMÃO). AF_01/2020_PE | E24: M2 | F24: =712.79+187.5+19.32+16.44+562.5 -> 1498.55 | G24: 8.65 | H24: =(G24*26.24%)+G24 -> 10.91976 | I24: =ROUND(F24*H24,2) -> 16363.81 | J24: =I24/$I$248 -> 0.50770549
A25: 7.5.5 | B25: 97088 | C25: SINAPI | D25: ARMAÇÃO PARA EXECUÇÃO DE RADIER, PISO DE CONCRETO OU LAJE SOBRE SOLO, COM USO DE TELA Q-92. AF_09/2021 | E25: KG | F25: 916.12 | G25: 13.72 | H25: =(G25*26.24%)+G25 -> 17.320128 | I25: =ROUND(F25*H25,2) -> 15867.32 | J25: =I25/$I$248 -> 0.49230133
A26: 14.4 | B26: 88489 | C26: SINAPI | D26: PINTURA LÁTEX ACRÍLICA PREMIUM, APLICAÇÃO MANUAL EM PAREDES, DUAS DEMÃOS. AF_04/2023 | E26: M2 | F26: =445.41+307.09+145.28 -> 897.78 | G26: 13.59 | H26: =(G26*26.24%)+G26 -> 17.156016 | I26: =ROUND(F26*H26,2) -> 15402.33 | J26: =I26/$I$248 -> 0.4778745
A27: 1.1 | B27: 90778 | C27: SINAPI | D27: ENGENHEIRO CIVIL DE OBRA PLENO COM ENCARGOS COMPLEMENTARES | E27: H | F27: =32*2.5 -> 80 | G27: 143.07 | H27: =(G27*26.24%)+G27 -> 180.61157 | I27: =ROUND(F27*H27,2) -> 14448.93 | J27: =I27/$I$248 -> 0.4482942
A28: 14.6 | B28: 100724 | C28: SINAPI | D28: PINTURA COM TINTA ALQUÍDICA DE FUNDO E ACABAMENTO (ESMALTE SINTÉTICO GRAFITE) APLICADA A ROLO OU PINCEL SOBRE PERFIL METÁLICO EXECUTADO EM FÁBRICA (POR DEMÃO). AF_01/2020 | E28: M2 | F28: 921.8 | G28: 11.99 | H28: =(G28*26.24%)+G28 -> 15.136176 | I28: =ROUND(F28*H28,2) -> 13952.53 | J28: =I28/$I$248 -> 0.43289283
A29: 12.5 | B29: 104615 | C29: SINAPI | D29: REVESTIMENTO CERÂMICO PARA PAREDES INTERNAS COM PLACAS TIPO PASTILHA DE DIMENSÕES 5 X 5 CM (PLACAS DE 30 X 30 CM) CM APLICADAS NA ALTURA INTEIRA DAS PAREDES. AF_02/2023 | E29: M2 | F29: =12.02+11.45+7.8 -> 31.27 | G29: 344.28 | H29: =(G29*26.24%)+G29 -> 434.61907 | I29: =ROUND(F29*H29,2) -> 13590.54 | J29: =I29/$I$248 -> 0.42166169
A30: 7.2.7 | B30: 103675 | C30: SINAPI | D30: CONCRETAGEM DE VIGAS E LAJES, FCK=25 MPA, PARA LAJES MACIÇAS OU NERVURADAS COM USO DE BOMBA - LANÇAMENTO, ADENSAMENTO E ACABAMENTO. AF_02/2022_PS | E30: M3 | F30: 10.14 | G30: 1048.7 | H30: =(G30*26.24%)+G30 -> 1323.8789 | I30: =ROUND(F30*H30,2) -> 13424.13 | J30: =I30/$I$248 -> 0.41649863
A31: 7.1.1 | B31: 92443 | C31: SINAPI | D31: MONTAGEM E DESMONTAGEM DE FÔRMA DE PILARES RETANGULARES E ESTRUTURAS SIMILARES, PÉ-DIREITO SIMPLES, EM CHAPA DE MADEIRA COMPENSADA PLASTIFICADA, 18 UTILIZAÇÕES. AF_09/2020 | E31: M2 | F31: 182.4 | G31: 55.14 | H31: =(G31*26.24%)+G31 -> 69.608736 | I31: =ROUND(F31*H31,2) -> 12696.63 | J31: =I31/$I$248 -> 0.39392713
A32: 7.2.1 | B32: 92443 | C32: SINAPI | D32: MONTAGEM E DESMONTAGEM DE FÔRMA DE PILARES RETANGULARES E ESTRUTURAS SIMILARES, PÉ-DIREITO SIMPLES, EM CHAPA DE MADEIRA COMPENSADA PLASTIFICADA, 18 UTILIZAÇÕES. AF_09/2020 | E32: M2 | F32: 169.88 | G32: 55.14 | H32: =(G32*26.24%)+G32 -> 69.608736 | I32: =ROUND(F32*H32,2) -> 11825.13 | J32: =I32/$I$248 -> 0.36688787
A33: 9.3.1 | B33: 91341 | C33: SINAPI | D33: PORTA EM ALUMÍNIO DE ABRIR TIPO VENEZIANA COM GUARNIÇÃO, FIXAÇÃO COM PARAFUSOS - FORNECIMENTO E INSTALAÇÃO. AF_12/2019 | E33: M2 | F33: =6.6+6.93+0.75 -> 14.28 | G33: 652.2 | H33: =(G33*26.24%)+G33 -> 823.33728 | I33: =ROUND(F33*H33,2) -> 11757.26 | J33: =I33/$I$248 -> 0.36478213
A34: 13.1 | B34: 87769 | C34: SINAPI | D34: CONTRAPISO EM ARGAMASSA PRONTA, PREPARO MANUAL, APLICADO EM ÁREAS MOLHADAS SOBRE IMPERMEABILIZAÇÃO, ACABAMENTO NÃO REFORÇADO, ESPESSURA 4CM. AF_07/2021 | E34: M2 | F34: 55.45 | G34: 164.69 | H34: =(G34*26.24%)+G34 -> 207.90466 | I34: =ROUND(F34*H34,2) -> 11528.31 | J34: =I34/$I$248 -> 0.3576787
A35: 11.1 | B35: 98557 | C35: SINAPI | D35: IMPERMEABILIZAÇÃO DE SUPERFÍCIE COM EMULSÃO ASFÁLTICA, 2 DEMÃOS. AF_09/2023 | E35: M2 | F35: =75.2+65.31+28.28 -> 168.79 | G35: 53.66 | H35: =(G35*26.24%)+G35 -> 67.740384 | I35: =ROUND(F35*H35,2) -> 11433.9 | J35: =I35/$I$248 -> 0.35474952
A36: 12.6 | B36: 12816 | C36: ORSE | D36: Placa cimentícia e =10mm, para fechamento da fachada (1 lado/face), juntas aparentes, fixada em estrutura metalica, exclusive esta (fornecimento e assentamento) | E36: M2 | F36: 83.5 | G36: 106.8 | H36: =(G36*26.24%)+G36 -> 134.82432 | I36: =ROUND(F36*H36,2) -> 11257.83 | J36: =I36/$I$248 -> 0.34928676
A37: 3.5 | B37: 99059 | C37: SINAPI | D37: LOCAÇÃO CONVENCIONAL DE OBRA, UTILIZANDO GABARITO DE TÁBUAS CORRIDAS PONTALETADAS A CADA 2,00M - 2 UTILIZAÇÕES. AF_03/2024 | E37: M | F37: 146 | G37: 59.72 | H37: =(G37*26.24%)+G37 -> 75.390528 | I37: =ROUND(F37*H37,2) -> 11007.02 | J37: =I37/$I$248 -> 0.3415051
A38: 12.4 | B38: 87273 | C38: SINAPI | D38: REVESTIMENTO CERÂMICO PARA PAREDES INTERNAS COM PLACAS TIPO ESMALTADA EXTRA DE DIMENSÕES 33X45 CM APLICADAS NA ALTURA INTEIRA DAS PAREDES. AF_02/2023_PE | E38: M2 | F38: 103.52 | G38: 77.95 | H38: =(G38*26.24%)+G38 -> 98.40408 | I38: =ROUND(F38*H38,2) -> 10186.79 | J38: =I38/$I$248 -> 0.31605654
A39: 20.3.1 | B39: 91834 | C39: SINAPI | D39: ELETRODUTO FLEXÍVEL CORRUGADO, PVC, DN 25 MM (3/4"), PARA CIRCUITOS TERMINAIS, INSTALADO EM FORRO - FORNECIMENTO E INSTALAÇÃO. AF_03/2023_PA | E39: M | F39: 370.4 | G39: 20.91 | H39: =(G39*26.24%)+G39 -> 26.396784 | I39: =ROUND(F39*H39,2) -> 9777.37 | J39: =I39/$I$248 -> 0.30335383
A40: 2.3 | B40: 32.02.01 | C40: EMBASA | D40: SONDAGEM A PERCUSSÃO | E40: M | F40: 90 | G40: 85 | H40: =(G40*26.24%)+G40 -> 107.304 | I40: =ROUND(F40*H40,2) -> 9657.36 | J40: =I40/$I$248 -> 0.29963039
...

Sheet ANALÍTICO
A2: Ministério do Desenvolvimento Regional - MDR
A3: Companhia de Desenvolvimento dos Vales do São Francisco e do Parnaíba
A5: ORÇAMENTO ANALÍTICO
A7: OBJETO: SERVIÇOS COMUNS DE ENGENHARIA PARA EXECUÇÃO DE PÁTIO PARA MÚLTIPLOS USOS EM DIVERSOS MUNICÍPIOS DO ESTADO DO AMAPÁ SOB A ÁREA DE ATUAÇÃO DA 11ª SUPERINTENDÊNCIA REGIONAL DA CODEVASF ATRAVÉS DE SISTEMA DE REGISTRO DE PREÇOS - SRP (ZONA 1)
A10: 1 | D10: PROJETO EXECUTIVO | J10: 3254.7
B11: Código | C11: Banco | D11: Descrição | E11: Tipo | G11: Und | H11: Quant. | I11: Valor Unit | J11: Total
A12: Insumo | B12: 00034782 | C12: SINAPI | D12: ENGENHEIRO CIVIL SENIOR | E12: Mão de Obra | G12: H | H12: 1 | I12: 171.88 | J12: 171.88
E13: MO sem LS => | F13: 171.88 | G13: LS => | H13: 0 | I13: MO com LS => | J13: 171.88
E14: Valor do BDI => | H14: Valor com BDI => | J14: 216.98
G15: Quant. => | H15: 15,00 | I15: Preço Total => | J15: 3254.7
A17: 2 | D17: SERVIÇOS PRELIMINARES | J17: 130643.3
A18: 2.1 | B18: Código | C18: Banco | D18: Descrição | E18: Tipo | G18: Und | H18: Quant. | I18: Valor Unit | J18: Total
A19: Composição | B19: MS-0009 | C19: Próprio | D19: ADMINISTRAÇÃO LOCAL 11ª SR - 6 MESES | E19: CANT - CANTEIRO DE OBRAS | G19: UND | H19: 1 | I19: 69327.38 | J19: 69327.38
A20: Composição Auxiliar | B20: 90778 | C20: SINAPI | D20: ENGENHEIRO CIVIL DE OBRA PLENO COM ENCARGOS COMPLEMENTARES | E20: SEDI - SERVIÇOS DIVERSOS | G20: H | H20: 96 | I20: 135.94 | J20: 13050.24
A21: Composição Auxiliar | B21: 90780 | C21: SINAPI | D21: MESTRE DE OBRAS COM ENCARGOS COMPLEMENTARES | E21: SEDI - SERVIÇOS DIVERSOS | G21: H | H21: 1320 | I21: 42.36 | J21: 55915.2
A22: Insumo | B22: 00044480 | C22: SINAPI | D22: TARIFA "A" ENTRE 0 E 20M3 FORNECIMENTO D'AGUA | E22: Taxas | G22: m³ | H22: 18.35 | I22: 19.67 | J22: 360.94
A23: Insumo | B23: 00014250 | C23: SINAPI | D23: ENERGIA ELETRICA COMERCIAL, BAIXA TENSAO, RELATIVA AO CONSUMO DE ATE 100 KWH, INCLUINDO ICMS, PIS/PASEP E COFINS | E23: Material | G23: KW/H | H23: 0.97 | I23: 1.04 | J23: 1
E24: MO sem LS => | F24: 65056.32 | G24: LS => | H24: 0 | I24: MO com LS => | J24: 65056.32
E25: Valor do BDI => | F25: 18191.5 | H25: Valor com BDI => | J25: 87518.88
G26: Quant. => | H26: 1,00 | I26: Preço Total => | J26: 87518.88
A28: 2.2 | B28: Código | C28: Banco | D28: Descrição | E28: Tipo | G28: Und | H28: Quant. | I28: Valor Unit | J28: Total
A29: Composição | B29: MS-0008 | C29: Próprio | D29: PLACA DE OBRA (3,60M X 1,80M) | E29: SERP - SERVIÇOS PRELIMINARES | G29: M² | H29: 1 | I29: 517.93 | J29: 517.93
A30: Composição Auxiliar | B30: 88262 | C30: SINAPI | D30: CARPINTEIRO DE FORMAS COM ENCARGOS COMPLEMENTARES | E30: SEDI - SERVIÇOS DIVERSOS | G30: H | H30: 1 | I30: 25.79 | J30: 25.79
A31: Composição Auxiliar | B31: 87445 | C31: SINAPI | D31: BETONEIRA CAPACIDADE NOMINAL 400 L, CAPACIDADE DE MISTURA 310 L, MOTOR A DIESEL POTÊNCIA 5,0 HP, SEM CARREGADOR - CHP DIURNO. AF_05/2023 | E31: CHOR - CUSTOS HORÁRIOS DE MÁQUINAS E EQUIPAMENTOS | G31: CHP | H31: 0.01 | I31: 5.79 | J31: 0.05
A32: Composição Auxiliar | B32: 88316 | C32: SINAPI | D32: SERVENTE COM ENCARGOS COMPLEMENTARES | E32: SEDI - SERVIÇOS DIVERSOS | G32: H | H32: 2.06 | I32: 19.85 | J32: 40.89
A33: Insumo | B33: 00004813 | C33: SINAPI | D33: PLACA DE OBRA (PARA CONSTRUCAO CIVIL) EM CHAPA GALVANIZADA *N. 22*, ADESIVADA, DE *2,4 X 1,2* M (SEM POSTES PARA FIXACAO) | E33: Material | G33: M² | H33: 1 | I33: 400 | J33: 400
A34: Insumo | B34: 00004491 | C34: SINAPI | D34: PONTALETE *7,5 X 7,5* CM EM PINUS, MISTA OU EQUIVALENTE DA REGIAO - BRUTA | E34: Material | G34: M | H34: 4 | I34: 9.42 | J34: 37.68
A35: Insumo | B35: 00004417 | C35: SINAPI | D35: SARRAFO NAO APARELHADO *2,5 X 7* CM, EM MACARANDUBA/MASSARANDUBA, ANGELIM, PEROBA-ROSA OU EQUIVALENTE DA REGIAO - BRUTA | E35: Material | G35: M | H35: 1 | I35: 5.32 | J35: 5.32
A36: Insumo | B36: 00001379 | C36: SINAPI | D36: CIMENTO PORTLAND COMPOSTO CP II-32 | E36: Material | G36: KG | H36: 1.5 | I36: 1.12 | J36: 1.68
A37: Insumo | B37: 00004718 | C37: SINAPI | D37: PEDRA BRITADA N. 2 (19 A 38 MM) POSTO PEDREIRA/FORNECEDOR, SEM FRETE | E37: Material | G37: M³ | H37: 0.01 | I37: 325 | J37: 3.25
A38: Insumo | B38: 00005075 | C38: SINAPI | D38: PREGO DE ACO POLIDO COM CABECA 18 X 30 (2 3/4 X 10) | E38: Material | G38: KG | H38: 0.11 | I38: 16.12 | J38: 1.77
A39: Insumo | B39: 00000370 | C39: SINAPI | D39: AREIA MEDIA - POSTO JAZIDA/FORNECEDOR (RETIRADO NA JAZIDA, SEM TRANSPORTE) | E39: Material | G39: M³ | H39: 0.01 | I39: 150 | J39: 1.5
E40: MO sem LS => | F40: 53.13 | G40: LS => | H40: 0 | I40: MO com LS => | J40: 53.13
E41: Valor do BDI => | F41: 135.9 | H41: Valor com BDI => | J41: 653.83
G42: Quant. => | H42: 6,48 | I42: Preço Total => | J42: 4236.81
A44: 2.3 | B44: Código | C44: Banco | D44: Descrição | E44: Tipo | G44: Und | H44: Quant. | I44: Valor Unit | J44: Total
A45: Composição | B45: 4657 | C45: ORSE | D45: Locação de container - Escritório com banheiro - 6,20 x 2,40m - Rev 02_02/2022 | E45: Mobilização / Instalações Provisórias / Desmobilização | G45: mês | H45: 1 | I45: 1600 | J45: 1600
A46: Item | B46: Código | C46: Banco | D46: Descrição | E46: Tipo | G46: Und | H46: Quant. | I46: Valor Unit | J46: Total
A47: Insumo | B47: 4298 | C47: ORSE | D47: Aluguel de container - Escritório com banheiro - 6,20 x 2,40m, equipado com Ar condicionado | E47: Serviços | G47: mês | H47: 1 | I47: 1.600,00 | J47: 1.600,00
A48: Detalhamento de Cálculo ORSE
...

Sheet MEMÓRIA DE CÁLCULO
A2: Ministério do Desenvolvimento Regional - MDR
A3: Companhia de Desenvolvimento dos Vales do São Francisco e do Parnaíba
A5: MEMÓRIA DE CÁLCULO
A7: OBJETO: EXECUÇÃO DE OBRA E SERVIÇOS DE ENGENHARIA PARA CONSTRUÇÃO DE GALPÃO PARA MÚLTIPLOS USOS QUE IRÁ COMPOR ESTRUTURA DO CENTRO DE PRODUÇÃO DE MUDAS/BIOFÁBRICA, SOB A ÁREA DE ATUAÇÃO DA 11ª SUPERINTENDÊNCIA REGIONAL DA CODEVASF
A10: ITEM | B10: SERVIÇO | C10: UND | D10: MEMÓRIA | E10: TOTAL
A11: =SINTÉTICO!A13 -> 1.0 | B11: =SINTÉTICO!D13 -> PROJETO EXECUTIVO
A12: =SINTÉTICO!A14 -> 1.1 | B12: =SINTÉTICO!D14 -> ENGENHEIRO CIVIL DE OBRA PLENO (HORISTA) | C12: =SINTÉTICO!E14 -> H | D12: 10 PRANCHAS x 3,5H POR UNIDADE | E12: =SINTÉTICO!F14 -> 35
A13: =SINTÉTICO!A15 -> 1.2 | B13: =SINTÉTICO!D15 -> LEVANTAMENTO TOPOGRAFICO PLANIALTIMETRICO ATE 1 HECTARE | C13: =SINTÉTICO!E15 -> M² | D13: ÁREA DO TERRENO | E13: =SINTÉTICO!F15 -> 665
A14: =SINTÉTICO!A16 -> 1.3 | B14: =SINTÉTICO!D16 -> SONDAGEM A PERCUSSÃO | C14: =SINTÉTICO!E16 -> M | D14: CONFORME NBR's 8036/1983 e 6484/2020 - 1 FURO/200m - ÁREA 420m² - 10m DE PERFURAÇÃO/FURO (4 FUROS x 10M) | E14: =SINTÉTICO!F16 -> 40
A15: =SINTÉTICO!A17 -> 1.4 | B15: =SINTÉTICO!D17 -> ART DE OBRAS E SERVIÇOS - CREA/AP | C15: =SINTÉTICO!E17 -> UND | D15: ART DOS ESTUDOS PRELIMINARES (SONDAGEM E TOPOGRAFIA) + EXECUÇÃO DA OBRA | E15: =SINTÉTICO!F17 -> 3
A16: =SINTÉTICO!A18 -> 2.0 | B16: =SINTÉTICO!D18 -> SERVIÇOS PRELIMINARES
A17: =SINTÉTICO!A19 -> 2.1 | B17: =SINTÉTICO!D19 -> FORNECIMENTO E INSTALAÇÃO DE PLACA DE OBRA COM CHAPA GALVANIZADA E ESTRUTURA DE MADEIRA. AF_03/2022_PS | C17: =SINTÉTICO!E19 -> M2 | D17: CONFORME MANUAL CODEVASF | E17: =SINTÉTICO!F19 -> 6.48
A18: =SINTÉTICO!A20 -> 2.2 | B18: =SINTÉTICO!D20 -> TAPUME COM TELHA METÁLICA. AF_03/2024 | C18: =SINTÉTICO!E20 -> M2 | D18: CONFORME PROJETO BÁSICO | E18: =SINTÉTICO!F20 -> 196.68
A19: =SINTÉTICO!A21 -> 2.3 | B19: =SINTÉTICO!D21 -> ENTRADA DE ENERGIA ELÉTRICA, AÉREA, TRIFÁSICA, COM CAIXA DE EMBUTIR, CABO DE 10 MM2 E DISJUNTOR DIN 50A (NÃO INCLUSO O POSTE DE CONCRETO). AF_07/2020 | C19: =SINTÉTICO!E21 -> UN | D19: CONFORME PROJETO BÁSICO | E19: =SINTÉTICO!F21 -> 1
A20: =SINTÉTICO!A22 -> 2.4 | B20: =SINTÉTICO!D22 -> INSTALACAO PROVISORIA DE AGUA E ESGOTO | C20: =SINTÉTICO!E22 -> PT | D20: CONFORME PROJETO BÁSICO | E20: =SINTÉTICO!F22 -> 1
A21: =SINTÉTICO!A23 -> 2.5 | B21: =SINTÉTICO!D23 -> BARRACÃO PARA OBRAS DE MÉDIO PORTE REAPROVEITAMENTO 2 VEZES | C21: =SINTÉTICO!E23 -> M2 | D21: CONFORME PROJETO BÁSICO | E21: =SINTÉTICO!F23 -> 20
A22: 2.6 | B22: =SINTÉTICO!D24 -> LOCAÇÃO CONVENCIONAL DE OBRA, UTILIZANDO GABARITO DE TÁBUAS CORRIDAS PONTALETADAS A CADA 2,00M - 2 UTILIZAÇÕES. AF_03/2024 | C22: =SINTÉTICO!E24 -> M | D22: CONFORME PROJETO BÁSICO | E22: =SINTÉTICO!F24 -> 85.4
A23: 2.7 | B23: =SINTÉTICO!D25 -> LIMPEZA MECANIZADA DE CAMADA VEGETAL, VEGETAÇÃO E PEQUENAS ÁRVORES (DIÂMETRO DE TRONCO MENOR QUE 0,20 M), COM TRATOR DE ESTEIRAS | C23: =SINTÉTICO!E25 -> M2 | D23: CONFORME PROJETO BÁSICO | E23: =SINTÉTICO!F25 -> 450
A24: =SINTÉTICO!A26 -> 3.0 | B24: =SINTÉTICO!D26 -> ADMINISTRAÇÃO LOCAL
A25: =SINTÉTICO!A27 -> 3.1 | B25: =SINTÉTICO!D27 -> ALMOXARIFE COM ENCARGOS COMPLEMENTARES | C25: =SINTÉTICO!E27 -> MÊS | D25: 4 MESES DE EXECUÇÃO DE OBRA | E25: =SINTÉTICO!F27 -> 4
A26: =SINTÉTICO!A28 -> 3.2 | B26: =SINTÉTICO!D28 -> ENCARREGADO GERAL DE OBRAS COM ENCARGOS COMPLEMENTARES | C26: =SINTÉTICO!E28 -> MÊS | D26: 4 MESES DE EXECUÇÃO DE OBRA | E26: =SINTÉTICO!F28 -> 4
A27: =SINTÉTICO!A29 -> 3.3 | B27: =SINTÉTICO!D29 -> ENGENHEIRO CIVIL DE OBRA PLENO COM ENCARGOS COMPLEMENTARES | C27: =SINTÉTICO!E29 -> H | D27: 2H DIÁRIAS x 5 DIAS POR SEMANA x 4 SEMANAS POR MÊS x 4 MESES DE OBRA | E27: =SINTÉTICO!F29 -> 160
A28: =SINTÉTICO!A30 -> 4.0 | B28: =SINTÉTICO!D30 -> MOVIMENTO DE TERRA
A29: =SINTÉTICO!A31 -> 4.1 | B29: =SINTÉTICO!D31 -> ESCAVAÇÃO MECANIZADA PARA VIGA BALDRAME OU SAPATA CORRIDA COM MINI-ESCAVADEIRA (INCLUINDO ESCAVAÇÃO PARA COLOCAÇÃO DE FÔRMAS). AF_01/2024 | C29: =SINTÉTICO!E31 -> M3 | D29: CONFORME PROJETO BÁSICO | E29: =SINTÉTICO!F31 -> 23.47
A30: =SINTÉTICO!A32 -> 4.2 | B30: =SINTÉTICO!D32 -> PREPARO DE FUNDO DE VALA COM LARGURA MAIOR OU IGUAL A 1,5 M E MENOR QUE 2,5 M (ACERTO DO SOLO NATURAL). AF_08/2020 | C30: =SINTÉTICO!E32 -> M2 | D30: CONFORME PROJETO BÁSICO | E30: =SINTÉTICO!F32 -> 10.145
A31: =SINTÉTICO!A33 -> 4.3 | B31: =SINTÉTICO!D33 -> PREPARO DE FUNDO DE VALA COM LARGURA MENOR QUE 1,5 M (ACERTO DO SOLO NATURAL). AF_08/2020 | C31: =SINTÉTICO!E33 -> M2 | D31: CONFORME PROJETO BÁSICO | E31: =SINTÉTICO!F33 -> 7.95
A32: =SINTÉTICO!A34 -> 4.4 | B32: =SINTÉTICO!D34 -> REATERRO MECANIZADO DE VALA COM RETROESCAVADEIRA (CAPACIDADE DA CAÇAMBA DA RETRO: 0,26 M³/POTÊNCIA: 88 HP), LARGURA 0,8 A 1,5 M, PROFUNDIDADE 1,5 A 3,0 M, COM SOLO (SEM SUBSTITUIÇÃO) DE 1ª CATEGORIA E COMPACTADOR DE SOLOS DE PERCUSSÃO. AF_08/2023 | C32: =SINTÉTICO!E34 -> M3 | D32: CONFORME PROJETO BÁSICO | E32: =SINTÉTICO!F34 -> 20.8
A33: =SINTÉTICO!A35 -> 5.0 | B33: =SINTÉTICO!D35 -> CONSTRUÇÃO CIVIL
A34: =SINTÉTICO!A36 -> 5.1 | B34: =SINTÉTICO!D36 -> COMPACTAÇÃO MECÂNICA DE SOLO PARA EXECUÇÃO DE RADIER, PISO DE CONCRETO OU LAJE SOBRE SOLO, COM COMPACTADOR DE SOLOS A PERCUSSÃO. AF_09/2021 | C34: =SINTÉTICO!E36 -> M2 | D34: CONFORME PROJETO BÁSICO | E34: =SINTÉTICO!F36 -> 400
A35: =SINTÉTICO!A37 -> 5.2 | B35: =SINTÉTICO!D37 -> EXECUÇÃO DE PISO INDUSTRIAL DE CONCRETO ARMADO, FCK = 20 MPA, ESPESSURA DE 12,0 CM. AF_04/2022 | C35: =SINTÉTICO!E37 -> M2 | D35: CONFORME PROJETO BÁSICO | E35: =SINTÉTICO!F37 -> 400
A36: =SINTÉTICO!A38 -> 5.3 | B36: =SINTÉTICO!D38 -> TRATAMENTO DE JUNTA DE DILATAÇÃO, COM TARUGO DE POLIETILENO E SELANTE PU, INCLUSO PREENCHIMENTO COM ESPUMA EXPANSIVA PU. AF_09/2023 | C36: =SINTÉTICO!E38 -> M | D36: CONFORME PROJETO BÁSICO | E36: =SINTÉTICO!F38 -> 85
A37: =SINTÉTICO!A39 -> 5.4 | B37: =SINTÉTICO!D39 -> ALVENARIA DE VEDAÇÃO DE BLOCOS VAZADOS DE CONCRETO APARENTE DE 14X19X39 CM (ESPESSURA 14 CM) E ARGAMASSA DE ASSENTAMENTO COM PREPARO EM BETONEIRA. AF_12/2021 | C37: =SINTÉTICO!E39 -> M2 | D37: CONFORME PROJETO BÁSICO | E37: =SINTÉTICO!F39 -> 545
A38: =SINTÉTICO!A40 -> 5.5 | B38: =SINTÉTICO!D40 -> TELHAMENTO COM TELHA DE AÇO/ALUMÍNIO E = 0,5 MM, COM ATÉ 2 ÁGUAS, INCLUSO IÇAMENTO. AF_07/2019 | C38: =SINTÉTICO!E40 -> M2 | D38: CONFORME PROJETO BÁSICO | E38: =SINTÉTICO!F40 -> 509
A39: =SINTÉTICO!A41 -> 5.6 | B39: =SINTÉTICO!D41 -> CALHA EM CHAPA DE AÇO GALVANIZADO NÚMERO 24, DESENVOLVIMENTO DE 50 CM, INCLUSO TRANSPORTE VERTICAL. AF_07/2019 | C39: =SINTÉTICO!E41 -> M | D39: CONFORME PROJETO BÁSICO | E39: =SINTÉTICO!F41 -> 60
A40: =SINTÉTICO!A42 -> 5.7 | B40: =SINTÉTICO!D42 -> CUMEEIRA NORMAL PARA TELHA TRAPEZOIDAL DE AÇO, E = 0,5 MM, INCLUSO ACESSÓRIOS DE FIXAÇÃO E IÇAMENTO. AF_07/2019 | C40: =SINTÉTICO!E42 -> M | D40: CONFORME PROJETO BÁSICO | E40: =SINTÉTICO!F42 -> 30
A41: =SINTÉTICO!A43 -> 5.8 | B41: =SINTÉTICO!D43 -> PORTA DE ENROLAR MANUAL COMPLETA, ARTICULADA RAIADA LARGA, EM ACO GALVANIZADO NATURAL, CHAPA NUMERO 24 (SEM INSTALACAO) | C41: =SINTÉTICO!E43 -> M2 | D41: CONFORME PROJETO BÁSICO | E41: =SINTÉTICO!F43 -> 21
A42: =SINTÉTICO!A44 -> 5.9 | B42: =SINTÉTICO!D44 -> SERVENTE COM ENCARGOS COMPLEMENTARES - PARA EXECUÇÃO E INSTALAÇÃO DA PORTA DE ENROLAR | C42: =SINTÉTICO!E44 -> H | D42: CONFORME PROJETO BÁSICO | E42: =SINTÉTICO!F44 -> 2
A43: =SINTÉTICO!A45 -> 5.10 | B43: =SINTÉTICO!D45 -> PEDREIRO COM ENCARGOS COMPLEMENTARES - PARA EXECUÇÃO E INSTALAÇÃO DA PORTA DE ENROLAR | C43: =SINTÉTICO!E45 -> H | D43: CONFORME PROJETO BÁSICO | E43: =SINTÉTICO!F45 -> 1
A44: =SINTÉTICO!A46 -> 6.0 | B44: =SINTÉTICO!D46 -> FUNDAÇÃO - ESTRUTURAS DE CONCRETO ARMADO
A45: =SINTÉTICO!A47 -> 6.1 | B45: =SINTÉTICO!D47 -> LASTRO DE CONCRETO MAGRO, APLICADO EM BLOCOS DE COROAMENTO OU SAPATAS, ESPESSURA DE 5 CM. AF_01/2024 | C45: =SINTÉTICO!E47 -> M2 | D45: CONFORME PROJETO BÁSICO | E45: =SINTÉTICO!F47 -> 18.095
...

Sheet BDI
D2: Ministério do Desenvolvimento Regional - MDR | Q2: DETALHAMENTO DO BDI
D3: Companhia de Desenvolvimento dos Vales do São Francisco e do Parnaíba
Q4: Item | R4: Descrição dos Serviços | S4: % | T4: %
A5: DETALHAMENTO DO BDI | S5: PV | T5: CD
A6: Serviços
B7: 1 | C7: Administração Central | L7: 0.04 | Q7: 1 | R7: ADMINISTRAÇÃO CENTRAL | T7: 4
B9: 2 | C9: Impostos e Taxas (I) | L9: 0.0865
B10: 2.1 | C10: ISS | L10: 0.05 | N10: ALTERAR CONFORME MUNICÍPIO
B11: 2.2 | C11: PIS | L11: 0.0065 | N11: CONSTANTES
B12: 2.3 | C12: COFINS | L12: 0.03 | Q12: 2 | R12: IMPOSTOS E TAXAS | S12: =SUM(S13:S15) -> 8.65
Q13: 2.1 | R13: ISS | S13: 5
B14: 3 | C14: Seguro + Garantia | L14: 0.008 | Q14: 2.2 | R14: PIS | S14: 0.65
Q15: 2.3 | R15: Cofins | S15: 3
B16: 4 | C16: Risco | L16: 0.0127
Q17: 3 | R17: TAXA DE RISCO | T17: =SUM(T18:T20) -> 2.07
B18: 5 | C18: Despesa Financeira | L18: 0.0123 | Q18: 3.1 | R18: SEGURO | T18: 0.4
Q19: 3.2 | R19: RISCO | T19: 1.27
B20: 6 | C20: Lucro | L20: 0.074 | Q20: 3.2 | R20: GARANTIA | T20: 0.4
B22: BDI (%) | L22: 0.2624 | Q22: 4 | R22: DESPESAS FINANCEIRAS | T22: 1.23
Q24: 5 | R24: LUCRO | T24: 7.4
A25: Notas: | C25: O local da obra não foi de fato decidido, desse modo optou-se pela maior aliquota do ISS. Contudo a depender do local de construção poderá ter readequação do valor percentual.
R26: BDI - CALCULADO | T26: =ROUND((((1+(T7%+T18%+T19%+T20%))*(1+T22%)*(1+T24%)/(1-S12%))-(1))*100,2) -> 26.24
Q29: BDI (CALCULADO): | S29: =ROUND((((1+((T7+T17)/100))*(1+T22/100)*(1+T24/100))/(1-S12/100)-1)*100,2) -> 26.24
Q31: Para o preenchimento da proposta deve-se utilizar o valor de ISS da Prefeitura Local.
Q32: Acordão 2622/20213

Sheet CRONOGRAMA
C2: Ministério do Desenvolvimento Regional - MDR
C3: Companhia de Desenvolvimento dos Vales do São Francisco e do Parnaíba
A5: CRONOGRAMA FÍSICO FINANCEIRO
A7: OBJETO: EXECUÇÃO DE OBRA E SERVIÇOS DE ENGENHARIA PARA CONSTRUÇÃO DE GALPÃO PARA MÚLTIPLOS USOS QUE IRÁ COMPOR ESTRUTURA DO CENTRO DE PRODUÇÃO DE MUDAS/BIOFÁBRICA, SOB A ÁREA DE ATUAÇÃO DA 11ª SUPERINTENDÊNCIA REGIONAL DA CODEVASF
A10: Nº | B10: DESCRIÇÃO | C10: VALOR | D10: DIAS | E10: DIAS | F10: DIAS | G10: DIAS | H10: DIAS
D11: 30 | E11: =D11+30 -> 60 | F11: =E11+30 -> 90 | G11: =F11+30 -> 120 | H11: =G11+30 -> 150
A12: =SINTÉTICO!A13 -> 1.0 | B12: =SINTÉTICO!D13 -> PROJETO EXECUTIVO | C12: =SINTÉTICO!L13 -> 11024.53 | D12: =$C$12*D13 -> 11024.53 | E12: =$C$12*E13 -> 0 | F12: =$C$12*F13 -> 0 | G12: =$C$12*G13 -> 0 | H12: =$C$12*H13 -> 0 | I12: =SUM(D12:H12)-C12 -> 0
C13: 1 | D13: 1 | E13: 0 | I13: =SUM(D13:H13)-C13 -> 0
A14: =SINTÉTICO!A18 -> 2.0 | B14: =SINTÉTICO!D18 -> SERVIÇOS PRELIMINARES | C14: =SINTÉTICO!L18 -> 45830.94 | D14: =$C$14*D15 -> 0 | E14: =$C$14*E15 -> 45830.94 | F14: =$C$14*F15 -> 0 | G14: =$C$14*G15 -> 0 | H14: =$C$14*H15 -> 0 | I14: =SUM(D14:H14)-C14 -> 0
C15: 1 | E15: 1 | F15: 0 | I15: =SUM(D15:H15)-C15 -> 0
A16: =SINTÉTICO!A26 -> 3.0 | B16: =SINTÉTICO!D26 -> ADMINISTRAÇÃO LOCAL | C16: =SINTÉTICO!L26 -> 72914.25 | D16: =$C$16*D17 -> 0 | E16: =$C$16*E17 -> 10937.137 | F16: =$C$16*F17 -> 25519.987 | G16: =$C$16*G17 -> 25519.987 | H16: =$C$16*H17 -> 10937.137 | I16: =SUM(D16:H16)-C16 -> 0
C17: 1 | E17: 0.15 | F17: 0.35 | G17: 0.35 | H17: 0.15 | I17: =SUM(D17:H17)-C17 -> 0
A18: =SINTÉTICO!A30 -> 4.0 | B18: =SINTÉTICO!D30 -> MOVIMENTO DE TERRA | C18: =SINTÉTICO!L30 -> 2127.44 | D18: =$C$18*D19 -> 0 | E18: =$C$18*E19 -> 2127.44 | F18: =$C$18*F19 -> 0 | G18: =$C$18*G19 -> 0 | H18: =$C$18*H19 -> 0 | I18: =SUM(D18:H18)-C18 -> 0
C19: 1 | E19: 1 | F19: 0 | I19: =SUM(D19:H19)-C19 -> 0
A20: =SINTÉTICO!A35 -> 5.0 | B20: =SINTÉTICO!D35 -> CONSTRUÇÃO CIVIL | C20: =SINTÉTICO!L35 -> 224679.62 | D20: =$C$20*D21 -> 0 | E20: =$C$20*E21 -> 0 | F20: =$C$20*F21 -> 33701.943 | G20: =$C$20*G21 -> 146041.75 | H20: =$C$20*H21 -> 44935.924 | I20: =SUM(D20:H20)-C20 -> 0
C21: 1 | F21: 0.15 | G21: 0.65 | H21: 0.2 | I21: =SUM(D21:H21)-C21 -> 0
A22: =SINTÉTICO!A46 -> 6.0 | B22: =SINTÉTICO!D46 -> FUNDAÇÃO - ESTRUTURAS DE CONCRETO ARMADO | C22: =SINTÉTICO!L46 -> 81260.95 | D22: =$C$22*D23 -> 0 | E22: =$C$22*E23 -> 30472.856 | F22: =$C$22*F23 -> 50788.094 | G22: =$C$22*G23 -> 0 | H22: =$C$22*H23 -> 0 | I22: =SUM(D22:H22)-C22 -> 0
C23: 1 | E23: 0.375 | F23: 0.625 | G23: 0 | H23: 0 | I23: =SUM(D23:H23)-C23 -> 0
A24: =SINTÉTICO!A59 -> 7.0 | B24: =SINTÉTICO!D59 -> ESTRUTURAS METÁLICAS | C24: =SINTÉTICO!L59 -> 249560.38 | D24: =$C$24*D25 -> 0 | E24: =$C$24*E25 -> 0 | F24: =$C$24*F25 -> 12478.019 | G24: =$C$24*G25 -> 224604.34 | H24: =$C$24*H25 -> 12478.019 | I24: =SUM(D24:H24)-C24 -> 0
C25: 1 | F25: 0.05 | G25: 0.9 | H25: 0.05 | I25: =SUM(D25:H25)-C25 -> 0
A26: =SINTÉTICO!A65 -> 8.0 | B26: =SINTÉTICO!D65 -> SERVIÇOS DIVERSOS | C26: =SINTÉTICO!L65 -> 17369.94 | D26: =$C$26*D27 -> 0 | E26: =$C$26*E27 -> 0 | F26: =$C$26*F27 -> 6947.976 | G26: =$C$26*G27 -> 5210.982 | H26: =$C$26*H27 -> 5210.982 | I26: =SUM(D26:H26)-C26 -> 0
C27: 1 | F27: 0.4 | G27: 0.3 | H27: 0.3 | I27: =SUM(D27:H27)-C27 -> 0
A28: =SINTÉTICO!A68 -> 9.0 | B28: =SINTÉTICO!D68 -> INSTALAÇÃO ELÉTRICA | C28: =SINTÉTICO!L68 -> 9856.08 | D28: =$C$30*D29 -> 0 | E28: =$C$30*E29 -> 0 | F28: =$C$30*F29 -> 0 | G28: =$C$30*G29 -> 0 | H28: =$C$28*H29 -> 9856.08 | I28: =SUM(D28:H28)-C28 -> 0
C29: 1 | H29: 1 | I29: =SUM(D29:H29)-C29 -> 0
A30: =SINTÉTICO!A86 -> 10.0 | B30: =SINTÉTICO!D86 -> LIMPEZA FINAL DE OBRA | C30: =SINTÉTICO!L86 -> 14860.97 | D30: =$C$30*D31 -> 0 | E30: =$C$30*E31 -> 0 | F30: =$C$30*F31 -> 0 | G30: =$C$30*G31 -> 0 | H30: =$C$30*H31 -> 14860.97 | I30: =SUM(D30:H30)-C30 -> 0
C31: 1 | H31: 1 | I31: =SUM(D31:H31)-C31 -> 0
A32: Desembolso Mensal Unitário (Com BDI) | C32: =ROUND(SUM(C12+C14+C16+C18+C20+C22+C24+C26+C30+C28),2) -> 729485.1 | D32: =ROUND(SUM(D12+D14+D16+D18+D20+D22+D24+D26+D30+D28),2) -> 11024.53 | E32: =ROUND(SUM(E12+E14+E16+E18+E20+E22+E24+E26+E30+E28),2) -> 89368.37 | F32: =ROUND(SUM(F12+F14+F16+F18+F20+F22+F24+F26+F30+F28),2) -> 129436.02 | G32: =ROUND(SUM(G12+G14+G16+G18+G20+G22+G24+G26+G30+G28),2) -> 401377.06 | H32: =ROUND(SUM(H12+H14+H16+H18+H20+H22+H24+H26+H30+H28),2) -> 98279.11 | I32: =SUM(D32:H32)-C32 -> -0.01
A33: Desembolso Mensal Global (Com BDI) | C33: =RESUMO!L22 -> 729485.1 | D33: =TRUNC(D32,3) -> 11024.53 | E33: =TRUNC(E32,3) -> 89368.37 | F33: =TRUNC(F32,3) -> 129436.02 | G33: =TRUNC(G32,3) -> 401377.06 | H33: =TRUNC(H32,3) -> 98279.11 | I33: =SUM(D33:H33)-C33 -> -0.01
A34: Total Mensal (%) | C34: 1 | D34: 0.016658 | E34: 0.122317 | F34: 0.161781 | G34: 0.503229 | H34: 0.202866 | I34: =SUM(D34:H34)-C34 -> 0.006851
A35: Total Acumulado | C35: =C33 -> 729485.1 | D35: =D33 -> 11024.53 | E35: =E33+D35 -> 100392.9 | F35: =F33+E35 -> 229828.92 | G35: =G33+F35 -> 631205.98 | H35: =H33+G35+0.01 -> 729485.1 | I35: =C35-H35 -> 0
A36: Total Acumulado (%) | C36: 1 | D36: =D34 -> 0.016658 | E36: =ROUND(E34+D36,2) -> 0.14 | F36: =ROUND(F34+E36,2) -> 0.3 | G36: =ROUND(G34+F36,2) -> 0.8 | H36: =ROUND(H34+G36,2) -> 1 | I36: =C36-H36 -> 0
D39: =(D32/$C$32)*100 -> 1.5112756 | E39: =(E32/$C$32)*100 -> 12.250884 | F39: =(F32/$C$32)*100 -> 17.743477 | G39: =(G32/$C$32)*100 -> 55.021968 | H39: =(H32/$C$32)*100 -> 13.472394

Sheet DIAG. GANTT
E1: 30 DIAS | K1: 60 DIAS | Q1: 90 DIAS | W1: 120 DIAS | AC1: 150 DIAS
A2: CADA BARRA SÃO 05 DIAS
E4: =RESUMO!D12 -> PROJETO EXECUTIVO
K5: =RESUMO!D13 -> SERVIÇOS PRELIMINARES
K6: =RESUMO!D14 -> ADMINISTRAÇÃO LOCAL
M7: =RESUMO!D15 -> MOVIMENTO DE TERRA
N8: =RESUMO!D17 -> FUNDAÇÃO - ESTRUTURAS DE CONCRETO ARMADO
V9: =RESUMO!D16 -> CONSTRUÇÃO CIVIL
V10: =RESUMO!D18 -> ESTRUTURAS METÁLICAS
V11: =RESUMO!D19 -> SERVIÇOS DIVERSOS
AH12: =RESUMO!D20 -> INSTALAÇÃO ELÉTRICA
AH13: =RESUMO!D21 -> LIMPEZA FINAL DE OBRA

Sheet CPUs
C2: Ministério do Desenvolvimento Regional - MDR
C3: Companhia de Desenvolvimento dos Vales do São Francisco e do Parnaíba
A5: OBJETO: SERVIÇOS COMUNS DE ENGENHARIA PARA EXECUÇÃO DE PÁTIO PARA MÚLTIPLOS USOS EM DIVERSOS MUNICÍPIOS DO ESTADO DO AMAPÁ SOB A ÁREA DE ATUAÇÃO DA 11ª SUPERINTENDÊNCIA REGIONAL DA CODEVASF ATRAVÉS DE SISTEMA DE REGISTRO DE PREÇOS - SRP
A8: MOBILIZAÇÃO E DESMOBILIZAÇÃO
A9: REFERÊNCIA: SICRO 3 AP 04/2025
A10: CÓDIGO DE REFERÊNCIA | B10: EQUIPAMENTO TRANSPORTADO DE REFERÊNCIA | C10: DISTÂNCIA (KM) | D10: VELOCIDADE (KM/H) | E10: FATOR K | F10: FATOR DE UTILIZAÇÃO (FU) | G10: VEÍCULO TRANSPORTADOR | H10: CUSTO HORÁRIO VEÍCULO TRANSPORTADOR | I10: CUSTO TOTAL DE TRANSPORTE
A11: E9526 | B11: Retroescavadeira de pneus - capacidade da caçamba da pá-carregadeira de 0,76 m³ e da retroescavadeira de 0,29 m³ - 58 kW | C11: 1 | D11: 60 | E11: 2 | F11: 0.5 | G11: E9665 | H11: 423.19 | I11: =(C11*E11*F11/D11)*H11 -> 7.0531667
A12: E9042 | B12: Trator sobre esteiras com lâmina - 97 Kw | C12: 1 | D12: 60 | E12: 2 | F12: 0.5 | G12: E9665 | H12: 423.19 | I12: =(C12*E12*F12/D12)*H12 -> 7.0531667
A13: E9524 | B13: Motoniveladora - 93 kW | C13: 1 | D13: 60 | E13: 2 | F13: 1 | G13: E9665 | H13: 423.19 | I13: =(C13*E13*F13/D13)*H13 -> 14.106333
A14: E9685 | B14: Rolo compactador pé de carneiro vibratório autopropelido por pneus de 11,6 t - 82 kW | C14: 1 | D14: 60 | E14: 2 | F14: 0.5 | G14: E9665 | H14: 423.19 | I14: =(C14*E14*F14/D14)*H14 -> 7.0531667
A15: E9798 | B15: Perfuratriz hidráulica rotopercussiva - 123 Kw | C15: 1 | D15: 60 | E15: 2 | F15: 1 | G15: E9665 | H15: 423.19 | I15: =(C15*E15*F15/D15)*H15 -> 14.106333
A16: E9094 | B16: Guindaste móvel sobre pneus com 6 eixos com capacidade máxima de 350 t - 450 kW | C16: 1 | D16: 60 | E16: 2 | F16: 1 | G16: E9094 | H16: 3009.78 | I16: =(C16*E16*F16/D16)*H16 -> 100.326
A17: TOTAL SEM BDI | I17: =SUM(I11:I16) -> 149.69817
A18: OBS. CÁLCULO DO CUSTO DE MOBILIZAÇÃO E DESMOBILIZAÇÃO REALIZADO DE ACORDO COM O MANUAL DE CUSTOS DE INFRAESTRUTURA DE TRANSPORTES - VOLUME 09 - MOBILIZAÇÃO E DESMOBILIZAÇÃO - 2017 - DNIT.
A20: OBS 2. PREÇO UNITÁRIO SERÁ MULTIPLICADO PELA MÉDIA DAS DISTÂNCIAS DA CAPITAL DO AMAPÁ (MACAPÁ) AOS 16 MUNICÍPIOS CONTEMPLADOS PELO CONTRATO, CONFORME ANEXO DMT.
A23: CPU 01 - BANCO EM ALVENARIA REVESTIDO EM CERÂMICA (M)
A24: Material | E24: FONTE | F24: UNID | G24: COEFICIENTE | H24: PREÇO UNITÁRIO | I24: TOTAL
A25: 00007258 | B25: TIJOLO CERAMICO MACICO COMUM DE *5 X 10 X 20* CM (L X A X C) | E25: SINAPI | F25: UN | G25: 100 | H25: 0.67 | I25: =G25*H25 -> 67
A26: 88309 | B26: PEDREIRO COM ENCARGOS COMPLEMENTARES | E26: SINAPI | F26: H | G26: 2.07 | H26: 26.21 | I26: =G26*H26 -> 54.2547
A27: 88316 | B27: SERVENTE COM ENCARGOS COMPLEMENTARES | E27: SINAPI | F27: H | G27: 3.14 | H27: 19.85 | I27: =G27*H27 -> 62.329
A28: 94318 | B28: ATERRO MECANIZADO DE VALA COM RETROESCAVADEIRA (CAPACIDADE DA CAÇAMBA DA RETRO: 0,26 M³ / POTÊNCIA: 88 HP), LARGURA ATÉ 1,5 M, PROFUNDIDADE DE 1,5 A 3,0 M, COM SOLO ARGILO-ARENOSO. AF_08/2023 | E28: SINAPI | F28: M3 | G28: 0.05 | H28: 66.96 | I28: =G28*H28 -> 3.348
A29: 104205 | B29: EMBOÇO OU MASSA ÚNICA EM ARGAMASSA TRAÇO 1:2:8, PREPARO MECÂNICA COM BETONEIRA 400 L, APLICADA COM PROJETOR TIPO CANEQUINHA EM PANOS DE FACHADA COM PRESENÇA DE VÃOS, ESPESSURA DE 45 MM, ACESSO POR BALANCIM MANUAL. AF_08/2022 | E29: SINAPI | F29: M2 | G29: 1 | H29: 85.71 | I29: =G29*H29 -> 85.71
A30: 104618 | B30: REVESTIMENTO CERÂMICO PARA PAREDES INTERNAS COM PLACAS TIPO PASTILHA DE DIMENSÕES 2,5 X 2,5 CM (PLACAS DE 30 X 30 CM) CM APLICADAS A MEIA ALTURA DAS PAREDES. AF_02/2023 | E30: SINAPI | F30: M2 | G30: 1 | H30: 476.32 | I30: =G30*H30 -> 476.32
A31: TOTAL SEM BDI | I31: =SUM(I25:I30) -> 748.9617
A32: FONTE: FNDE CPU 73
A35: CPU 02 - BANCO DE CONCRETO SEM ENCOSTO, DIM. 2,00 X 0,40 M (M2)
A36: Material | E36: FONTE | F36: UNID | G36: COEFICIENTE | H36: PREÇO UNITÁRIO | I36: TOTAL
A37: 00001379 | B37: CIMENTO PORTLAND COMPOSTO CP II-32 | E37: SINAPI | F37: KG | G37: 18 | H37: 1.12 | I37: =G37*H37 -> 20.16
A38: 88309 | B38: PEDREIRO COM ENCARGOS COMPLEMENTARES | E38: SINAPI | F38: H | G38: 1 | H38: 26.21 | I38: =G38*H38 -> 26.21
A39: 88316 | B39: SERVENTE COM ENCARGOS COMPLEMENTARES | E39: SINAPI | F39: H | G39: 2 | H39: 19.85 | I39: =G39*H39 -> 39.7
A40: 87893 | B40: CHAPISCO APLICADO EM ALVENARIA (SEM PRESENÇA DE VÃOS) E ESTRUTURAS DE CONCRETO DE FACHADA, COM COLHER DE PEDREIRO. ARGAMASSA TRAÇO 1:3 COM PREPARO MANUAL. AF_10/2022 | E40: SINAPI | F40: M2 | G40: 1.2 | H40: 7.65 | I40: =G40*H40 -> 9.18
A41: 94971 | B41: CONCRETO FCK = 25MPA, TRAÇO 1:2,3:2,7 (EM MASSA SECA DE CIMENTO/ AREIA MÉDIA/ BRITA 1) - PREPARO MECÂNICO COM BETONEIRA 600 L. AF_05/2021 | E41: SINAPI | F41: M3 | G41: 0.19 | H41: 764.25 | I41: =G41*H41 -> 145.2075
A42: 92801 | B42: CORTE E DOBRA DE AÇO CA-50, DIÂMETRO DE 6,3 MM. AF_06/2022 | E42: SINAPI | F42: KG | G42: 15.2 | H42: 11.9 | I42: =G42*H42 -> 180.88
A43: 87792 | B43: EMBOÇO OU MASSA ÚNICA EM ARGAMASSA TRAÇO 1:2:8, PREPARO MECÂNICO COM BETONEIRA 400 L, APLICADA MANUALMENTE EM PANOS CEGOS DE FACHADA (SEM PRESENÇA DE VÃOS), ESPESSURA DE 25 MM. AF_08/2022 | E43: SINAPI | F43: M2 | G43: 1.2 | H43: 41.62 | I43: =G43*H43 -> 49.944
A44: 96542 | B44: FABRICAÇÃO, MONTAGEM E DESMONTAGEM DE FÔRMA PARA VIGA BALDRAME, EM CHAPA DE MADEIRA COMPENSADA RESINADA, E=17 MM, 4 UTILIZAÇÕES. AF_01/2024 | E44: SINAPI | F44: M2 | G44: 1.9 | H44: 96.62 | I44: =G44*H44 -> 183.578
A45: TOTAL SEM BDI | I45: =SUM(I37:I44) -> 654.8595
A46: FONTE: FNDE CPU 508
